{"text_format":"1","workbook":"xlsx","n_sheets":4,"sheets":["sen 80","jun 80","jun sen 90","jun sen 100"],"not_rendered":{"charts":0,"images":0,"macros":0,"external_links":2,"defined_names":1,"comments":0,"pivot_tables":0},"unopened":[],"bounds":{"document_bytes":16777216,"sheet_cells":100000,"rows_first":2000,"rows_last":500,"rows_between":2000,"halvings":0,"cell_chars":16384,"cell_head_chars":4096},"cells_cut":0,"cells_raw":0,"read":"whole","date_system":"1900"}

{"sheet":"sen 80","index":0,"n_rows":1000,"n_cols":21,"rows_kept":1000,"cut":false,"hidden":false,"merged":[]}
["Number ","Horse","Rider","Team","Dress. Score ","%","Penalties",null,"SJ Penalties","SJ time in seconds","Rider time - SJ allowed","SJ Time ","XC Penalties ","XC Time ","Total Penalties ","Remove Text","Scale1","Scale2","Scale3"," Position "]
[null,null,null,null,null,null,null,null,null,null,null,"Penalties",null,"Penalties"]
[1,"Knockanna Flash","Jill McFarland ","Berkeley",200,{"$f":"IF(ISTEXT(E3), \"\", IF(ISBLANK(E3), \"\",  E3/#REF!*100))","v":{"$error":"#REF!"}},{"$f":"IF(ISNUMBER(F3),  100-F3, \"\")","v":""},null,0,{"$f":"(#REF!*60)+CEILING(#REF!, 1)","v":{"$error":"#REF!"}},{"$f":"IF(J3>0, J3-#REF!, 0)","v":{"$error":"#REF!"}},null,0,12.4,12.4,{"$f":"IF(TYPE(O3) = 1, O3, \"\")","v":12.4},{"$f":"IF(P3=\"\",\"\",(P3*10000+(M3+SUM(#REF!))))","v":{"$error":"#REF!"}},{"$f":"IF(TYPE(Q3) = 2, \"\",(Q3*10000+(ABS(#REF!))))","v":{"$error":"#REF!"}},{"$f":"IF(R3=\"\",\"\",(R3*10000+G3))","v":{"$error":"#REF!"}}]
[2,null,"Lucy Wilcox  ","Severn Vale ",200,{"$f":"IF(ISTEXT(E4), \"\", IF(ISBLANK(E4), \"\",  E4/#REF!*100))","v":{"$error":"#REF!"}},{"$f":"IF(ISNUMBER(F4),  100-F4, \"\")","v":""},null,null,null,null,null,null,null,null,null,null,null,null,"WD"]
[28,"Gwarcoeds Rocky","Claire Chiba","Tumpy Green",200,{"$f":"IF(ISTEXT(E5), \"\", IF(ISBLANK(E5), \"\",  E5/#REF!*100))","v":{"$error":"#REF!"}},"",null,0,null,null,0,0,27.6,27.6]
[4,"R. Boycie","Janet Harrison ","Kings Leaze Blue ",200,{"$f":"IF(ISTEXT(E6), \"\", IF(ISBLANK(E6), \"\",  E6/#REF!*100))","v":{"$error":"#REF!"}},"",null,4,null,null,0,0,20.8,24.8]
[5,"Pallas Diamond Lady ","Mandy Kingwell ","Kings Leaze Red ",200,{"$f":"IF(ISTEXT(E7), \"\", IF(ISBLANK(E7), \"\",  E7/#REF!*100))","v":{"$error":"#REF!"}},"",null,0,null,null,0,"E",null,null,null,null,null,null,"E"]
[6,"Kiara ","Kathleen Griffiths ","Veteran Horse ",200,{"$f":"IF(ISTEXT(E8), \"\", IF(ISBLANK(E8), \"\",  E8/#REF!*100))","v":{"$error":"#REF!"}},"",null,0,null,null,0,0,16,16]
[7,"Morse ","Selina Hopkins ","Cotswold Edge ",200,{"$f":"IF(ISTEXT(E9), \"\", IF(ISBLANK(E9), \"\",  E9/#REF!*100))","v":{"$error":"#REF!"}},"",null,16,null,null,0,40,42,98]
[8,"Caigers Cressida","Sally Thorne ","Berkeley",200,{"$f":"IF(ISTEXT(E10), \"\", IF(ISBLANK(E10), \"\",  E10/#REF!*100))","v":{"$error":"#REF!"}},"",null,4,null,null,4,"R",null,null,null,null,null,null,"R"]
[9,"Huckleberry Finn ","Kelly Yeoman","Severn Vale ",200,{"$f":"IF(ISTEXT(E11), \"\", IF(ISBLANK(E11), \"\",  E11/#REF!*100))","v":{"$error":"#REF!"}},"",null,"WD",null,null,null,null,null,null,null,null,null,null,"WD"]
[10,"Albert","Tonicha Evans","Tumpy Green",200,{"$f":"IF(ISTEXT(E12), \"\", IF(ISBLANK(E12), \"\",  E12/#REF!*100))","v":{"$error":"#REF!"}},"",null,16,null,null,0,0,32.4,48.4]
[11,"Bally Martin Prince ","Lisa North","Severn Vale IND",200,{"$f":"IF(ISTEXT(E13), \"\", IF(ISBLANK(E13), \"\",  E13/#REF!*100))","v":{"$error":"#REF!"}},"",null,8,null,null,0,"E",null,null,null,null,null,null,"E"]
[12,"Imperial Galaxy ","Leanne Fitton","Cotswold Edge IND",200,{"$f":"IF(ISTEXT(E14), \"\", IF(ISBLANK(E14), \"\",  E14/#REF!*100))","v":{"$error":"#REF!"}},"",null,4,null,null,2,"R",null,null,null,null,null,null,"R"]
[13,"Cornish Sparks ","Alison Hawkins ","Berkeley",200,{"$f":"IF(ISTEXT(E15), \"\", IF(ISBLANK(E15), \"\",  E15/#REF!*100))","v":{"$error":"#REF!"}},"",null,0,null,null,0,20,40.799999999999997,60.8]
[14,"Basoda","Emma Flood ","Severn Vale ",200,{"$f":"IF(ISTEXT(E16), \"\", IF(ISBLANK(E16), \"\",  E16/#REF!*100))","v":{"$error":"#REF!"}},"",null,"WD",null,null,null,null,null,null,null,null,null,null,"WD"]
[15,"Clyde ","Amanda Lomax","Tumpy Green",200,{"$f":"IF(ISTEXT(E17), \"\", IF(ISBLANK(E17), \"\",  E17/#REF!*100))","v":{"$error":"#REF!"}},"",null,8,null,null,1,40,62.4,111.4]
[16,"Loxley Monkey ","Wendy Lappington ","Wessex Gold Champagne ",200,{"$f":"IF(ISTEXT(E18), \"\", IF(ISBLANK(E18), \"\",  E18/#REF!*100))","v":{"$error":"#REF!"}},"",null,0,null,null,0,0,19.2,19.2]
[17,"The Marshmallow ","Penny Hall","VWH",200,{"$f":"IF(ISTEXT(E19), \"\", IF(ISBLANK(E19), \"\",  E19/#REF!*100))","v":{"$error":"#REF!"}},"",null,4,null,null,0,0,16.399999999999999,20.399999999999999]
[18,"Dougie ","Naomi Wright ","MDRC",200,{"$f":"IF(ISTEXT(E20), \"\", IF(ISBLANK(E20), \"\",  E20/#REF!*100))","v":{"$error":"#REF!"}},"",null,0,null,null,0,20,22,42]
[19,"Freshford Finnigan  ","Hannah Freeman    ","Kennet Vale ",200,{"$f":"IF(ISTEXT(E21), \"\", IF(ISBLANK(E21), \"\",  E21/#REF!*100))","v":{"$error":"#REF!"}},"",null,4,null,null,0,0,12.4,16.399999999999999]
[20,"Brock","Hannah Barnes   ","Bath ",200,{"$f":"IF(ISTEXT(E22), \"\", IF(ISBLANK(E22), \"\",  E22/#REF!*100))","v":{"$error":"#REF!"}},"",null,"WD",null,null,null,null,null,null,null,null,null,null,"WD"]
[21,"Golden King","Jane Fowler ","Kings Leaze Blue ",200,{"$f":"IF(ISTEXT(E23), \"\", IF(ISBLANK(E23), \"\",  E23/#REF!*100))","v":{"$error":"#REF!"}},"",null,0,null,null,0,0,3.2,3.2,null,null,null,null,"1ST","(sj65.6)"]
[22,null,"Nikki Aitchison","Kings Leaze Red ",200,{"$f":"IF(ISTEXT(E24), \"\", IF(ISBLANK(E24), \"\",  E24/#REF!*100))","v":{"$error":"#REF!"}},"",null,"WD",null,null,null,null,null,null,null,null,null,null,"WD"]
[23,null,"Rachel Hawkins","Veteran Horse ",200,{"$f":"IF(ISTEXT(E25), \"\", IF(ISBLANK(E25), \"\",  E25/#REF!*100))","v":{"$error":"#REF!"}},"",null,"WD",null,null,null,null,null,null,null,null,null,null,"WD"]
[24,"Croesnant Caradog ","Chris Clark","Cotswold Edge ",200,{"$f":"IF(ISTEXT(E26), \"\", IF(ISBLANK(E26), \"\",  E26/#REF!*100))","v":{"$error":"#REF!"}},"",null,8,null,null,2,0,32.4,42.4]
[25,"Peters Top Jock ","Jo Bryne","Wessex Gold Champagne ",200,{"$f":"IF(ISTEXT(E27), \"\", IF(ISBLANK(E27), \"\",  E27/#REF!*100))","v":{"$error":"#REF!"}},"",null,0,null,null,0,0,8.8000000000000007,8.8000000000000007,null,null,null,null,"5TH"]
[26,"Izzy ","Toni Elleyn Young ","Berkeley",200,{"$f":"IF(ISTEXT(E28), \"\", IF(ISBLANK(E28), \"\",  E28/#REF!*100))","v":{"$error":"#REF!"}},"",null,4,null,null,9,0,31.6,44.6]
[27,"Joszka","Maddie Lacy-Duke ","Severn Vale ",200,{"$f":"IF(ISTEXT(E29), \"\", IF(ISBLANK(E29), \"\",  E29/#REF!*100))","v":{"$error":"#REF!"}},"",null,"WD",null,null,null,null,null,null,null,null,null,null,"WD"]
[3,"Hazevern Domino","Naomi Watkins ","Tumpy Green",200,{"$f":"IF(ISTEXT(E30), \"\", IF(ISBLANK(E30), \"\",  E30/#REF!*100))","v":{"$error":"#REF!"}},"",null,0,null,null,7,"E",null,null,null,null,null,null,"E"]
[29,"Kenmore Gold ","Penny King","VWH",200,{"$f":"IF(ISTEXT(E31), \"\", IF(ISBLANK(E31), \"\",  E31/#REF!*100))","v":{"$error":"#REF!"}},"",null,4,null,null,0,20,28.4,52.4]
[30,"Anica ","Angela Wright    ","Swindon",200,{"$f":"IF(ISTEXT(E32), \"\", IF(ISBLANK(E32), \"\",  E32/#REF!*100))","v":{"$error":"#REF!"}},"",null,4,null,null,0,0,20.399999999999999,24.4]
[31,"Kalika ","Teresa Carty ","MDRC",200,{"$f":"IF(ISTEXT(E33), \"\", IF(ISBLANK(E33), \"\",  E33/#REF!*100))","v":{"$error":"#REF!"}},"",null,0,{"$f":"(#REF!*60)+CEILING(#REF!, 1)","v":{"$error":"#REF!"}},{"$f":"IF(J33>0, J33-#REF!, 0)","v":{"$error":"#REF!"}},0,40,34.4,74.400000000000006]
[32,"Deadline II    ","Brendan Patterson   ","Kennet Vale ",200,{"$f":"IF(ISTEXT(E34), \"\", IF(ISBLANK(E34), \"\",  E34/#REF!*100))","v":{"$error":"#REF!"}},"",null,"WD",{"$f":"(#REF!*60)+CEILING(#REF!, 1)","v":{"$error":"#REF!"}},{"$f":"IF(J34>0, J34-#REF!, 0)","v":{"$error":"#REF!"}},null,null,null,null,null,null,null,null,"WD"]
[33,"Roxy","Annette Sawyer    ","Bath ",200,{"$f":"IF(ISTEXT(E35), \"\", IF(ISBLANK(E35), \"\",  E35/#REF!*100))","v":{"$error":"#REF!"}},"",null,0,{"$f":"(#REF!*60)+CEILING(#REF!, 1)","v":{"$error":"#REF!"}},{"$f":"IF(J35>0, J35-#REF!, 0)","v":{"$error":"#REF!"}},0,20,12,32]
[34,"Pink House Lady ","Steph Swadden ","Wessex Gold IND",200,{"$f":"IF(ISTEXT(E36), \"\", IF(ISBLANK(E36), \"\",  E36/#REF!*100))","v":{"$error":"#REF!"}},"",null,"WD",{"$f":"(#REF!*60)+CEILING(#REF!, 1)","v":{"$error":"#REF!"}},{"$f":"IF(J36>0, J36-#REF!, 0)","v":{"$error":"#REF!"}},null,null,null,null,null,null,null,null,"WD"]
[35,"Harold ","Suzie Cleveland ","Kings Leaze Blue ",200,{"$f":"IF(ISTEXT(E37), \"\", IF(ISBLANK(E37), \"\",  E37/#REF!*100))","v":{"$error":"#REF!"}},"",null,12,{"$f":"(#REF!*60)+CEILING(#REF!, 1)","v":{"$error":"#REF!"}},{"$f":"IF(J37>0, J37-#REF!, 0)","v":{"$error":"#REF!"}},0,0,17.2,29.2]
[36,"Barney ","Amelia Green","Kings Leaze Red ",200,{"$f":"IF(ISTEXT(E38), \"\", IF(ISBLANK(E38), \"\",  E38/#REF!*100))","v":{"$error":"#REF!"}},"",null,12,{"$f":"(#REF!*60)+CEILING(#REF!, 1)","v":{"$error":"#REF!"}},{"$f":"IF(J38>0, J38-#REF!, 0)","v":{"$error":"#REF!"}},0,0,16,28]
[37,"Otter","Ruby Webber","Veteran Horse ",200,{"$f":"IF(ISTEXT(E39), \"\", IF(ISBLANK(E39), \"\",  E39/#REF!*100))","v":{"$error":"#REF!"}},"",null,0,{"$f":"(#REF!*60)+CEILING(#REF!, 1)","v":{"$error":"#REF!"}},{"$f":"IF(J39>0, J39-#REF!, 0)","v":{"$error":"#REF!"}},0,20,34.799999999999997,54.8]
[38,"Peasedown Agatha ","Shelby Downing ","Cotswold Edge ",200,{"$f":"IF(ISTEXT(E40), \"\", IF(ISBLANK(E40), \"\",  E40/#REF!*100))","v":{"$error":"#REF!"}},"",null,0,{"$f":"(#REF!*60)+CEILING(#REF!, 1)","v":{"$error":"#REF!"}},{"$f":"IF(J40>0, J40-#REF!, 0)","v":{"$error":"#REF!"}},0,0,36.799999999999997,36.799999999999997]
[39,"Glogherboy Dreamer ","Becky Warner ","Wessex Gold Champagne ",200,{"$f":"IF(ISTEXT(E41), \"\", IF(ISBLANK(E41), \"\",  E41/#REF!*100))","v":{"$error":"#REF!"}},"",null,0,{"$f":"(#REF!*60)+CEILING(#REF!, 1)","v":{"$error":"#REF!"}},{"$f":"IF(J41>0, J41-#REF!, 0)","v":{"$error":"#REF!"}},0,0,16,16]
[40,"Rio Sanchez","Judith Wilson","VWH",200,{"$f":"IF(ISTEXT(E42), \"\", IF(ISBLANK(E42), \"\",  E42/#REF!*100))","v":{"$error":"#REF!"}},"",null,0,{"$f":"(#REF!*60)+CEILING(#REF!, 1)","v":{"$error":"#REF!"}},{"$f":"IF(J42>0, J42-#REF!, 0)","v":{"$error":"#REF!"}},2,"R",null,null,null,null,null,null,"R"]
[41,"Belchford Planet    ","Jane Neilson    ","Swindon",200,{"$f":"IF(ISTEXT(E43), \"\", IF(ISBLANK(E43), \"\",  E43/#REF!*100))","v":{"$error":"#REF!"}},"",null,0,{"$f":"(#REF!*60)+CEILING(#REF!, 1)","v":{"$error":"#REF!"}},{"$f":"IF(J43>0, J43-#REF!, 0)","v":{"$error":"#REF!"}},0,20,21.6,41.6]
[42,"Barracree Aftershock","Sandie Holmes ","MDRC",200,{"$f":"IF(ISTEXT(E44), \"\", IF(ISBLANK(E44), \"\",  E44/#REF!*100))","v":{"$error":"#REF!"}},"",null,"WD",{"$f":"(#REF!*60)+CEILING(#REF!, 1)","v":{"$error":"#REF!"}},{"$f":"IF(J44>0, J44-#REF!, 0)","v":{"$error":"#REF!"}},null,null,null,null,null,null,null,null,"WD"]
[43,"Loughnatousa JD","Kate Patterson   ","Kennet Vale ",200,{"$f":"IF(ISTEXT(E45), \"\", IF(ISBLANK(E45), \"\",  E45/#REF!*100))","v":{"$error":"#REF!"}},"",null,0,{"$f":"(#REF!*60)+CEILING(#REF!, 1)","v":{"$error":"#REF!"}},{"$f":"IF(J45>0, J45-#REF!, 0)","v":{"$error":"#REF!"}},0,0,30,30]
[44,"An Currach Mor Pieobar     ","Debbie Martin    ","Bath ",200,{"$f":"IF(ISTEXT(E46), \"\", IF(ISBLANK(E46), \"\",  E46/#REF!*100))","v":{"$error":"#REF!"}},"",null,0,{"$f":"(#REF!*60)+CEILING(#REF!, 1)","v":{"$error":"#REF!"}},{"$f":"IF(J46>0, J46-#REF!, 0)","v":{"$error":"#REF!"}},0,0,33.6,33.6]
[45,"King of Swing II","Hollie Cowley","Wessex Gold IND",200,{"$f":"IF(ISTEXT(E47), \"\", IF(ISBLANK(E47), \"\",  E47/#REF!*100))","v":{"$error":"#REF!"}},"",null,4,{"$f":"(#REF!*60)+CEILING(#REF!, 1)","v":{"$error":"#REF!"}},{"$f":"IF(J47>0, J47-#REF!, 0)","v":{"$error":"#REF!"}},1,0,31.2,36.200000000000003]
[46,"White Hawk Drifter ","Sarah Palmer ","Kings Leaze Blue ",200,{"$f":"IF(ISTEXT(E48), \"\", IF(ISBLANK(E48), \"\",  E48/#REF!*100))","v":{"$error":"#REF!"}},"",null,0,{"$f":"(#REF!*60)+CEILING(#REF!, 1)","v":{"$error":"#REF!"}},{"$f":"IF(J48>0, J48-#REF!, 0)","v":{"$error":"#REF!"}},0,0,3.2,3.2,null,null,null,null,"2ND","(SJ 67.2)"]
[47,"Blackmoor Clover","Gemma Read ","Kings Leaze Red ",200,{"$f":"IF(ISTEXT(E49), \"\", IF(ISBLANK(E49), \"\",  E49/#REF!*100))","v":{"$error":"#REF!"}},"",null,0,{"$f":"(#REF!*60)+CEILING(#REF!, 1)","v":{"$error":"#REF!"}},{"$f":"IF(J49>0, J49-#REF!, 0)","v":{"$error":"#REF!"}},0,0,18.399999999999999,18.399999999999999]
[48,null,null,"Veteran Horse ",200,{"$f":"IF(ISTEXT(E50), \"\", IF(ISBLANK(E50), \"\",  E50/#REF!*100))","v":{"$error":"#REF!"}},"",null,"WD",{"$f":"(#REF!*60)+CEILING(#REF!, 1)","v":{"$error":"#REF!"}},{"$f":"IF(J50>0, J50-#REF!, 0)","v":{"$error":"#REF!"}},null,null,null,null,null,null,null,null,"WD"]
[49,"Whitehawk Might Moo","Christine Hargreaves","Cotswold Edge ",200,{"$f":"IF(ISTEXT(E51), \"\", IF(ISBLANK(E51), \"\",  E51/#REF!*100))","v":{"$error":"#REF!"}},"",null,4,{"$f":"(#REF!*60)+CEILING(#REF!, 1)","v":{"$error":"#REF!"}},{"$f":"IF(J51>0, J51-#REF!, 0)","v":{"$error":"#REF!"}},3,"E",null,null,null,null,null,null,"E"]
[50,"Cortynan Vivendi Girl ","Tara Plaister ","Wessex Gold Champagne ",200,{"$f":"IF(ISTEXT(E52), \"\", IF(ISBLANK(E52), \"\",  E52/#REF!*100))","v":{"$error":"#REF!"}},"",null,4,{"$f":"(#REF!*60)+CEILING(#REF!, 1)","v":{"$error":"#REF!"}},{"$f":"IF(J52>0, J52-#REF!, 0)","v":{"$error":"#REF!"}},0,0,4.4000000000000004,8.4,null,null,null,null,"4TH ","(SJ 4 FAULTS)"]
[51,"Lady Lara ","Caroline Seward ","VWH",200,{"$f":"IF(ISTEXT(E53), \"\", IF(ISBLANK(E53), \"\",  E53/#REF!*100))","v":{"$error":"#REF!"}},"",null,0,{"$f":"(#REF!*60)+CEILING(#REF!, 1)","v":{"$error":"#REF!"}},{"$f":"IF(J53>0, J53-#REF!, 0)","v":{"$error":"#REF!"}},2,0,32,34]
[52,"Master Blaster  ","Tina Starling   ","Swindon",200,{"$f":"IF(ISTEXT(E54), \"\", IF(ISBLANK(E54), \"\",  E54/#REF!*100))","v":{"$error":"#REF!"}},"",null,0,{"$f":"(#REF!*60)+CEILING(#REF!, 1)","v":{"$error":"#REF!"}},{"$f":"IF(J54>0, J54-#REF!, 0)","v":{"$error":"#REF!"}},0,"R",null,null,null,null,null,null,"R"]
[53,null,"Rebecca Chapman ","MDRC",200,{"$f":"IF(ISTEXT(E55), \"\", IF(ISBLANK(E55), \"\",  E55/#REF!*100))","v":{"$error":"#REF!"}},"",null,0,{"$f":"(#REF!*60)+CEILING(#REF!, 1)","v":{"$error":"#REF!"}},{"$f":"IF(J55>0, J55-#REF!, 0)","v":{"$error":"#REF!"}},0,0,8.4,8.4,null,null,null,null,"3RD"]
[54,"Ridgeway Lady","Jo Calder    ","Kennet Vale ",200,{"$f":"IF(ISTEXT(E56), \"\", IF(ISBLANK(E56), \"\",  E56/#REF!*100))","v":{"$error":"#REF!"}},"",null,0,{"$f":"(#REF!*60)+CEILING(#REF!, 1)","v":{"$error":"#REF!"}},{"$f":"IF(J56>0, J56-#REF!, 0)","v":{"$error":"#REF!"}},1,"E",null,null,null,null,null,null,"E"]
[55,"Saxon Forge Spice","Crystel Coakes","Bath ",200,{"$f":"IF(ISTEXT(E57), \"\", IF(ISBLANK(E57), \"\",  E57/#REF!*100))","v":{"$error":"#REF!"}},"",null,0,{"$f":"(#REF!*60)+CEILING(#REF!, 1)","v":{"$error":"#REF!"}},{"$f":"IF(J57>0, J57-#REF!, 0)","v":{"$error":"#REF!"}},0,0,11.6,11.6,null,null,null,null,"6TH"]
[56,"Llanbabo Liberty ","Josephine Manning ","Wessex Gold IND",200,{"$f":"IF(ISTEXT(E58), \"\", IF(ISBLANK(E58), \"\",  E58/#REF!*100))","v":{"$error":"#REF!"}},"",null,4,{"$f":"(#REF!*60)+CEILING(#REF!, 1)","v":{"$error":"#REF!"}},{"$f":"IF(J58>0, J58-#REF!, 0)","v":{"$error":"#REF!"}},0,"TE",null,null,null,null,null,null,"TE"]
[null,null,null,null,null,{"$f":"IF(ISTEXT(E59), \"\", IF(ISBLANK(E59), \"\",  E59/#REF!*100))","v":""},"",null,null,{"$f":"(#REF!*60)+CEILING(#REF!, 1)","v":{"$error":"#REF!"}},{"$f":"IF(J59>0, J59-#REF!, 0)","v":{"$error":"#REF!"}}]
[null,"TEAM PLACINGS",null,null,null,{"$f":"IF(ISTEXT(E60), \"\", IF(ISBLANK(E60), \"\",  E60/#REF!*100))","v":""},"",null,null,{"$f":"(#REF!*60)+CEILING(#REF!, 1)","v":{"$error":"#REF!"}},{"$f":"IF(J60>0, J60-#REF!, 0)","v":{"$error":"#REF!"}}]
[null,null,null,null,null,{"$f":"IF(ISTEXT(E61), \"\", IF(ISBLANK(E61), \"\",  E61/#REF!*100))","v":""},"",null,null,{"$f":"(#REF!*60)+CEILING(#REF!, 1)","v":{"$error":"#REF!"}},{"$f":"IF(J61>0, J61-#REF!, 0)","v":{"$error":"#REF!"}}]
["1ST","KINGSLEAZE BLUE","31.2 PENS",null,null,{"$f":"IF(ISTEXT(E62), \"\", IF(ISBLANK(E62), \"\",  E62/#REF!*100))","v":""},"",null,null,{"$f":"(#REF!*60)+CEILING(#REF!, 1)","v":{"$error":"#REF!"}},{"$f":"IF(J62>0, J62-#REF!, 0)","v":{"$error":"#REF!"}}]
["2ND","WESSEX GOLD CHAMPAGNE","33.2 PENS",null,null,{"$f":"IF(ISTEXT(E63), \"\", IF(ISBLANK(E63), \"\",  E63/#REF!*100))","v":""},"",null,null,{"$f":"(#REF!*60)+CEILING(#REF!, 1)","v":{"$error":"#REF!"}},{"$f":"IF(J63>0, J63-#REF!, 0)","v":{"$error":"#REF!"}}]
["3RD","BATH","77.2 PENS",null,null,{"$f":"IF(ISTEXT(E64), \"\", IF(ISBLANK(E64), \"\",  E64/#REF!*100))","v":""},"",null,null,{"$f":"(#REF!*60)+CEILING(#REF!, 1)","v":{"$error":"#REF!"}},{"$f":"IF(J64>0, J64-#REF!, 0)","v":{"$error":"#REF!"}}]
["4TH","VWH","106.8 PENS",null,null,{"$f":"IF(ISTEXT(E65), \"\", IF(ISBLANK(E65), \"\",  E65/#REF!*100))","v":""},"",null,null,{"$f":"(#REF!*60)+CEILING(#REF!, 1)","v":{"$error":"#REF!"}},{"$f":"IF(J65>0, J65-#REF!, 0)","v":{"$error":"#REF!"}}]
["5TH","BERKELEY & DISTRICT","117.8 PENS",null,null,{"$f":"IF(ISTEXT(E66), \"\", IF(ISBLANK(E66), \"\",  E66/#REF!*100))","v":""},"",null,null,{"$f":"(#REF!*60)+CEILING(#REF!, 1)","v":{"$error":"#REF!"}},{"$f":"IF(J66>0, J66-#REF!, 0)","v":{"$error":"#REF!"}}]
["6TH","MARLBOROUGH & DISTRICT","124.8 PENS",null,null,{"$f":"IF(ISTEXT(E67), \"\", IF(ISBLANK(E67), \"\",  E67/#REF!*100))","v":""},"",null,null,{"$f":"(#REF!*60)+CEILING(#REF!, 1)","v":{"$error":"#REF!"}},{"$f":"IF(J67>0, J67-#REF!, 0)","v":{"$error":"#REF!"}}]
[null,null,null,null,null,{"$f":"IF(ISTEXT(E68), \"\", IF(ISBLANK(E68), \"\",  E68/#REF!*100))","v":""},{"$f":"IF(ISNUMBER(F68),  100-F68, \"\")","v":""},null,null,{"$f":"(#REF!*60)+CEILING(#REF!, 1)","v":{"$error":"#REF!"}},{"$f":"IF(J68>0, J68-#REF!, 0)","v":{"$error":"#REF!"}}]
[null,null,null,null,null,{"$f":"IF(ISTEXT(E69), \"\", IF(ISBLANK(E69), \"\",  E69/#REF!*100))","v":""},"",null,null,{"$f":"(#REF!*60)+CEILING(#REF!, 1)","v":{"$error":"#REF!"}},{"$f":"IF(J69>0, J69-#REF!, 0)","v":{"$error":"#REF!"}}]
[null,null,null,null,null,{"$f":"IF(ISTEXT(E70), \"\", IF(ISBLANK(E70), \"\",  E70/#REF!*100))","v":""},"",null,null,{"$f":"(#REF!*60)+CEILING(#REF!, 1)","v":{"$error":"#REF!"}},{"$f":"IF(J70>0, J70-#REF!, 0)","v":{"$error":"#REF!"}}]
[null,null,null,null,null,{"$f":"IF(ISTEXT(E71), \"\", IF(ISBLANK(E71), \"\",  E71/#REF!*100))","v":""},"",null,null,{"$f":"(#REF!*60)+CEILING(#REF!, 1)","v":{"$error":"#REF!"}},{"$f":"IF(J71>0, J71-#REF!, 0)","v":{"$error":"#REF!"}}]
[null,null,null,null,null,{"$f":"IF(ISTEXT(E72), \"\", IF(ISBLANK(E72), \"\",  E72/#REF!*100))","v":""},"",null,null,{"$f":"(#REF!*60)+CEILING(#REF!, 1)","v":{"$error":"#REF!"}},{"$f":"IF(J72>0, J72-#REF!, 0)","v":{"$error":"#REF!"}}]
[null,null,null,null,null,{"$f":"IF(ISTEXT(E73), \"\", IF(ISBLANK(E73), \"\",  E73/#REF!*100))","v":""},"",null,null,{"$f":"(#REF!*60)+CEILING(#REF!, 1)","v":{"$error":"#REF!"}},{"$f":"IF(J73>0, J73-#REF!, 0)","v":{"$error":"#REF!"}}]
[null,null,null,null,null,{"$f":"IF(ISTEXT(E74), \"\", IF(ISBLANK(E74), \"\",  E74/#REF!*100))","v":""},"",null,null,{"$f":"(#REF!*60)+CEILING(#REF!, 1)","v":{"$error":"#REF!"}},{"$f":"IF(J74>0, J74-#REF!, 0)","v":{"$error":"#REF!"}}]
[null,null,null,null,null,{"$f":"IF(ISTEXT(E75), \"\", IF(ISBLANK(E75), \"\",  E75/#REF!*100))","v":""},"",null,null,{"$f":"(#REF!*60)+CEILING(#REF!, 1)","v":{"$error":"#REF!"}},{"$f":"IF(J75>0, J75-#REF!, 0)","v":{"$error":"#REF!"}}]
[null,null,null,null,null,{"$f":"IF(ISTEXT(E76), \"\", IF(ISBLANK(E76), \"\",  E76/#REF!*100))","v":""},"",null,null,{"$f":"(#REF!*60)+CEILING(#REF!, 1)","v":{"$error":"#REF!"}},{"$f":"IF(J76>0, J76-#REF!, 0)","v":{"$error":"#REF!"}}]
[null,null,null,null,null,{"$f":"IF(ISTEXT(E77), \"\", IF(ISBLANK(E77), \"\",  E77/#REF!*100))","v":""},"",null,null,{"$f":"(#REF!*60)+CEILING(#REF!, 1)","v":{"$error":"#REF!"}},{"$f":"IF(J77>0, J77-#REF!, 0)","v":{"$error":"#REF!"}}]
[null,null,null,null,null,{"$f":"IF(ISTEXT(E78), \"\", IF(ISBLANK(E78), \"\",  E78/#REF!*100))","v":""},"",null,null,{"$f":"(#REF!*60)+CEILING(#REF!, 1)","v":{"$error":"#REF!"}},{"$f":"IF(J78>0, J78-#REF!, 0)","v":{"$error":"#REF!"}}]
[null,null,null,null,null,{"$f":"IF(ISTEXT(E79), \"\", IF(ISBLANK(E79), \"\",  E79/#REF!*100))","v":""},"",null,null,{"$f":"(#REF!*60)+CEILING(#REF!, 1)","v":{"$error":"#REF!"}},{"$f":"IF(J79>0, J79-#REF!, 0)","v":{"$error":"#REF!"}}]
[null,null,null,null,null,{"$f":"IF(ISTEXT(E80), \"\", IF(ISBLANK(E80), \"\",  E80/#REF!*100))","v":""},"",null,null,{"$f":"(#REF!*60)+CEILING(#REF!, 1)","v":{"$error":"#REF!"}},{"$f":"IF(J80>0, J80-#REF!, 0)","v":{"$error":"#REF!"}}]
[null,null,null,null,null,{"$f":"IF(ISTEXT(E81), \"\", IF(ISBLANK(E81), \"\",  E81/#REF!*100))","v":""},"",null,null,{"$f":"(#REF!*60)+CEILING(#REF!, 1)","v":{"$error":"#REF!"}},{"$f":"IF(J81>0, J81-#REF!, 0)","v":{"$error":"#REF!"}}]
[null,null,null,null,null,{"$f":"IF(ISTEXT(E82), \"\", IF(ISBLANK(E82), \"\",  E82/#REF!*100))","v":""},"",null,null,{"$f":"(#REF!*60)+CEILING(#REF!, 1)","v":{"$error":"#REF!"}},{"$f":"IF(J82>0, J82-#REF!, 0)","v":{"$error":"#REF!"}}]
[null,null,null,null,null,{"$f":"IF(ISTEXT(E83), \"\", IF(ISBLANK(E83), \"\",  E83/#REF!*100))","v":""},"",null,null,{"$f":"(#REF!*60)+CEILING(#REF!, 1)","v":{"$error":"#REF!"}},{"$f":"IF(J83>0, J83-#REF!, 0)","v":{"$error":"#REF!"}}]
[null,null,null,null,null,{"$f":"IF(ISTEXT(E84), \"\", IF(ISBLANK(E84), \"\",  E84/#REF!*100))","v":""},"",null,null,{"$f":"(#REF!*60)+CEILING(#REF!, 1)","v":{"$error":"#REF!"}},{"$f":"IF(J84>0, J84-#REF!, 0)","v":{"$error":"#REF!"}}]
[null,null,null,null,null,{"$f":"IF(ISTEXT(E85), \"\", IF(ISBLANK(E85), \"\",  E85/#REF!*100))","v":""},"",null,null,{"$f":"(#REF!*60)+CEILING(#REF!, 1)","v":{"$error":"#REF!"}},{"$f":"IF(J85>0, J85-#REF!, 0)","v":{"$error":"#REF!"}}]
[null,null,null,null,null,{"$f":"IF(ISTEXT(E86), \"\", IF(ISBLANK(E86), \"\",  E86/#REF!*100))","v":""},"",null,null,{"$f":"(#REF!*60)+CEILING(#REF!, 1)","v":{"$error":"#REF!"}},{"$f":"IF(J86>0, J86-#REF!, 0)","v":{"$error":"#REF!"}}]
[null,null,null,null,null,{"$f":"IF(ISTEXT(E87), \"\", IF(ISBLANK(E87), \"\",  E87/#REF!*100))","v":""},"",null,null,{"$f":"(#REF!*60)+CEILING(#REF!, 1)","v":{"$error":"#REF!"}},{"$f":"IF(J87>0, J87-#REF!, 0)","v":{"$error":"#REF!"}}]
[null,null,null,null,null,{"$f":"IF(ISTEXT(E88), \"\", IF(ISBLANK(E88), \"\",  E88/#REF!*100))","v":""},"",null,null,{"$f":"(#REF!*60)+CEILING(#REF!, 1)","v":{"$error":"#REF!"}},{"$f":"IF(J88>0, J88-#REF!, 0)","v":{"$error":"#REF!"}}]
[null,null,null,null,null,{"$f":"IF(ISTEXT(E89), \"\", IF(ISBLANK(E89), \"\",  E89/#REF!*100))","v":""},"",null,null,{"$f":"(#REF!*60)+CEILING(#REF!, 1)","v":{"$error":"#REF!"}},{"$f":"IF(J89>0, J89-#REF!, 0)","v":{"$error":"#REF!"}}]
[null,null,null,null,null,{"$f":"IF(ISTEXT(E90), \"\", IF(ISBLANK(E90), \"\",  E90/#REF!*100))","v":""},"",null,null,{"$f":"(#REF!*60)+CEILING(#REF!, 1)","v":{"$error":"#REF!"}},{"$f":"IF(J90>0, J90-#REF!, 0)","v":{"$error":"#REF!"}}]
[null,null,null,null,null,{"$f":"IF(ISTEXT(E91), \"\", IF(ISBLANK(E91), \"\",  E91/#REF!*100))","v":""},"",null,null,{"$f":"(#REF!*60)+CEILING(#REF!, 1)","v":{"$error":"#REF!"}},{"$f":"IF(J91>0, J91-#REF!, 0)","v":{"$error":"#REF!"}}]
[null,null,null,null,null,{"$f":"IF(ISTEXT(E92), \"\", IF(ISBLANK(E92), \"\",  E92/#REF!*100))","v":""},"",null,null,{"$f":"(#REF!*60)+CEILING(#REF!, 1)","v":{"$error":"#REF!"}},{"$f":"IF(J92>0, J92-#REF!, 0)","v":{"$error":"#REF!"}}]
[null,null,null,null,null,{"$f":"IF(ISTEXT(E93), \"\", IF(ISBLANK(E93), \"\",  E93/#REF!*100))","v":""},"",null,null,{"$f":"(#REF!*60)+CEILING(#REF!, 1)","v":{"$error":"#REF!"}},{"$f":"IF(J93>0, J93-#REF!, 0)","v":{"$error":"#REF!"}}]
[null,null,null,null,null,{"$f":"IF(ISTEXT(E94), \"\", IF(ISBLANK(E94), \"\",  E94/#REF!*100))","v":""},"",null,null,{"$f":"(#REF!*60)+CEILING(#REF!, 1)","v":{"$error":"#REF!"}},{"$f":"IF(J94>0, J94-#REF!, 0)","v":{"$error":"#REF!"}}]
[null,null,null,null,null,{"$f":"IF(ISTEXT(E95), \"\", IF(ISBLANK(E95), \"\",  E95/#REF!*100))","v":""},"",null,null,{"$f":"(#REF!*60)+CEILING(#REF!, 1)","v":{"$error":"#REF!"}},{"$f":"IF(J95>0, J95-#REF!, 0)","v":{"$error":"#REF!"}}]
[null,null,null,null,null,{"$f":"IF(ISTEXT(E96), \"\", IF(ISBLANK(E96), \"\",  E96/#REF!*100))","v":""},"",null,null,{"$f":"(#REF!*60)+CEILING(#REF!, 1)","v":{"$error":"#REF!"}},{"$f":"IF(J96>0, J96-#REF!, 0)","v":{"$error":"#REF!"}}]
[null,null,null,null,null,{"$f":"IF(ISTEXT(E97), \"\", IF(ISBLANK(E97), \"\",  E97/#REF!*100))","v":""},"",null,null,{"$f":"(#REF!*60)+CEILING(#REF!, 1)","v":{"$error":"#REF!"}},{"$f":"IF(J97>0, J97-#REF!, 0)","v":{"$error":"#REF!"}}]
[null,null,null,null,null,{"$f":"IF(ISTEXT(E98), \"\", IF(ISBLANK(E98), \"\",  E98/#REF!*100))","v":""},"",null,null,{"$f":"(#REF!*60)+CEILING(#REF!, 1)","v":{"$error":"#REF!"}},{"$f":"IF(J98>0, J98-#REF!, 0)","v":{"$error":"#REF!"}}]
[null,null,null,null,null,{"$f":"IF(ISTEXT(E99), \"\", IF(ISBLANK(E99), \"\",  E99/#REF!*100))","v":""},"",null,null,{"$f":"(#REF!*60)+CEILING(#REF!, 1)","v":{"$error":"#REF!"}},{"$f":"IF(J99>0, J99-#REF!, 0)","v":{"$error":"#REF!"}}]
[]
[null,null,null,null,null,null,null,null,null,{"$f":"(#REF!*60)+#REF!","v":{"$error":"#REF!"}},{"$f":"J101-#REF!","v":{"$error":"#REF!"}}]
[null,null,null,null,null,null,null,null,null,{"$f":"(#REF!*60)+#REF!","v":{"$error":"#REF!"}},{"$f":"J102-#REF!","v":{"$error":"#REF!"}}]
[null,null,null,null,null,null,null,null,null,{"$f":"(#REF!*60)+#REF!","v":{"$error":"#REF!"}},{"$f":"J103-#REF!","v":{"$error":"#REF!"}}]
[null,null,null,null,null,null,null,null,null,{"$f":"(#REF!*60)+#REF!","v":{"$error":"#REF!"}},{"$f":"J104-#REF!","v":{"$error":"#REF!"}}]
[null,null,null,null,null,null,null,null,null,{"$f":"(#REF!*60)+#REF!","v":{"$error":"#REF!"}},{"$f":"J105-#REF!","v":{"$error":"#REF!"}}]
[null,null,null,null,null,null,null,null,null,{"$f":"(#REF!*60)+#REF!","v":{"$error":"#REF!"}},{"$f":"J106-#REF!","v":{"$error":"#REF!"}}]
[null,null,null,null,null,null,null,null,null,{"$f":"(#REF!*60)+#REF!","v":{"$error":"#REF!"}},{"$f":"J107-#REF!","v":{"$error":"#REF!"}}]
[null,null,null,null,null,null,null,null,null,{"$f":"(#REF!*60)+#REF!","v":{"$error":"#REF!"}},{"$f":"J108-#REF!","v":{"$error":"#REF!"}}]
[null,null,null,null,null,null,null,null,null,{"$f":"(#REF!*60)+#REF!","v":{"$error":"#REF!"}},{"$f":"J109-#REF!","v":{"$error":"#REF!"}}]
[null,null,null,null,null,null,null,null,null,{"$f":"(#REF!*60)+#REF!","v":{"$error":"#REF!"}},{"$f":"J110-#REF!","v":{"$error":"#REF!"}}]
[null,null,null,null,null,null,null,null,null,{"$f":"(#REF!*60)+#REF!","v":{"$error":"#REF!"}},{"$f":"J111-#REF!","v":{"$error":"#REF!"}}]
[null,null,null,null,null,null,null,null,null,{"$f":"(#REF!*60)+#REF!","v":{"$error":"#REF!"}},{"$f":"J112-#REF!","v":{"$error":"#REF!"}}]
[null,null,null,null,null,null,null,null,null,{"$f":"(#REF!*60)+#REF!","v":{"$error":"#REF!"}},{"$f":"J113-#REF!","v":{"$error":"#REF!"}}]
[null,null,null,null,null,null,null,null,null,{"$f":"(#REF!*60)+#REF!","v":{"$error":"#REF!"}},{"$f":"J114-#REF!","v":{"$error":"#REF!"}}]
[null,null,null,null,null,null,null,null,null,{"$f":"(#REF!*60)+#REF!","v":{"$error":"#REF!"}},{"$f":"J115-#REF!","v":{"$error":"#REF!"}}]
[null,null,null,null,null,null,null,null,null,{"$f":"(#REF!*60)+#REF!","v":{"$error":"#REF!"}},{"$f":"J116-#REF!","v":{"$error":"#REF!"}}]
[null,null,null,null,null,null,null,null,null,{"$f":"(#REF!*60)+#REF!","v":{"$error":"#REF!"}},{"$f":"J117-#REF!","v":{"$error":"#REF!"}}]
[null,null,null,null,null,null,null,null,null,{"$f":"(#REF!*60)+#REF!","v":{"$error":"#REF!"}},{"$f":"J118-#REF!","v":{"$error":"#REF!"}}]
[null,null,null,null,null,null,null,null,null,{"$f":"(#REF!*60)+#REF!","v":{"$error":"#REF!"}},{"$f":"J119-#REF!","v":{"$error":"#REF!"}}]
[null,null,null,null,null,null,null,null,null,{"$f":"(#REF!*60)+#REF!","v":{"$error":"#REF!"}},{"$f":"J120-#REF!","v":{"$error":"#REF!"}}]
[null,null,null,null,null,null,null,null,null,{"$f":"(#REF!*60)+#REF!","v":{"$error":"#REF!"}},{"$f":"J121-#REF!","v":{"$error":"#REF!"}}]
[null,null,null,null,null,null,null,null,null,{"$f":"(#REF!*60)+#REF!","v":{"$error":"#REF!"}},{"$f":"J122-#REF!","v":{"$error":"#REF!"}}]
[null,null,null,null,null,null,null,null,null,{"$f":"(#REF!*60)+#REF!","v":{"$error":"#REF!"}},{"$f":"J123-#REF!","v":{"$error":"#REF!"}}]
[null,null,null,null,null,null,null,null,null,{"$f":"(#REF!*60)+#REF!","v":{"$error":"#REF!"}},{"$f":"J124-#REF!","v":{"$error":"#REF!"}}]
[null,null,null,null,null,null,null,null,null,{"$f":"(#REF!*60)+#REF!","v":{"$error":"#REF!"}},{"$f":"J125-#REF!","v":{"$error":"#REF!"}}]
[null,null,null,null,null,null,null,null,null,{"$f":"(#REF!*60)+#REF!","v":{"$error":"#REF!"}},{"$f":"J126-#REF!","v":{"$error":"#REF!"}}]
[null,null,null,null,null,null,null,null,null,{"$f":"(#REF!*60)+#REF!","v":{"$error":"#REF!"}},{"$f":"J127-#REF!","v":{"$error":"#REF!"}}]
[null,null,null,null,null,null,null,null,null,{"$f":"(#REF!*60)+#REF!","v":{"$error":"#REF!"}},{"$f":"J128-#REF!","v":{"$error":"#REF!"}}]
[null,null,null,null,null,null,null,null,null,{"$f":"(#REF!*60)+#REF!","v":{"$error":"#REF!"}},{"$f":"J129-#REF!","v":{"$error":"#REF!"}}]
[null,null,null,null,null,null,null,null,null,{"$f":"(#REF!*60)+#REF!","v":{"$error":"#REF!"}},{"$f":"J130-#REF!","v":{"$error":"#REF!"}}]
[null,null,null,null,null,null,null,null,null,{"$f":"(#REF!*60)+#REF!","v":{"$error":"#REF!"}},{"$f":"J131-#REF!","v":{"$error":"#REF!"}}]
[null,null,null,null,null,null,null,null,null,{"$f":"(#REF!*60)+#REF!","v":{"$error":"#REF!"}},{"$f":"J132-#REF!","v":{"$error":"#REF!"}}]
[null,null,null,null,null,null,null,null,null,{"$f":"(#REF!*60)+#REF!","v":{"$error":"#REF!"}},{"$f":"J133-#REF!","v":{"$error":"#REF!"}}]
[null,null,null,null,null,null,null,null,null,{"$f":"(#REF!*60)+#REF!","v":{"$error":"#REF!"}},{"$f":"J134-#REF!","v":{"$error":"#REF!"}}]
[null,null,null,null,null,null,null,null,null,{"$f":"(#REF!*60)+#REF!","v":{"$error":"#REF!"}},{"$f":"J135-#REF!","v":{"$error":"#REF!"}}]
[null,null,null,null,null,null,null,null,null,{"$f":"(#REF!*60)+#REF!","v":{"$error":"#REF!"}},{"$f":"J136-#REF!","v":{"$error":"#REF!"}}]
[null,null,null,null,null,null,null,null,null,{"$f":"(#REF!*60)+#REF!","v":{"$error":"#REF!"}},{"$f":"J137-#REF!","v":{"$error":"#REF!"}}]
[null,null,null,null,null,null,null,null,null,{"$f":"(#REF!*60)+#REF!","v":{"$error":"#REF!"}},{"$f":"J138-#REF!","v":{"$error":"#REF!"}}]
[null,null,null,null,null,null,null,null,null,{"$f":"(#REF!*60)+#REF!","v":{"$error":"#REF!"}},{"$f":"J139-#REF!","v":{"$error":"#REF!"}}]
[null,null,null,null,null,null,null,null,null,{"$f":"(#REF!*60)+#REF!","v":{"$error":"#REF!"}},{"$f":"J140-#REF!","v":{"$error":"#REF!"}}]
[null,null,null,null,null,null,null,null,null,{"$f":"(#REF!*60)+#REF!","v":{"$error":"#REF!"}},{"$f":"J141-#REF!","v":{"$error":"#REF!"}}]
[null,null,null,null,null,null,null,null,null,{"$f":"(#REF!*60)+#REF!","v":{"$error":"#REF!"}},{"$f":"J142-#REF!","v":{"$error":"#REF!"}}]
[null,null,null,null,null,null,null,null,null,{"$f":"(#REF!*60)+#REF!","v":{"$error":"#REF!"}},{"$f":"J143-#REF!","v":{"$error":"#REF!"}}]
[null,null,null,null,null,null,null,null,null,{"$f":"(#REF!*60)+#REF!","v":{"$error":"#REF!"}},{"$f":"J144-#REF!","v":{"$error":"#REF!"}}]
[null,null,null,null,null,null,null,null,null,{"$f":"(#REF!*60)+#REF!","v":{"$error":"#REF!"}},{"$f":"J145-#REF!","v":{"$error":"#REF!"}}]
[null,null,null,null,null,null,null,null,null,{"$f":"(#REF!*60)+#REF!","v":{"$error":"#REF!"}},{"$f":"J146-#REF!","v":{"$error":"#REF!"}}]
[null,null,null,null,null,null,null,null,null,{"$f":"(#REF!*60)+#REF!","v":{"$error":"#REF!"}},{"$f":"J147-#REF!","v":{"$error":"#REF!"}}]
[null,null,null,null,null,null,null,null,null,{"$f":"(#REF!*60)+#REF!","v":{"$error":"#REF!"}},{"$f":"J148-#REF!","v":{"$error":"#REF!"}}]
[null,null,null,null,null,null,null,null,null,{"$f":"(#REF!*60)+#REF!","v":{"$error":"#REF!"}},{"$f":"J149-#REF!","v":{"$error":"#REF!"}}]
[null,null,null,null,null,null,null,null,null,{"$f":"(#REF!*60)+#REF!","v":{"$error":"#REF!"}},{"$f":"J150-#REF!","v":{"$error":"#REF!"}}]
[null,null,null,null,null,null,null,null,null,{"$f":"(#REF!*60)+#REF!","v":{"$error":"#REF!"}},{"$f":"J151-#REF!","v":{"$error":"#REF!"}}]
[null,null,null,null,null,null,null,null,null,{"$f":"(#REF!*60)+#REF!","v":{"$error":"#REF!"}},{"$f":"J152-#REF!","v":{"$error":"#REF!"}}]
[null,null,null,null,null,null,null,null,null,{"$f":"(#REF!*60)+#REF!","v":{"$error":"#REF!"}},{"$f":"J153-#REF!","v":{"$error":"#REF!"}}]
[null,null,null,null,null,null,null,null,null,{"$f":"(#REF!*60)+#REF!","v":{"$error":"#REF!"}},{"$f":"J154-#REF!","v":{"$error":"#REF!"}}]
[null,null,null,null,null,null,null,null,null,{"$f":"(#REF!*60)+#REF!","v":{"$error":"#REF!"}},{"$f":"J155-#REF!","v":{"$error":"#REF!"}}]
[null,null,null,null,null,null,null,null,null,{"$f":"(#REF!*60)+#REF!","v":{"$error":"#REF!"}},{"$f":"J156-#REF!","v":{"$error":"#REF!"}}]
[null,null,null,null,null,null,null,null,null,{"$f":"(#REF!*60)+#REF!","v":{"$error":"#REF!"}},{"$f":"J157-#REF!","v":{"$error":"#REF!"}}]
[null,null,null,null,null,null,null,null,null,{"$f":"(#REF!*60)+#REF!","v":{"$error":"#REF!"}},{"$f":"J158-#REF!","v":{"$error":"#REF!"}}]
[null,null,null,null,null,null,null,null,null,{"$f":"(#REF!*60)+#REF!","v":{"$error":"#REF!"}},{"$f":"J159-#REF!","v":{"$error":"#REF!"}}]
[null,null,null,null,null,null,null,null,null,{"$f":"(#REF!*60)+#REF!","v":{"$error":"#REF!"}},{"$f":"J160-#REF!","v":{"$error":"#REF!"}}]
[null,null,null,null,null,null,null,null,null,{"$f":"(#REF!*60)+#REF!","v":{"$error":"#REF!"}},{"$f":"J161-#REF!","v":{"$error":"#REF!"}}]
[null,null,null,null,null,null,null,null,null,{"$f":"(#REF!*60)+#REF!","v":{"$error":"#REF!"}},{"$f":"J162-#REF!","v":{"$error":"#REF!"}}]
[null,null,null,null,null,null,null,null,null,{"$f":"(#REF!*60)+#REF!","v":{"$error":"#REF!"}},{"$f":"J163-#REF!","v":{"$error":"#REF!"}}]
[null,null,null,null,null,null,null,null,null,{"$f":"(#REF!*60)+#REF!","v":{"$error":"#REF!"}},{"$f":"J164-#REF!","v":{"$error":"#REF!"}}]
[null,null,null,null,null,null,null,null,null,{"$f":"(#REF!*60)+#REF!","v":{"$error":"#REF!"}},{"$f":"J165-#REF!","v":{"$error":"#REF!"}}]
[null,null,null,null,null,null,null,null,null,{"$f":"(#REF!*60)+#REF!","v":{"$error":"#REF!"}},{"$f":"J166-#REF!","v":{"$error":"#REF!"}}]
[null,null,null,null,null,null,null,null,null,{"$f":"(#REF!*60)+#REF!","v":{"$error":"#REF!"}},{"$f":"J167-#REF!","v":{"$error":"#REF!"}}]
[null,null,null,null,null,null,null,null,null,{"$f":"(#REF!*60)+#REF!","v":{"$error":"#REF!"}},{"$f":"J168-#REF!","v":{"$error":"#REF!"}}]
[null,null,null,null,null,null,null,null,null,{"$f":"(#REF!*60)+#REF!","v":{"$error":"#REF!"}},{"$f":"J169-#REF!","v":{"$error":"#REF!"}}]
[null,null,null,null,null,null,null,null,null,{"$f":"(#REF!*60)+#REF!","v":{"$error":"#REF!"}},{"$f":"J170-#REF!","v":{"$error":"#REF!"}}]
[null,null,null,null,null,null,null,null,null,{"$f":"(#REF!*60)+#REF!","v":{"$error":"#REF!"}},{"$f":"J171-#REF!","v":{"$error":"#REF!"}}]
[null,null,null,null,null,null,null,null,null,{"$f":"(#REF!*60)+#REF!","v":{"$error":"#REF!"}},{"$f":"J172-#REF!","v":{"$error":"#REF!"}}]
[null,null,null,null,null,null,null,null,null,{"$f":"(#REF!*60)+#REF!","v":{"$error":"#REF!"}},{"$f":"J173-#REF!","v":{"$error":"#REF!"}}]
[null,null,null,null,null,null,null,null,null,{"$f":"(#REF!*60)+#REF!","v":{"$error":"#REF!"}},{"$f":"J174-#REF!","v":{"$error":"#REF!"}}]
[null,null,null,null,null,null,null,null,null,{"$f":"(#REF!*60)+#REF!","v":{"$error":"#REF!"}},{"$f":"J175-#REF!","v":{"$error":"#REF!"}}]
[null,null,null,null,null,null,null,null,null,{"$f":"(#REF!*60)+#REF!","v":{"$error":"#REF!"}},{"$f":"J176-#REF!","v":{"$error":"#REF!"}}]
[null,null,null,null,null,null,null,null,null,{"$f":"(#REF!*60)+#REF!","v":{"$error":"#REF!"}},{"$f":"J177-#REF!","v":{"$error":"#REF!"}}]
[null,null,null,null,null,null,null,null,null,{"$f":"(#REF!*60)+#REF!","v":{"$error":"#REF!"}},{"$f":"J178-#REF!","v":{"$error":"#REF!"}}]
[null,null,null,null,null,null,null,null,null,{"$f":"(#REF!*60)+#REF!","v":{"$error":"#REF!"}},{"$f":"J179-#REF!","v":{"$error":"#REF!"}}]
[null,null,null,null,null,null,null,null,null,{"$f":"(#REF!*60)+#REF!","v":{"$error":"#REF!"}},{"$f":"J180-#REF!","v":{"$error":"#REF!"}}]
[null,null,null,null,null,null,null,null,null,{"$f":"(#REF!*60)+#REF!","v":{"$error":"#REF!"}},{"$f":"J181-#REF!","v":{"$error":"#REF!"}}]
[null,null,null,null,null,null,null,null,null,{"$f":"(#REF!*60)+#REF!","v":{"$error":"#REF!"}},{"$f":"J182-#REF!","v":{"$error":"#REF!"}}]
[null,null,null,null,null,null,null,null,null,{"$f":"(#REF!*60)+#REF!","v":{"$error":"#REF!"}},{"$f":"J183-#REF!","v":{"$error":"#REF!"}}]
[null,null,null,null,null,null,null,null,null,{"$f":"(#REF!*60)+#REF!","v":{"$error":"#REF!"}},{"$f":"J184-#REF!","v":{"$error":"#REF!"}}]
[null,null,null,null,null,null,null,null,null,{"$f":"(#REF!*60)+#REF!","v":{"$error":"#REF!"}},{"$f":"J185-#REF!","v":{"$error":"#REF!"}}]
[null,null,null,null,null,null,null,null,null,{"$f":"(#REF!*60)+#REF!","v":{"$error":"#REF!"}},{"$f":"J186-#REF!","v":{"$error":"#REF!"}}]
[null,null,null,null,null,null,null,null,null,{"$f":"(#REF!*60)+#REF!","v":{"$error":"#REF!"}},{"$f":"J187-#REF!","v":{"$error":"#REF!"}}]
[null,null,null,null,null,null,null,null,null,{"$f":"(#REF!*60)+#REF!","v":{"$error":"#REF!"}},{"$f":"J188-#REF!","v":{"$error":"#REF!"}}]
[null,null,null,null,null,null,null,null,null,{"$f":"(#REF!*60)+#REF!","v":{"$error":"#REF!"}},{"$f":"J189-#REF!","v":{"$error":"#REF!"}}]
[null,null,null,null,null,null,null,null,null,{"$f":"(#REF!*60)+#REF!","v":{"$error":"#REF!"}},{"$f":"J190-#REF!","v":{"$error":"#REF!"}}]
[null,null,null,null,null,null,null,null,null,{"$f":"(#REF!*60)+#REF!","v":{"$error":"#REF!"}},{"$f":"J191-#REF!","v":{"$error":"#REF!"}}]
[null,null,null,null,null,null,null,null,null,{"$f":"(#REF!*60)+#REF!","v":{"$error":"#REF!"}},{"$f":"J192-#REF!","v":{"$error":"#REF!"}}]
[null,null,null,null,null,null,null,null,null,{"$f":"(#REF!*60)+#REF!","v":{"$error":"#REF!"}},{"$f":"J193-#REF!","v":{"$error":"#REF!"}}]
[null,null,null,null,null,null,null,null,null,{"$f":"(#REF!*60)+#REF!","v":{"$error":"#REF!"}},{"$f":"J194-#REF!","v":{"$error":"#REF!"}}]
[null,null,null,null,null,null,null,null,null,{"$f":"(#REF!*60)+#REF!","v":{"$error":"#REF!"}},{"$f":"J195-#REF!","v":{"$error":"#REF!"}}]
[null,null,null,null,null,null,null,null,null,{"$f":"(#REF!*60)+#REF!","v":{"$error":"#REF!"}},{"$f":"J196-#REF!","v":{"$error":"#REF!"}}]
[null,null,null,null,null,null,null,null,null,{"$f":"(#REF!*60)+#REF!","v":{"$error":"#REF!"}},{"$f":"J197-#REF!","v":{"$error":"#REF!"}}]
[null,null,null,null,null,null,null,null,null,{"$f":"(#REF!*60)+#REF!","v":{"$error":"#REF!"}},{"$f":"J198-#REF!","v":{"$error":"#REF!"}}]
[null,null,null,null,null,null,null,null,null,{"$f":"(#REF!*60)+#REF!","v":{"$error":"#REF!"}},{"$f":"J199-#REF!","v":{"$error":"#REF!"}}]
[null,null,null,null,null,null,null,null,null,{"$f":"(#REF!*60)+#REF!","v":{"$error":"#REF!"}},{"$f":"J200-#REF!","v":{"$error":"#REF!"}}]
[null,null,null,null,null,null,null,null,null,{"$f":"(#REF!*60)+#REF!","v":{"$error":"#REF!"}},{"$f":"J201-#REF!","v":{"$error":"#REF!"}}]
[null,null,null,null,null,null,null,null,null,{"$f":"(#REF!*60)+#REF!","v":{"$error":"#REF!"}},{"$f":"J202-#REF!","v":{"$error":"#REF!"}}]
[null,null,null,null,null,null,null,null,null,{"$f":"(#REF!*60)+#REF!","v":{"$error":"#REF!"}},{"$f":"J203-#REF!","v":{"$error":"#REF!"}}]
[null,null,null,null,null,null,null,null,null,{"$f":"(#REF!*60)+#REF!","v":{"$error":"#REF!"}},{"$f":"J204-#REF!","v":{"$error":"#REF!"}}]
[null,null,null,null,null,null,null,null,null,{"$f":"(#REF!*60)+#REF!","v":{"$error":"#REF!"}},{"$f":"J205-#REF!","v":{"$error":"#REF!"}}]
[null,null,null,null,null,null,null,null,null,{"$f":"(#REF!*60)+#REF!","v":{"$error":"#REF!"}},{"$f":"J206-#REF!","v":{"$error":"#REF!"}}]
[null,null,null,null,null,null,null,null,null,{"$f":"(#REF!*60)+#REF!","v":{"$error":"#REF!"}},{"$f":"J207-#REF!","v":{"$error":"#REF!"}}]
[null,null,null,null,null,null,null,null,null,{"$f":"(#REF!*60)+#REF!","v":{"$error":"#REF!"}},{"$f":"J208-#REF!","v":{"$error":"#REF!"}}]
[null,null,null,null,null,null,null,null,null,{"$f":"(#REF!*60)+#REF!","v":{"$error":"#REF!"}},{"$f":"J209-#REF!","v":{"$error":"#REF!"}}]
[null,null,null,null,null,null,null,null,null,{"$f":"(#REF!*60)+#REF!","v":{"$error":"#REF!"}},{"$f":"J210-#REF!","v":{"$error":"#REF!"}}]
[null,null,null,null,null,null,null,null,null,{"$f":"(#REF!*60)+#REF!","v":{"$error":"#REF!"}},{"$f":"J211-#REF!","v":{"$error":"#REF!"}}]
[null,null,null,null,null,null,null,null,null,{"$f":"(#REF!*60)+#REF!","v":{"$error":"#REF!"}},{"$f":"J212-#REF!","v":{"$error":"#REF!"}}]
[null,null,null,null,null,null,null,null,null,{"$f":"(#REF!*60)+#REF!","v":{"$error":"#REF!"}},{"$f":"J213-#REF!","v":{"$error":"#REF!"}}]
[null,null,null,null,null,null,null,null,null,{"$f":"(#REF!*60)+#REF!","v":{"$error":"#REF!"}},{"$f":"J214-#REF!","v":{"$error":"#REF!"}}]
[null,null,null,null,null,null,null,null,null,{"$f":"(#REF!*60)+#REF!","v":{"$error":"#REF!"}},{"$f":"J215-#REF!","v":{"$error":"#REF!"}}]
[null,null,null,null,null,null,null,null,null,{"$f":"(#REF!*60)+#REF!","v":{"$error":"#REF!"}},{"$f":"J216-#REF!","v":{"$error":"#REF!"}}]
[null,null,null,null,null,null,null,null,null,{"$f":"(#REF!*60)+#REF!","v":{"$error":"#REF!"}},{"$f":"J217-#REF!","v":{"$error":"#REF!"}}]
[null,null,null,null,null,null,null,null,null,{"$f":"(#REF!*60)+#REF!","v":{"$error":"#REF!"}},{"$f":"J218-#REF!","v":{"$error":"#REF!"}}]
[null,null,null,null,null,null,null,null,null,{"$f":"(#REF!*60)+#REF!","v":{"$error":"#REF!"}},{"$f":"J219-#REF!","v":{"$error":"#REF!"}}]
[null,null,null,null,null,null,null,null,null,{"$f":"(#REF!*60)+#REF!","v":{"$error":"#REF!"}},{"$f":"J220-#REF!","v":{"$error":"#REF!"}}]
[null,null,null,null,null,null,null,null,null,{"$f":"(#REF!*60)+#REF!","v":{"$error":"#REF!"}},{"$f":"J221-#REF!","v":{"$error":"#REF!"}}]
[null,null,null,null,null,null,null,null,null,{"$f":"(#REF!*60)+#REF!","v":{"$error":"#REF!"}},{"$f":"J222-#REF!","v":{"$error":"#REF!"}}]
[null,null,null,null,null,null,null,null,null,{"$f":"(#REF!*60)+#REF!","v":{"$error":"#REF!"}},{"$f":"J223-#REF!","v":{"$error":"#REF!"}}]
[null,null,null,null,null,null,null,null,null,{"$f":"(#REF!*60)+#REF!","v":{"$error":"#REF!"}},{"$f":"J224-#REF!","v":{"$error":"#REF!"}}]
[null,null,null,null,null,null,null,null,null,{"$f":"(#REF!*60)+#REF!","v":{"$error":"#REF!"}},{"$f":"J225-#REF!","v":{"$error":"#REF!"}}]
[null,null,null,null,null,null,null,null,null,{"$f":"(#REF!*60)+#REF!","v":{"$error":"#REF!"}},{"$f":"J226-#REF!","v":{"$error":"#REF!"}}]
[null,null,null,null,null,null,null,null,null,{"$f":"(#REF!*60)+#REF!","v":{"$error":"#REF!"}},{"$f":"J227-#REF!","v":{"$error":"#REF!"}}]
[null,null,null,null,null,null,null,null,null,{"$f":"(#REF!*60)+#REF!","v":{"$error":"#REF!"}},{"$f":"J228-#REF!","v":{"$error":"#REF!"}}]
[null,null,null,null,null,null,null,null,null,{"$f":"(#REF!*60)+#REF!","v":{"$error":"#REF!"}},{"$f":"J229-#REF!","v":{"$error":"#REF!"}}]
[null,null,null,null,null,null,null,null,null,{"$f":"(#REF!*60)+#REF!","v":{"$error":"#REF!"}},{"$f":"J230-#REF!","v":{"$error":"#REF!"}}]
[null,null,null,null,null,null,null,null,null,{"$f":"(#REF!*60)+#REF!","v":{"$error":"#REF!"}},{"$f":"J231-#REF!","v":{"$error":"#REF!"}}]
[null,null,null,null,null,null,null,null,null,{"$f":"(#REF!*60)+#REF!","v":{"$error":"#REF!"}},{"$f":"J232-#REF!","v":{"$error":"#REF!"}}]
[null,null,null,null,null,null,null,null,null,{"$f":"(#REF!*60)+#REF!","v":{"$error":"#REF!"}},{"$f":"J233-#REF!","v":{"$error":"#REF!"}}]
[null,null,null,null,null,null,null,null,null,{"$f":"(#REF!*60)+#REF!","v":{"$error":"#REF!"}},{"$f":"J234-#REF!","v":{"$error":"#REF!"}}]
[null,null,null,null,null,null,null,null,null,{"$f":"(#REF!*60)+#REF!","v":{"$error":"#REF!"}},{"$f":"J235-#REF!","v":{"$error":"#REF!"}}]
[null,null,null,null,null,null,null,null,null,{"$f":"(#REF!*60)+#REF!","v":{"$error":"#REF!"}},{"$f":"J236-#REF!","v":{"$error":"#REF!"}}]
[null,null,null,null,null,null,null,null,null,{"$f":"(#REF!*60)+#REF!","v":{"$error":"#REF!"}},{"$f":"J237-#REF!","v":{"$error":"#REF!"}}]
[null,null,null,null,null,null,null,null,null,{"$f":"(#REF!*60)+#REF!","v":{"$error":"#REF!"}},{"$f":"J238-#REF!","v":{"$error":"#REF!"}}]
[null,null,null,null,null,null,null,null,null,{"$f":"(#REF!*60)+#REF!","v":{"$error":"#REF!"}},{"$f":"J239-#REF!","v":{"$error":"#REF!"}}]
[null,null,null,null,null,null,null,null,null,{"$f":"(#REF!*60)+#REF!","v":{"$error":"#REF!"}},{"$f":"J240-#REF!","v":{"$error":"#REF!"}}]
[null,null,null,null,null,null,null,null,null,{"$f":"(#REF!*60)+#REF!","v":{"$error":"#REF!"}},{"$f":"J241-#REF!","v":{"$error":"#REF!"}}]
[null,null,null,null,null,null,null,null,null,{"$f":"(#REF!*60)+#REF!","v":{"$error":"#REF!"}},{"$f":"J242-#REF!","v":{"$error":"#REF!"}}]
[null,null,null,null,null,null,null,null,null,{"$f":"(#REF!*60)+#REF!","v":{"$error":"#REF!"}},{"$f":"J243-#REF!","v":{"$error":"#REF!"}}]
[null,null,null,null,null,null,null,null,null,{"$f":"(#REF!*60)+#REF!","v":{"$error":"#REF!"}},{"$f":"J244-#REF!","v":{"$error":"#REF!"}}]
[null,null,null,null,null,null,null,null,null,{"$f":"(#REF!*60)+#REF!","v":{"$error":"#REF!"}},{"$f":"J245-#REF!","v":{"$error":"#REF!"}}]
[null,null,null,null,null,null,null,null,null,{"$f":"(#REF!*60)+#REF!","v":{"$error":"#REF!"}},{"$f":"J246-#REF!","v":{"$error":"#REF!"}}]
[null,null,null,null,null,null,null,null,null,{"$f":"(#REF!*60)+#REF!","v":{"$error":"#REF!"}},{"$f":"J247-#REF!","v":{"$error":"#REF!"}}]
[null,null,null,null,null,null,null,null,null,{"$f":"(#REF!*60)+#REF!","v":{"$error":"#REF!"}},{"$f":"J248-#REF!","v":{"$error":"#REF!"}}]
[null,null,null,null,null,null,null,null,null,{"$f":"(#REF!*60)+#REF!","v":{"$error":"#REF!"}},{"$f":"J249-#REF!","v":{"$error":"#REF!"}}]
[null,null,null,null,null,null,null,null,null,{"$f":"(#REF!*60)+#REF!","v":{"$error":"#REF!"}},{"$f":"J250-#REF!","v":{"$error":"#REF!"}}]
[null,null,null,null,null,null,null,null,null,{"$f":"(#REF!*60)+#REF!","v":{"$error":"#REF!"}},{"$f":"J251-#REF!","v":{"$error":"#REF!"}}]
[null,null,null,null,null,null,null,null,null,{"$f":"(#REF!*60)+#REF!","v":{"$error":"#REF!"}},{"$f":"J252-#REF!","v":{"$error":"#REF!"}}]
[null,null,null,null,null,null,null,null,null,{"$f":"(#REF!*60)+#REF!","v":{"$error":"#REF!"}},{"$f":"J253-#REF!","v":{"$error":"#REF!"}}]
[null,null,null,null,null,null,null,null,null,{"$f":"(#REF!*60)+#REF!","v":{"$error":"#REF!"}},{"$f":"J254-#REF!","v":{"$error":"#REF!"}}]
[null,null,null,null,null,null,null,null,null,{"$f":"(#REF!*60)+#REF!","v":{"$error":"#REF!"}},{"$f":"J255-#REF!","v":{"$error":"#REF!"}}]
[null,null,null,null,null,null,null,null,null,{"$f":"(#REF!*60)+#REF!","v":{"$error":"#REF!"}},{"$f":"J256-#REF!","v":{"$error":"#REF!"}}]
[null,null,null,null,null,null,null,null,null,{"$f":"(#REF!*60)+#REF!","v":{"$error":"#REF!"}},{"$f":"J257-#REF!","v":{"$error":"#REF!"}}]
[null,null,null,null,null,null,null,null,null,{"$f":"(#REF!*60)+#REF!","v":{"$error":"#REF!"}},{"$f":"J258-#REF!","v":{"$error":"#REF!"}}]
[null,null,null,null,null,null,null,null,null,{"$f":"(#REF!*60)+#REF!","v":{"$error":"#REF!"}},{"$f":"J259-#REF!","v":{"$error":"#REF!"}}]
[null,null,null,null,null,null,null,null,null,{"$f":"(#REF!*60)+#REF!","v":{"$error":"#REF!"}},{"$f":"J260-#REF!","v":{"$error":"#REF!"}}]
[null,null,null,null,null,null,null,null,null,{"$f":"(#REF!*60)+#REF!","v":{"$error":"#REF!"}},{"$f":"J261-#REF!","v":{"$error":"#REF!"}}]
[null,null,null,null,null,null,null,null,null,{"$f":"(#REF!*60)+#REF!","v":{"$error":"#REF!"}},{"$f":"J262-#REF!","v":{"$error":"#REF!"}}]
[null,null,null,null,null,null,null,null,null,{"$f":"(#REF!*60)+#REF!","v":{"$error":"#REF!"}},{"$f":"J263-#REF!","v":{"$error":"#REF!"}}]
[null,null,null,null,null,null,null,null,null,{"$f":"(#REF!*60)+#REF!","v":{"$error":"#REF!"}},{"$f":"J264-#REF!","v":{"$error":"#REF!"}}]
[null,null,null,null,null,null,null,null,null,{"$f":"(#REF!*60)+#REF!","v":{"$error":"#REF!"}},{"$f":"J265-#REF!","v":{"$error":"#REF!"}}]
[null,null,null,null,null,null,null,null,null,{"$f":"(#REF!*60)+#REF!","v":{"$error":"#REF!"}},{"$f":"J266-#REF!","v":{"$error":"#REF!"}}]
[null,null,null,null,null,null,null,null,null,{"$f":"(#REF!*60)+#REF!","v":{"$error":"#REF!"}},{"$f":"J267-#REF!","v":{"$error":"#REF!"}}]
[null,null,null,null,null,null,null,null,null,{"$f":"(#REF!*60)+#REF!","v":{"$error":"#REF!"}},{"$f":"J268-#REF!","v":{"$error":"#REF!"}}]
[null,null,null,null,null,null,null,null,null,{"$f":"(#REF!*60)+#REF!","v":{"$error":"#REF!"}},{"$f":"J269-#REF!","v":{"$error":"#REF!"}}]
[null,null,null,null,null,null,null,null,null,{"$f":"(#REF!*60)+#REF!","v":{"$error":"#REF!"}},{"$f":"J270-#REF!","v":{"$error":"#REF!"}}]
[null,null,null,null,null,null,null,null,null,{"$f":"(#REF!*60)+#REF!","v":{"$error":"#REF!"}},{"$f":"J271-#REF!","v":{"$error":"#REF!"}}]
[null,null,null,null,null,null,null,null,null,{"$f":"(#REF!*60)+#REF!","v":{"$error":"#REF!"}},{"$f":"J272-#REF!","v":{"$error":"#REF!"}}]
[null,null,null,null,null,null,null,null,null,{"$f":"(#REF!*60)+#REF!","v":{"$error":"#REF!"}},{"$f":"J273-#REF!","v":{"$error":"#REF!"}}]
[null,null,null,null,null,null,null,null,null,{"$f":"(#REF!*60)+#REF!","v":{"$error":"#REF!"}},{"$f":"J274-#REF!","v":{"$error":"#REF!"}}]
[null,null,null,null,null,null,null,null,null,{"$f":"(#REF!*60)+#REF!","v":{"$error":"#REF!"}},{"$f":"J275-#REF!","v":{"$error":"#REF!"}}]
[null,null,null,null,null,null,null,null,null,{"$f":"(#REF!*60)+#REF!","v":{"$error":"#REF!"}},{"$f":"J276-#REF!","v":{"$error":"#REF!"}}]
[null,null,null,null,null,null,null,null,null,{"$f":"(#REF!*60)+#REF!","v":{"$error":"#REF!"}},{"$f":"J277-#REF!","v":{"$error":"#REF!"}}]
[null,null,null,null,null,null,null,null,null,{"$f":"(#REF!*60)+#REF!","v":{"$error":"#REF!"}},{"$f":"J278-#REF!","v":{"$error":"#REF!"}}]
[null,null,null,null,null,null,null,null,null,{"$f":"(#REF!*60)+#REF!","v":{"$error":"#REF!"}},{"$f":"J279-#REF!","v":{"$error":"#REF!"}}]
[null,null,null,null,null,null,null,null,null,{"$f":"(#REF!*60)+#REF!","v":{"$error":"#REF!"}},{"$f":"J280-#REF!","v":{"$error":"#REF!"}}]
[null,null,null,null,null,null,null,null,null,{"$f":"(#REF!*60)+#REF!","v":{"$error":"#REF!"}},{"$f":"J281-#REF!","v":{"$error":"#REF!"}}]
[null,null,null,null,null,null,null,null,null,{"$f":"(#REF!*60)+#REF!","v":{"$error":"#REF!"}},{"$f":"J282-#REF!","v":{"$error":"#REF!"}}]
[null,null,null,null,null,null,null,null,null,{"$f":"(#REF!*60)+#REF!","v":{"$error":"#REF!"}},{"$f":"J283-#REF!","v":{"$error":"#REF!"}}]
[null,null,null,null,null,null,null,null,null,{"$f":"(#REF!*60)+#REF!","v":{"$error":"#REF!"}},{"$f":"J284-#REF!","v":{"$error":"#REF!"}}]
[null,null,null,null,null,null,null,null,null,{"$f":"(#REF!*60)+#REF!","v":{"$error":"#REF!"}},{"$f":"J285-#REF!","v":{"$error":"#REF!"}}]
[null,null,null,null,null,null,null,null,null,{"$f":"(#REF!*60)+#REF!","v":{"$error":"#REF!"}},{"$f":"J286-#REF!","v":{"$error":"#REF!"}}]
[null,null,null,null,null,null,null,null,null,{"$f":"(#REF!*60)+#REF!","v":{"$error":"#REF!"}},{"$f":"J287-#REF!","v":{"$error":"#REF!"}}]
[null,null,null,null,null,null,null,null,null,{"$f":"(#REF!*60)+#REF!","v":{"$error":"#REF!"}},{"$f":"J288-#REF!","v":{"$error":"#REF!"}}]
[null,null,null,null,null,null,null,null,null,{"$f":"(#REF!*60)+#REF!","v":{"$error":"#REF!"}},{"$f":"J289-#REF!","v":{"$error":"#REF!"}}]
[null,null,null,null,null,null,null,null,null,{"$f":"(#REF!*60)+#REF!","v":{"$error":"#REF!"}},{"$f":"J290-#REF!","v":{"$error":"#REF!"}}]
[null,null,null,null,null,null,null,null,null,{"$f":"(#REF!*60)+#REF!","v":{"$error":"#REF!"}},{"$f":"J291-#REF!","v":{"$error":"#REF!"}}]
[null,null,null,null,null,null,null,null,null,{"$f":"(#REF!*60)+#REF!","v":{"$error":"#REF!"}},{"$f":"J292-#REF!","v":{"$error":"#REF!"}}]
[null,null,null,null,null,null,null,null,null,{"$f":"(#REF!*60)+#REF!","v":{"$error":"#REF!"}},{"$f":"J293-#REF!","v":{"$error":"#REF!"}}]
[null,null,null,null,null,null,null,null,null,{"$f":"(#REF!*60)+#REF!","v":{"$error":"#REF!"}},{"$f":"J294-#REF!","v":{"$error":"#REF!"}}]
[null,null,null,null,null,null,null,null,null,{"$f":"(#REF!*60)+#REF!","v":{"$error":"#REF!"}},{"$f":"J295-#REF!","v":{"$error":"#REF!"}}]
[null,null,null,null,null,null,null,null,null,{"$f":"(#REF!*60)+#REF!","v":{"$error":"#REF!"}},{"$f":"J296-#REF!","v":{"$error":"#REF!"}}]
[null,null,null,null,null,null,null,null,null,{"$f":"(#REF!*60)+#REF!","v":{"$error":"#REF!"}},{"$f":"J297-#REF!","v":{"$error":"#REF!"}}]
[null,null,null,null,null,null,null,null,null,{"$f":"(#REF!*60)+#REF!","v":{"$error":"#REF!"}},{"$f":"J298-#REF!","v":{"$error":"#REF!"}}]
[null,null,null,null,null,null,null,null,null,{"$f":"(#REF!*60)+#REF!","v":{"$error":"#REF!"}},{"$f":"J299-#REF!","v":{"$error":"#REF!"}}]
[null,null,null,null,null,null,null,null,null,{"$f":"(#REF!*60)+#REF!","v":{"$error":"#REF!"}},{"$f":"J300-#REF!","v":{"$error":"#REF!"}}]
[null,null,null,null,null,null,null,null,null,{"$f":"(#REF!*60)+#REF!","v":{"$error":"#REF!"}},{"$f":"J301-#REF!","v":{"$error":"#REF!"}}]
[null,null,null,null,null,null,null,null,null,{"$f":"(#REF!*60)+#REF!","v":{"$error":"#REF!"}},{"$f":"J302-#REF!","v":{"$error":"#REF!"}}]
[null,null,null,null,null,null,null,null,null,{"$f":"(#REF!*60)+#REF!","v":{"$error":"#REF!"}},{"$f":"J303-#REF!","v":{"$error":"#REF!"}}]
[null,null,null,null,null,null,null,null,null,{"$f":"(#REF!*60)+#REF!","v":{"$error":"#REF!"}},{"$f":"J304-#REF!","v":{"$error":"#REF!"}}]
[null,null,null,null,null,null,null,null,null,{"$f":"(#REF!*60)+#REF!","v":{"$error":"#REF!"}},{"$f":"J305-#REF!","v":{"$error":"#REF!"}}]
[null,null,null,null,null,null,null,null,null,{"$f":"(#REF!*60)+#REF!","v":{"$error":"#REF!"}},{"$f":"J306-#REF!","v":{"$error":"#REF!"}}]
[null,null,null,null,null,null,null,null,null,{"$f":"(#REF!*60)+#REF!","v":{"$error":"#REF!"}},{"$f":"J307-#REF!","v":{"$error":"#REF!"}}]
[null,null,null,null,null,null,null,null,null,{"$f":"(#REF!*60)+#REF!","v":{"$error":"#REF!"}},{"$f":"J308-#REF!","v":{"$error":"#REF!"}}]
[null,null,null,null,null,null,null,null,null,{"$f":"(#REF!*60)+#REF!","v":{"$error":"#REF!"}},{"$f":"J309-#REF!","v":{"$error":"#REF!"}}]
[null,null,null,null,null,null,null,null,null,{"$f":"(#REF!*60)+#REF!","v":{"$error":"#REF!"}},{"$f":"J310-#REF!","v":{"$error":"#REF!"}}]
[null,null,null,null,null,null,null,null,null,{"$f":"(#REF!*60)+#REF!","v":{"$error":"#REF!"}},{"$f":"J311-#REF!","v":{"$error":"#REF!"}}]
[null,null,null,null,null,null,null,null,null,{"$f":"(#REF!*60)+#REF!","v":{"$error":"#REF!"}},{"$f":"J312-#REF!","v":{"$error":"#REF!"}}]
[null,null,null,null,null,null,null,null,null,{"$f":"(#REF!*60)+#REF!","v":{"$error":"#REF!"}},{"$f":"J313-#REF!","v":{"$error":"#REF!"}}]
[null,null,null,null,null,null,null,null,null,{"$f":"(#REF!*60)+#REF!","v":{"$error":"#REF!"}},{"$f":"J314-#REF!","v":{"$error":"#REF!"}}]
[null,null,null,null,null,null,null,null,null,{"$f":"(#REF!*60)+#REF!","v":{"$error":"#REF!"}},{"$f":"J315-#REF!","v":{"$error":"#REF!"}}]
[null,null,null,null,null,null,null,null,null,{"$f":"(#REF!*60)+#REF!","v":{"$error":"#REF!"}},{"$f":"J316-#REF!","v":{"$error":"#REF!"}}]
[null,null,null,null,null,null,null,null,null,{"$f":"(#REF!*60)+#REF!","v":{"$error":"#REF!"}},{"$f":"J317-#REF!","v":{"$error":"#REF!"}}]
[null,null,null,null,null,null,null,null,null,{"$f":"(#REF!*60)+#REF!","v":{"$error":"#REF!"}},{"$f":"J318-#REF!","v":{"$error":"#REF!"}}]
[null,null,null,null,null,null,null,null,null,{"$f":"(#REF!*60)+#REF!","v":{"$error":"#REF!"}},{"$f":"J319-#REF!","v":{"$error":"#REF!"}}]
[null,null,null,null,null,null,null,null,null,{"$f":"(#REF!*60)+#REF!","v":{"$error":"#REF!"}},{"$f":"J320-#REF!","v":{"$error":"#REF!"}}]
[null,null,null,null,null,null,null,null,null,{"$f":"(#REF!*60)+#REF!","v":{"$error":"#REF!"}},{"$f":"J321-#REF!","v":{"$error":"#REF!"}}]
[null,null,null,null,null,null,null,null,null,{"$f":"(#REF!*60)+#REF!","v":{"$error":"#REF!"}},{"$f":"J322-#REF!","v":{"$error":"#REF!"}}]
[null,null,null,null,null,null,null,null,null,{"$f":"(#REF!*60)+#REF!","v":{"$error":"#REF!"}},{"$f":"J323-#REF!","v":{"$error":"#REF!"}}]
[null,null,null,null,null,null,null,null,null,{"$f":"(#REF!*60)+#REF!","v":{"$error":"#REF!"}},{"$f":"J324-#REF!","v":{"$error":"#REF!"}}]
[null,null,null,null,null,null,null,null,null,{"$f":"(#REF!*60)+#REF!","v":{"$error":"#REF!"}},{"$f":"J325-#REF!","v":{"$error":"#REF!"}}]
[null,null,null,null,null,null,null,null,null,{"$f":"(#REF!*60)+#REF!","v":{"$error":"#REF!"}},{"$f":"J326-#REF!","v":{"$error":"#REF!"}}]
[null,null,null,null,null,null,null,null,null,{"$f":"(#REF!*60)+#REF!","v":{"$error":"#REF!"}},{"$f":"J327-#REF!","v":{"$error":"#REF!"}}]
[null,null,null,null,null,null,null,null,null,{"$f":"(#REF!*60)+#REF!","v":{"$error":"#REF!"}},{"$f":"J328-#REF!","v":{"$error":"#REF!"}}]
[null,null,null,null,null,null,null,null,null,{"$f":"(#REF!*60)+#REF!","v":{"$error":"#REF!"}},{"$f":"J329-#REF!","v":{"$error":"#REF!"}}]
[null,null,null,null,null,null,null,null,null,{"$f":"(#REF!*60)+#REF!","v":{"$error":"#REF!"}},{"$f":"J330-#REF!","v":{"$error":"#REF!"}}]
[null,null,null,null,null,null,null,null,null,{"$f":"(#REF!*60)+#REF!","v":{"$error":"#REF!"}},{"$f":"J331-#REF!","v":{"$error":"#REF!"}}]
[null,null,null,null,null,null,null,null,null,{"$f":"(#REF!*60)+#REF!","v":{"$error":"#REF!"}},{"$f":"J332-#REF!","v":{"$error":"#REF!"}}]
[null,null,null,null,null,null,null,null,null,{"$f":"(#REF!*60)+#REF!","v":{"$error":"#REF!"}},{"$f":"J333-#REF!","v":{"$error":"#REF!"}}]
[null,null,null,null,null,null,null,null,null,{"$f":"(#REF!*60)+#REF!","v":{"$error":"#REF!"}},{"$f":"J334-#REF!","v":{"$error":"#REF!"}}]
[null,null,null,null,null,null,null,null,null,{"$f":"(#REF!*60)+#REF!","v":{"$error":"#REF!"}},{"$f":"J335-#REF!","v":{"$error":"#REF!"}}]
[null,null,null,null,null,null,null,null,null,{"$f":"(#REF!*60)+#REF!","v":{"$error":"#REF!"}},{"$f":"J336-#REF!","v":{"$error":"#REF!"}}]
[null,null,null,null,null,null,null,null,null,{"$f":"(#REF!*60)+#REF!","v":{"$error":"#REF!"}},{"$f":"J337-#REF!","v":{"$error":"#REF!"}}]
[null,null,null,null,null,null,null,null,null,{"$f":"(#REF!*60)+#REF!","v":{"$error":"#REF!"}},{"$f":"J338-#REF!","v":{"$error":"#REF!"}}]
[null,null,null,null,null,null,null,null,null,{"$f":"(#REF!*60)+#REF!","v":{"$error":"#REF!"}},{"$f":"J339-#REF!","v":{"$error":"#REF!"}}]
[null,null,null,null,null,null,null,null,null,{"$f":"(#REF!*60)+#REF!","v":{"$error":"#REF!"}},{"$f":"J340-#REF!","v":{"$error":"#REF!"}}]
[null,null,null,null,null,null,null,null,null,{"$f":"(#REF!*60)+#REF!","v":{"$error":"#REF!"}},{"$f":"J341-#REF!","v":{"$error":"#REF!"}}]
[null,null,null,null,null,null,null,null,null,{"$f":"(#REF!*60)+#REF!","v":{"$error":"#REF!"}},{"$f":"J342-#REF!","v":{"$error":"#REF!"}}]
[null,null,null,null,null,null,null,null,null,{"$f":"(#REF!*60)+#REF!","v":{"$error":"#REF!"}},{"$f":"J343-#REF!","v":{"$error":"#REF!"}}]
[null,null,null,null,null,null,null,null,null,{"$f":"(#REF!*60)+#REF!","v":{"$error":"#REF!"}},{"$f":"J344-#REF!","v":{"$error":"#REF!"}}]
[null,null,null,null,null,null,null,null,null,{"$f":"(#REF!*60)+#REF!","v":{"$error":"#REF!"}},{"$f":"J345-#REF!","v":{"$error":"#REF!"}}]
[null,null,null,null,null,null,null,null,null,{"$f":"(#REF!*60)+#REF!","v":{"$error":"#REF!"}},{"$f":"J346-#REF!","v":{"$error":"#REF!"}}]
[null,null,null,null,null,null,null,null,null,{"$f":"(#REF!*60)+#REF!","v":{"$error":"#REF!"}},{"$f":"J347-#REF!","v":{"$error":"#REF!"}}]
[null,null,null,null,null,null,null,null,null,{"$f":"(#REF!*60)+#REF!","v":{"$error":"#REF!"}},{"$f":"J348-#REF!","v":{"$error":"#REF!"}}]
[null,null,null,null,null,null,null,null,null,{"$f":"(#REF!*60)+#REF!","v":{"$error":"#REF!"}},{"$f":"J349-#REF!","v":{"$error":"#REF!"}}]
[null,null,null,null,null,null,null,null,null,{"$f":"(#REF!*60)+#REF!","v":{"$error":"#REF!"}},{"$f":"J350-#REF!","v":{"$error":"#REF!"}}]
[null,null,null,null,null,null,null,null,null,{"$f":"(#REF!*60)+#REF!","v":{"$error":"#REF!"}},{"$f":"J351-#REF!","v":{"$error":"#REF!"}}]
[null,null,null,null,null,null,null,null,null,{"$f":"(#REF!*60)+#REF!","v":{"$error":"#REF!"}},{"$f":"J352-#REF!","v":{"$error":"#REF!"}}]
[null,null,null,null,null,null,null,null,null,{"$f":"(#REF!*60)+#REF!","v":{"$error":"#REF!"}},{"$f":"J353-#REF!","v":{"$error":"#REF!"}}]
[null,null,null,null,null,null,null,null,null,{"$f":"(#REF!*60)+#REF!","v":{"$error":"#REF!"}},{"$f":"J354-#REF!","v":{"$error":"#REF!"}}]
[null,null,null,null,null,null,null,null,null,{"$f":"(#REF!*60)+#REF!","v":{"$error":"#REF!"}},{"$f":"J355-#REF!","v":{"$error":"#REF!"}}]
[null,null,null,null,null,null,null,null,null,{"$f":"(#REF!*60)+#REF!","v":{"$error":"#REF!"}},{"$f":"J356-#REF!","v":{"$error":"#REF!"}}]
[null,null,null,null,null,null,null,null,null,{"$f":"(#REF!*60)+#REF!","v":{"$error":"#REF!"}},{"$f":"J357-#REF!","v":{"$error":"#REF!"}}]
[null,null,null,null,null,null,null,null,null,{"$f":"(#REF!*60)+#REF!","v":{"$error":"#REF!"}},{"$f":"J358-#REF!","v":{"$error":"#REF!"}}]
[null,null,null,null,null,null,null,null,null,{"$f":"(#REF!*60)+#REF!","v":{"$error":"#REF!"}},{"$f":"J359-#REF!","v":{"$error":"#REF!"}}]
[null,null,null,null,null,null,null,null,null,{"$f":"(#REF!*60)+#REF!","v":{"$error":"#REF!"}},{"$f":"J360-#REF!","v":{"$error":"#REF!"}}]
[null,null,null,null,null,null,null,null,null,{"$f":"(#REF!*60)+#REF!","v":{"$error":"#REF!"}},{"$f":"J361-#REF!","v":{"$error":"#REF!"}}]
[null,null,null,null,null,null,null,null,null,{"$f":"(#REF!*60)+#REF!","v":{"$error":"#REF!"}},{"$f":"J362-#REF!","v":{"$error":"#REF!"}}]
[null,null,null,null,null,null,null,null,null,{"$f":"(#REF!*60)+#REF!","v":{"$error":"#REF!"}},{"$f":"J363-#REF!","v":{"$error":"#REF!"}}]
[null,null,null,null,null,null,null,null,null,{"$f":"(#REF!*60)+#REF!","v":{"$error":"#REF!"}},{"$f":"J364-#REF!","v":{"$error":"#REF!"}}]
[null,null,null,null,null,null,null,null,null,{"$f":"(#REF!*60)+#REF!","v":{"$error":"#REF!"}},{"$f":"J365-#REF!","v":{"$error":"#REF!"}}]
[null,null,null,null,null,null,null,null,null,{"$f":"(#REF!*60)+#REF!","v":{"$error":"#REF!"}},{"$f":"J366-#REF!","v":{"$error":"#REF!"}}]
[null,null,null,null,null,null,null,null,null,{"$f":"(#REF!*60)+#REF!","v":{"$error":"#REF!"}},{"$f":"J367-#REF!","v":{"$error":"#REF!"}}]
[null,null,null,null,null,null,null,null,null,{"$f":"(#REF!*60)+#REF!","v":{"$error":"#REF!"}},{"$f":"J368-#REF!","v":{"$error":"#REF!"}}]
[null,null,null,null,null,null,null,null,null,{"$f":"(#REF!*60)+#REF!","v":{"$error":"#REF!"}},{"$f":"J369-#REF!","v":{"$error":"#REF!"}}]
[null,null,null,null,null,null,null,null,null,{"$f":"(#REF!*60)+#REF!","v":{"$error":"#REF!"}},{"$f":"J370-#REF!","v":{"$error":"#REF!"}}]
[null,null,null,null,null,null,null,null,null,{"$f":"(#REF!*60)+#REF!","v":{"$error":"#REF!"}},{"$f":"J371-#REF!","v":{"$error":"#REF!"}}]
[null,null,null,null,null,null,null,null,null,{"$f":"(#REF!*60)+#REF!","v":{"$error":"#REF!"}},{"$f":"J372-#REF!","v":{"$error":"#REF!"}}]
[null,null,null,null,null,null,null,null,null,{"$f":"(#REF!*60)+#REF!","v":{"$error":"#REF!"}},{"$f":"J373-#REF!","v":{"$error":"#REF!"}}]
[null,null,null,null,null,null,null,null,null,{"$f":"(#REF!*60)+#REF!","v":{"$error":"#REF!"}},{"$f":"J374-#REF!","v":{"$error":"#REF!"}}]
[null,null,null,null,null,null,null,null,null,{"$f":"(#REF!*60)+#REF!","v":{"$error":"#REF!"}},{"$f":"J375-#REF!","v":{"$error":"#REF!"}}]
[null,null,null,null,null,null,null,null,null,{"$f":"(#REF!*60)+#REF!","v":{"$error":"#REF!"}},{"$f":"J376-#REF!","v":{"$error":"#REF!"}}]
[null,null,null,null,null,null,null,null,null,{"$f":"(#REF!*60)+#REF!","v":{"$error":"#REF!"}},{"$f":"J377-#REF!","v":{"$error":"#REF!"}}]
[null,null,null,null,null,null,null,null,null,{"$f":"(#REF!*60)+#REF!","v":{"$error":"#REF!"}},{"$f":"J378-#REF!","v":{"$error":"#REF!"}}]
[null,null,null,null,null,null,null,null,null,{"$f":"(#REF!*60)+#REF!","v":{"$error":"#REF!"}},{"$f":"J379-#REF!","v":{"$error":"#REF!"}}]
[null,null,null,null,null,null,null,null,null,{"$f":"(#REF!*60)+#REF!","v":{"$error":"#REF!"}},{"$f":"J380-#REF!","v":{"$error":"#REF!"}}]
[null,null,null,null,null,null,null,null,null,{"$f":"(#REF!*60)+#REF!","v":{"$error":"#REF!"}},{"$f":"J381-#REF!","v":{"$error":"#REF!"}}]
[null,null,null,null,null,null,null,null,null,{"$f":"(#REF!*60)+#REF!","v":{"$error":"#REF!"}},{"$f":"J382-#REF!","v":{"$error":"#REF!"}}]
[null,null,null,null,null,null,null,null,null,{"$f":"(#REF!*60)+#REF!","v":{"$error":"#REF!"}},{"$f":"J383-#REF!","v":{"$error":"#REF!"}}]
[null,null,null,null,null,null,null,null,null,{"$f":"(#REF!*60)+#REF!","v":{"$error":"#REF!"}},{"$f":"J384-#REF!","v":{"$error":"#REF!"}}]
[null,null,null,null,null,null,null,null,null,{"$f":"(#REF!*60)+#REF!","v":{"$error":"#REF!"}},{"$f":"J385-#REF!","v":{"$error":"#REF!"}}]
[null,null,null,null,null,null,null,null,null,{"$f":"(#REF!*60)+#REF!","v":{"$error":"#REF!"}},{"$f":"J386-#REF!","v":{"$error":"#REF!"}}]
[null,null,null,null,null,null,null,null,null,{"$f":"(#REF!*60)+#REF!","v":{"$error":"#REF!"}},{"$f":"J387-#REF!","v":{"$error":"#REF!"}}]
[null,null,null,null,null,null,null,null,null,{"$f":"(#REF!*60)+#REF!","v":{"$error":"#REF!"}},{"$f":"J388-#REF!","v":{"$error":"#REF!"}}]
[null,null,null,null,null,null,null,null,null,{"$f":"(#REF!*60)+#REF!","v":{"$error":"#REF!"}},{"$f":"J389-#REF!","v":{"$error":"#REF!"}}]
[null,null,null,null,null,null,null,null,null,{"$f":"(#REF!*60)+#REF!","v":{"$error":"#REF!"}},{"$f":"J390-#REF!","v":{"$error":"#REF!"}}]
[null,null,null,null,null,null,null,null,null,{"$f":"(#REF!*60)+#REF!","v":{"$error":"#REF!"}},{"$f":"J391-#REF!","v":{"$error":"#REF!"}}]
[null,null,null,null,null,null,null,null,null,{"$f":"(#REF!*60)+#REF!","v":{"$error":"#REF!"}},{"$f":"J392-#REF!","v":{"$error":"#REF!"}}]
[null,null,null,null,null,null,null,null,null,{"$f":"(#REF!*60)+#REF!","v":{"$error":"#REF!"}},{"$f":"J393-#REF!","v":{"$error":"#REF!"}}]
[null,null,null,null,null,null,null,null,null,{"$f":"(#REF!*60)+#REF!","v":{"$error":"#REF!"}},{"$f":"J394-#REF!","v":{"$error":"#REF!"}}]
[null,null,null,null,null,null,null,null,null,{"$f":"(#REF!*60)+#REF!","v":{"$error":"#REF!"}},{"$f":"J395-#REF!","v":{"$error":"#REF!"}}]
[null,null,null,null,null,null,null,null,null,{"$f":"(#REF!*60)+#REF!","v":{"$error":"#REF!"}},{"$f":"J396-#REF!","v":{"$error":"#REF!"}}]
[null,null,null,null,null,null,null,null,null,{"$f":"(#REF!*60)+#REF!","v":{"$error":"#REF!"}},{"$f":"J397-#REF!","v":{"$error":"#REF!"}}]
[null,null,null,null,null,null,null,null,null,{"$f":"(#REF!*60)+#REF!","v":{"$error":"#REF!"}},{"$f":"J398-#REF!","v":{"$error":"#REF!"}}]
[null,null,null,null,null,null,null,null,null,{"$f":"(#REF!*60)+#REF!","v":{"$error":"#REF!"}},{"$f":"J399-#REF!","v":{"$error":"#REF!"}}]
[null,null,null,null,null,null,null,null,null,{"$f":"(#REF!*60)+#REF!","v":{"$error":"#REF!"}},{"$f":"J400-#REF!","v":{"$error":"#REF!"}}]
[null,null,null,null,null,null,null,null,null,{"$f":"(#REF!*60)+#REF!","v":{"$error":"#REF!"}},{"$f":"J401-#REF!","v":{"$error":"#REF!"}}]
[null,null,null,null,null,null,null,null,null,{"$f":"(#REF!*60)+#REF!","v":{"$error":"#REF!"}},{"$f":"J402-#REF!","v":{"$error":"#REF!"}}]
[null,null,null,null,null,null,null,null,null,{"$f":"(#REF!*60)+#REF!","v":{"$error":"#REF!"}},{"$f":"J403-#REF!","v":{"$error":"#REF!"}}]
[null,null,null,null,null,null,null,null,null,{"$f":"(#REF!*60)+#REF!","v":{"$error":"#REF!"}},{"$f":"J404-#REF!","v":{"$error":"#REF!"}}]
[null,null,null,null,null,null,null,null,null,{"$f":"(#REF!*60)+#REF!","v":{"$error":"#REF!"}},{"$f":"J405-#REF!","v":{"$error":"#REF!"}}]
[null,null,null,null,null,null,null,null,null,{"$f":"(#REF!*60)+#REF!","v":{"$error":"#REF!"}},{"$f":"J406-#REF!","v":{"$error":"#REF!"}}]
[null,null,null,null,null,null,null,null,null,{"$f":"(#REF!*60)+#REF!","v":{"$error":"#REF!"}},{"$f":"J407-#REF!","v":{"$error":"#REF!"}}]
[null,null,null,null,null,null,null,null,null,{"$f":"(#REF!*60)+#REF!","v":{"$error":"#REF!"}},{"$f":"J408-#REF!","v":{"$error":"#REF!"}}]
[null,null,null,null,null,null,null,null,null,{"$f":"(#REF!*60)+#REF!","v":{"$error":"#REF!"}},{"$f":"J409-#REF!","v":{"$error":"#REF!"}}]
[null,null,null,null,null,null,null,null,null,{"$f":"(#REF!*60)+#REF!","v":{"$error":"#REF!"}},{"$f":"J410-#REF!","v":{"$error":"#REF!"}}]
[null,null,null,null,null,null,null,null,null,{"$f":"(#REF!*60)+#REF!","v":{"$error":"#REF!"}},{"$f":"J411-#REF!","v":{"$error":"#REF!"}}]
[null,null,null,null,null,null,null,null,null,{"$f":"(#REF!*60)+#REF!","v":{"$error":"#REF!"}},{"$f":"J412-#REF!","v":{"$error":"#REF!"}}]
[null,null,null,null,null,null,null,null,null,{"$f":"(#REF!*60)+#REF!","v":{"$error":"#REF!"}},{"$f":"J413-#REF!","v":{"$error":"#REF!"}}]
[null,null,null,null,null,null,null,null,null,{"$f":"(#REF!*60)+#REF!","v":{"$error":"#REF!"}},{"$f":"J414-#REF!","v":{"$error":"#REF!"}}]
[null,null,null,null,null,null,null,null,null,{"$f":"(#REF!*60)+#REF!","v":{"$error":"#REF!"}},{"$f":"J415-#REF!","v":{"$error":"#REF!"}}]
[null,null,null,null,null,null,null,null,null,{"$f":"(#REF!*60)+#REF!","v":{"$error":"#REF!"}},{"$f":"J416-#REF!","v":{"$error":"#REF!"}}]
[null,null,null,null,null,null,null,null,null,{"$f":"(#REF!*60)+#REF!","v":{"$error":"#REF!"}},{"$f":"J417-#REF!","v":{"$error":"#REF!"}}]
[null,null,null,null,null,null,null,null,null,{"$f":"(#REF!*60)+#REF!","v":{"$error":"#REF!"}},{"$f":"J418-#REF!","v":{"$error":"#REF!"}}]
[null,null,null,null,null,null,null,null,null,{"$f":"(#REF!*60)+#REF!","v":{"$error":"#REF!"}},{"$f":"J419-#REF!","v":{"$error":"#REF!"}}]
[null,null,null,null,null,null,null,null,null,{"$f":"(#REF!*60)+#REF!","v":{"$error":"#REF!"}},{"$f":"J420-#REF!","v":{"$error":"#REF!"}}]
[null,null,null,null,null,null,null,null,null,{"$f":"(#REF!*60)+#REF!","v":{"$error":"#REF!"}},{"$f":"J421-#REF!","v":{"$error":"#REF!"}}]
[null,null,null,null,null,null,null,null,null,{"$f":"(#REF!*60)+#REF!","v":{"$error":"#REF!"}},{"$f":"J422-#REF!","v":{"$error":"#REF!"}}]
[null,null,null,null,null,null,null,null,null,{"$f":"(#REF!*60)+#REF!","v":{"$error":"#REF!"}},{"$f":"J423-#REF!","v":{"$error":"#REF!"}}]
[null,null,null,null,null,null,null,null,null,{"$f":"(#REF!*60)+#REF!","v":{"$error":"#REF!"}},{"$f":"J424-#REF!","v":{"$error":"#REF!"}}]
[null,null,null,null,null,null,null,null,null,{"$f":"(#REF!*60)+#REF!","v":{"$error":"#REF!"}},{"$f":"J425-#REF!","v":{"$error":"#REF!"}}]
[null,null,null,null,null,null,null,null,null,{"$f":"(#REF!*60)+#REF!","v":{"$error":"#REF!"}},{"$f":"J426-#REF!","v":{"$error":"#REF!"}}]
[null,null,null,null,null,null,null,null,null,{"$f":"(#REF!*60)+#REF!","v":{"$error":"#REF!"}},{"$f":"J427-#REF!","v":{"$error":"#REF!"}}]
[null,null,null,null,null,null,null,null,null,{"$f":"(#REF!*60)+#REF!","v":{"$error":"#REF!"}},{"$f":"J428-#REF!","v":{"$error":"#REF!"}}]
[null,null,null,null,null,null,null,null,null,{"$f":"(#REF!*60)+#REF!","v":{"$error":"#REF!"}},{"$f":"J429-#REF!","v":{"$error":"#REF!"}}]
[null,null,null,null,null,null,null,null,null,{"$f":"(#REF!*60)+#REF!","v":{"$error":"#REF!"}},{"$f":"J430-#REF!","v":{"$error":"#REF!"}}]
[null,null,null,null,null,null,null,null,null,{"$f":"(#REF!*60)+#REF!","v":{"$error":"#REF!"}},{"$f":"J431-#REF!","v":{"$error":"#REF!"}}]
[null,null,null,null,null,null,null,null,null,{"$f":"(#REF!*60)+#REF!","v":{"$error":"#REF!"}},{"$f":"J432-#REF!","v":{"$error":"#REF!"}}]
[null,null,null,null,null,null,null,null,null,{"$f":"(#REF!*60)+#REF!","v":{"$error":"#REF!"}},{"$f":"J433-#REF!","v":{"$error":"#REF!"}}]
[null,null,null,null,null,null,null,null,null,{"$f":"(#REF!*60)+#REF!","v":{"$error":"#REF!"}},{"$f":"J434-#REF!","v":{"$error":"#REF!"}}]
[null,null,null,null,null,null,null,null,null,{"$f":"(#REF!*60)+#REF!","v":{"$error":"#REF!"}},{"$f":"J435-#REF!","v":{"$error":"#REF!"}}]
[null,null,null,null,null,null,null,null,null,{"$f":"(#REF!*60)+#REF!","v":{"$error":"#REF!"}},{"$f":"J436-#REF!","v":{"$error":"#REF!"}}]
[null,null,null,null,null,null,null,null,null,{"$f":"(#REF!*60)+#REF!","v":{"$error":"#REF!"}},{"$f":"J437-#REF!","v":{"$error":"#REF!"}}]
[null,null,null,null,null,null,null,null,null,{"$f":"(#REF!*60)+#REF!","v":{"$error":"#REF!"}},{"$f":"J438-#REF!","v":{"$error":"#REF!"}}]
[null,null,null,null,null,null,null,null,null,{"$f":"(#REF!*60)+#REF!","v":{"$error":"#REF!"}},{"$f":"J439-#REF!","v":{"$error":"#REF!"}}]
[null,null,null,null,null,null,null,null,null,{"$f":"(#REF!*60)+#REF!","v":{"$error":"#REF!"}},{"$f":"J440-#REF!","v":{"$error":"#REF!"}}]
[null,null,null,null,null,null,null,null,null,{"$f":"(#REF!*60)+#REF!","v":{"$error":"#REF!"}},{"$f":"J441-#REF!","v":{"$error":"#REF!"}}]
[null,null,null,null,null,null,null,null,null,{"$f":"(#REF!*60)+#REF!","v":{"$error":"#REF!"}},{"$f":"J442-#REF!","v":{"$error":"#REF!"}}]
[null,null,null,null,null,null,null,null,null,{"$f":"(#REF!*60)+#REF!","v":{"$error":"#REF!"}},{"$f":"J443-#REF!","v":{"$error":"#REF!"}}]
[null,null,null,null,null,null,null,null,null,{"$f":"(#REF!*60)+#REF!","v":{"$error":"#REF!"}},{"$f":"J444-#REF!","v":{"$error":"#REF!"}}]
[null,null,null,null,null,null,null,null,null,{"$f":"(#REF!*60)+#REF!","v":{"$error":"#REF!"}},{"$f":"J445-#REF!","v":{"$error":"#REF!"}}]
[null,null,null,null,null,null,null,null,null,{"$f":"(#REF!*60)+#REF!","v":{"$error":"#REF!"}},{"$f":"J446-#REF!","v":{"$error":"#REF!"}}]
[null,null,null,null,null,null,null,null,null,{"$f":"(#REF!*60)+#REF!","v":{"$error":"#REF!"}},{"$f":"J447-#REF!","v":{"$error":"#REF!"}}]
[null,null,null,null,null,null,null,null,null,{"$f":"(#REF!*60)+#REF!","v":{"$error":"#REF!"}},{"$f":"J448-#REF!","v":{"$error":"#REF!"}}]
[null,null,null,null,null,null,null,null,null,{"$f":"(#REF!*60)+#REF!","v":{"$error":"#REF!"}},{"$f":"J449-#REF!","v":{"$error":"#REF!"}}]
[null,null,null,null,null,null,null,null,null,{"$f":"(#REF!*60)+#REF!","v":{"$error":"#REF!"}},{"$f":"J450-#REF!","v":{"$error":"#REF!"}}]
[null,null,null,null,null,null,null,null,null,{"$f":"(#REF!*60)+#REF!","v":{"$error":"#REF!"}},{"$f":"J451-#REF!","v":{"$error":"#REF!"}}]
[null,null,null,null,null,null,null,null,null,{"$f":"(#REF!*60)+#REF!","v":{"$error":"#REF!"}},{"$f":"J452-#REF!","v":{"$error":"#REF!"}}]
[null,null,null,null,null,null,null,null,null,{"$f":"(#REF!*60)+#REF!","v":{"$error":"#REF!"}},{"$f":"J453-#REF!","v":{"$error":"#REF!"}}]
[null,null,null,null,null,null,null,null,null,{"$f":"(#REF!*60)+#REF!","v":{"$error":"#REF!"}},{"$f":"J454-#REF!","v":{"$error":"#REF!"}}]
[null,null,null,null,null,null,null,null,null,{"$f":"(#REF!*60)+#REF!","v":{"$error":"#REF!"}},{"$f":"J455-#REF!","v":{"$error":"#REF!"}}]
[null,null,null,null,null,null,null,null,null,{"$f":"(#REF!*60)+#REF!","v":{"$error":"#REF!"}},{"$f":"J456-#REF!","v":{"$error":"#REF!"}}]
[null,null,null,null,null,null,null,null,null,{"$f":"(#REF!*60)+#REF!","v":{"$error":"#REF!"}},{"$f":"J457-#REF!","v":{"$error":"#REF!"}}]
[null,null,null,null,null,null,null,null,null,{"$f":"(#REF!*60)+#REF!","v":{"$error":"#REF!"}},{"$f":"J458-#REF!","v":{"$error":"#REF!"}}]
[null,null,null,null,null,null,null,null,null,{"$f":"(#REF!*60)+#REF!","v":{"$error":"#REF!"}},{"$f":"J459-#REF!","v":{"$error":"#REF!"}}]
[null,null,null,null,null,null,null,null,null,{"$f":"(#REF!*60)+#REF!","v":{"$error":"#REF!"}},{"$f":"J460-#REF!","v":{"$error":"#REF!"}}]
[null,null,null,null,null,null,null,null,null,{"$f":"(#REF!*60)+#REF!","v":{"$error":"#REF!"}},{"$f":"J461-#REF!","v":{"$error":"#REF!"}}]
[null,null,null,null,null,null,null,null,null,{"$f":"(#REF!*60)+#REF!","v":{"$error":"#REF!"}},{"$f":"J462-#REF!","v":{"$error":"#REF!"}}]
[null,null,null,null,null,null,null,null,null,{"$f":"(#REF!*60)+#REF!","v":{"$error":"#REF!"}},{"$f":"J463-#REF!","v":{"$error":"#REF!"}}]
[null,null,null,null,null,null,null,null,null,{"$f":"(#REF!*60)+#REF!","v":{"$error":"#REF!"}},{"$f":"J464-#REF!","v":{"$error":"#REF!"}}]
[null,null,null,null,null,null,null,null,null,{"$f":"(#REF!*60)+#REF!","v":{"$error":"#REF!"}},{"$f":"J465-#REF!","v":{"$error":"#REF!"}}]
[null,null,null,null,null,null,null,null,null,{"$f":"(#REF!*60)+#REF!","v":{"$error":"#REF!"}},{"$f":"J466-#REF!","v":{"$error":"#REF!"}}]
[null,null,null,null,null,null,null,null,null,{"$f":"(#REF!*60)+#REF!","v":{"$error":"#REF!"}},{"$f":"J467-#REF!","v":{"$error":"#REF!"}}]
[null,null,null,null,null,null,null,null,null,{"$f":"(#REF!*60)+#REF!","v":{"$error":"#REF!"}},{"$f":"J468-#REF!","v":{"$error":"#REF!"}}]
[null,null,null,null,null,null,null,null,null,{"$f":"(#REF!*60)+#REF!","v":{"$error":"#REF!"}},{"$f":"J469-#REF!","v":{"$error":"#REF!"}}]
[null,null,null,null,null,null,null,null,null,{"$f":"(#REF!*60)+#REF!","v":{"$error":"#REF!"}},{"$f":"J470-#REF!","v":{"$error":"#REF!"}}]
[null,null,null,null,null,null,null,null,null,{"$f":"(#REF!*60)+#REF!","v":{"$error":"#REF!"}},{"$f":"J471-#REF!","v":{"$error":"#REF!"}}]
[null,null,null,null,null,null,null,null,null,{"$f":"(#REF!*60)+#REF!","v":{"$error":"#REF!"}},{"$f":"J472-#REF!","v":{"$error":"#REF!"}}]
[null,null,null,null,null,null,null,null,null,{"$f":"(#REF!*60)+#REF!","v":{"$error":"#REF!"}},{"$f":"J473-#REF!","v":{"$error":"#REF!"}}]
[null,null,null,null,null,null,null,null,null,{"$f":"(#REF!*60)+#REF!","v":{"$error":"#REF!"}},{"$f":"J474-#REF!","v":{"$error":"#REF!"}}]
[null,null,null,null,null,null,null,null,null,{"$f":"(#REF!*60)+#REF!","v":{"$error":"#REF!"}},{"$f":"J475-#REF!","v":{"$error":"#REF!"}}]
[null,null,null,null,null,null,null,null,null,{"$f":"(#REF!*60)+#REF!","v":{"$error":"#REF!"}},{"$f":"J476-#REF!","v":{"$error":"#REF!"}}]
[null,null,null,null,null,null,null,null,null,{"$f":"(#REF!*60)+#REF!","v":{"$error":"#REF!"}},{"$f":"J477-#REF!","v":{"$error":"#REF!"}}]
[null,null,null,null,null,null,null,null,null,{"$f":"(#REF!*60)+#REF!","v":{"$error":"#REF!"}},{"$f":"J478-#REF!","v":{"$error":"#REF!"}}]
[null,null,null,null,null,null,null,null,null,{"$f":"(#REF!*60)+#REF!","v":{"$error":"#REF!"}},{"$f":"J479-#REF!","v":{"$error":"#REF!"}}]
[null,null,null,null,null,null,null,null,null,{"$f":"(#REF!*60)+#REF!","v":{"$error":"#REF!"}},{"$f":"J480-#REF!","v":{"$error":"#REF!"}}]
[null,null,null,null,null,null,null,null,null,{"$f":"(#REF!*60)+#REF!","v":{"$error":"#REF!"}},{"$f":"J481-#REF!","v":{"$error":"#REF!"}}]
[null,null,null,null,null,null,null,null,null,{"$f":"(#REF!*60)+#REF!","v":{"$error":"#REF!"}},{"$f":"J482-#REF!","v":{"$error":"#REF!"}}]
[null,null,null,null,null,null,null,null,null,{"$f":"(#REF!*60)+#REF!","v":{"$error":"#REF!"}},{"$f":"J483-#REF!","v":{"$error":"#REF!"}}]
[null,null,null,null,null,null,null,null,null,{"$f":"(#REF!*60)+#REF!","v":{"$error":"#REF!"}},{"$f":"J484-#REF!","v":{"$error":"#REF!"}}]
[null,null,null,null,null,null,null,null,null,{"$f":"(#REF!*60)+#REF!","v":{"$error":"#REF!"}},{"$f":"J485-#REF!","v":{"$error":"#REF!"}}]
[null,null,null,null,null,null,null,null,null,{"$f":"(#REF!*60)+#REF!","v":{"$error":"#REF!"}},{"$f":"J486-#REF!","v":{"$error":"#REF!"}}]
[null,null,null,null,null,null,null,null,null,{"$f":"(#REF!*60)+#REF!","v":{"$error":"#REF!"}},{"$f":"J487-#REF!","v":{"$error":"#REF!"}}]
[null,null,null,null,null,null,null,null,null,{"$f":"(#REF!*60)+#REF!","v":{"$error":"#REF!"}},{"$f":"J488-#REF!","v":{"$error":"#REF!"}}]
[null,null,null,null,null,null,null,null,null,{"$f":"(#REF!*60)+#REF!","v":{"$error":"#REF!"}},{"$f":"J489-#REF!","v":{"$error":"#REF!"}}]
[null,null,null,null,null,null,null,null,null,{"$f":"(#REF!*60)+#REF!","v":{"$error":"#REF!"}},{"$f":"J490-#REF!","v":{"$error":"#REF!"}}]
[null,null,null,null,null,null,null,null,null,{"$f":"(#REF!*60)+#REF!","v":{"$error":"#REF!"}},{"$f":"J491-#REF!","v":{"$error":"#REF!"}}]
[null,null,null,null,null,null,null,null,null,{"$f":"(#REF!*60)+#REF!","v":{"$error":"#REF!"}},{"$f":"J492-#REF!","v":{"$error":"#REF!"}}]
[null,null,null,null,null,null,null,null,null,{"$f":"(#REF!*60)+#REF!","v":{"$error":"#REF!"}},{"$f":"J493-#REF!","v":{"$error":"#REF!"}}]
[null,null,null,null,null,null,null,null,null,{"$f":"(#REF!*60)+#REF!","v":{"$error":"#REF!"}},{"$f":"J494-#REF!","v":{"$error":"#REF!"}}]
[null,null,null,null,null,null,null,null,null,{"$f":"(#REF!*60)+#REF!","v":{"$error":"#REF!"}},{"$f":"J495-#REF!","v":{"$error":"#REF!"}}]
[null,null,null,null,null,null,null,null,null,{"$f":"(#REF!*60)+#REF!","v":{"$error":"#REF!"}},{"$f":"J496-#REF!","v":{"$error":"#REF!"}}]
[null,null,null,null,null,null,null,null,null,{"$f":"(#REF!*60)+#REF!","v":{"$error":"#REF!"}},{"$f":"J497-#REF!","v":{"$error":"#REF!"}}]
[null,null,null,null,null,null,null,null,null,{"$f":"(#REF!*60)+#REF!","v":{"$error":"#REF!"}},{"$f":"J498-#REF!","v":{"$error":"#REF!"}}]
[null,null,null,null,null,null,null,null,null,{"$f":"(#REF!*60)+#REF!","v":{"$error":"#REF!"}},{"$f":"J499-#REF!","v":{"$error":"#REF!"}}]
[null,null,null,null,null,null,null,null,null,{"$f":"(#REF!*60)+#REF!","v":{"$error":"#REF!"}},{"$f":"J500-#REF!","v":{"$error":"#REF!"}}]
[null,null,null,null,null,null,null,null,null,{"$f":"(#REF!*60)+#REF!","v":{"$error":"#REF!"}},{"$f":"J501-#REF!","v":{"$error":"#REF!"}}]
[null,null,null,null,null,null,null,null,null,{"$f":"(#REF!*60)+#REF!","v":{"$error":"#REF!"}},{"$f":"J502-#REF!","v":{"$error":"#REF!"}}]
[null,null,null,null,null,null,null,null,null,{"$f":"(#REF!*60)+#REF!","v":{"$error":"#REF!"}},{"$f":"J503-#REF!","v":{"$error":"#REF!"}}]
[null,null,null,null,null,null,null,null,null,{"$f":"(#REF!*60)+#REF!","v":{"$error":"#REF!"}},{"$f":"J504-#REF!","v":{"$error":"#REF!"}}]
[null,null,null,null,null,null,null,null,null,{"$f":"(#REF!*60)+#REF!","v":{"$error":"#REF!"}},{"$f":"J505-#REF!","v":{"$error":"#REF!"}}]
[null,null,null,null,null,null,null,null,null,{"$f":"(#REF!*60)+#REF!","v":{"$error":"#REF!"}},{"$f":"J506-#REF!","v":{"$error":"#REF!"}}]
[null,null,null,null,null,null,null,null,null,{"$f":"(#REF!*60)+#REF!","v":{"$error":"#REF!"}},{"$f":"J507-#REF!","v":{"$error":"#REF!"}}]
[null,null,null,null,null,null,null,null,null,{"$f":"(#REF!*60)+#REF!","v":{"$error":"#REF!"}},{"$f":"J508-#REF!","v":{"$error":"#REF!"}}]
[null,null,null,null,null,null,null,null,null,{"$f":"(#REF!*60)+#REF!","v":{"$error":"#REF!"}},{"$f":"J509-#REF!","v":{"$error":"#REF!"}}]
[null,null,null,null,null,null,null,null,null,{"$f":"(#REF!*60)+#REF!","v":{"$error":"#REF!"}},{"$f":"J510-#REF!","v":{"$error":"#REF!"}}]
[null,null,null,null,null,null,null,null,null,{"$f":"(#REF!*60)+#REF!","v":{"$error":"#REF!"}},{"$f":"J511-#REF!","v":{"$error":"#REF!"}}]
[null,null,null,null,null,null,null,null,null,{"$f":"(#REF!*60)+#REF!","v":{"$error":"#REF!"}},{"$f":"J512-#REF!","v":{"$error":"#REF!"}}]
[null,null,null,null,null,null,null,null,null,{"$f":"(#REF!*60)+#REF!","v":{"$error":"#REF!"}},{"$f":"J513-#REF!","v":{"$error":"#REF!"}}]
[null,null,null,null,null,null,null,null,null,{"$f":"(#REF!*60)+#REF!","v":{"$error":"#REF!"}},{"$f":"J514-#REF!","v":{"$error":"#REF!"}}]
[null,null,null,null,null,null,null,null,null,{"$f":"(#REF!*60)+#REF!","v":{"$error":"#REF!"}},{"$f":"J515-#REF!","v":{"$error":"#REF!"}}]
[null,null,null,null,null,null,null,null,null,{"$f":"(#REF!*60)+#REF!","v":{"$error":"#REF!"}},{"$f":"J516-#REF!","v":{"$error":"#REF!"}}]
[null,null,null,null,null,null,null,null,null,{"$f":"(#REF!*60)+#REF!","v":{"$error":"#REF!"}},{"$f":"J517-#REF!","v":{"$error":"#REF!"}}]
[null,null,null,null,null,null,null,null,null,{"$f":"(#REF!*60)+#REF!","v":{"$error":"#REF!"}},{"$f":"J518-#REF!","v":{"$error":"#REF!"}}]
[null,null,null,null,null,null,null,null,null,{"$f":"(#REF!*60)+#REF!","v":{"$error":"#REF!"}},{"$f":"J519-#REF!","v":{"$error":"#REF!"}}]
[null,null,null,null,null,null,null,null,null,{"$f":"(#REF!*60)+#REF!","v":{"$error":"#REF!"}},{"$f":"J520-#REF!","v":{"$error":"#REF!"}}]
[null,null,null,null,null,null,null,null,null,{"$f":"(#REF!*60)+#REF!","v":{"$error":"#REF!"}},{"$f":"J521-#REF!","v":{"$error":"#REF!"}}]
[null,null,null,null,null,null,null,null,null,{"$f":"(#REF!*60)+#REF!","v":{"$error":"#REF!"}},{"$f":"J522-#REF!","v":{"$error":"#REF!"}}]
[null,null,null,null,null,null,null,null,null,{"$f":"(#REF!*60)+#REF!","v":{"$error":"#REF!"}},{"$f":"J523-#REF!","v":{"$error":"#REF!"}}]
[null,null,null,null,null,null,null,null,null,{"$f":"(#REF!*60)+#REF!","v":{"$error":"#REF!"}},{"$f":"J524-#REF!","v":{"$error":"#REF!"}}]
[null,null,null,null,null,null,null,null,null,{"$f":"(#REF!*60)+#REF!","v":{"$error":"#REF!"}},{"$f":"J525-#REF!","v":{"$error":"#REF!"}}]
[null,null,null,null,null,null,null,null,null,{"$f":"(#REF!*60)+#REF!","v":{"$error":"#REF!"}},{"$f":"J526-#REF!","v":{"$error":"#REF!"}}]
[null,null,null,null,null,null,null,null,null,{"$f":"(#REF!*60)+#REF!","v":{"$error":"#REF!"}},{"$f":"J527-#REF!","v":{"$error":"#REF!"}}]
[null,null,null,null,null,null,null,null,null,{"$f":"(#REF!*60)+#REF!","v":{"$error":"#REF!"}},{"$f":"J528-#REF!","v":{"$error":"#REF!"}}]
[null,null,null,null,null,null,null,null,null,{"$f":"(#REF!*60)+#REF!","v":{"$error":"#REF!"}},{"$f":"J529-#REF!","v":{"$error":"#REF!"}}]
[null,null,null,null,null,null,null,null,null,{"$f":"(#REF!*60)+#REF!","v":{"$error":"#REF!"}},{"$f":"J530-#REF!","v":{"$error":"#REF!"}}]
[null,null,null,null,null,null,null,null,null,{"$f":"(#REF!*60)+#REF!","v":{"$error":"#REF!"}},{"$f":"J531-#REF!","v":{"$error":"#REF!"}}]
[null,null,null,null,null,null,null,null,null,{"$f":"(#REF!*60)+#REF!","v":{"$error":"#REF!"}},{"$f":"J532-#REF!","v":{"$error":"#REF!"}}]
[null,null,null,null,null,null,null,null,null,{"$f":"(#REF!*60)+#REF!","v":{"$error":"#REF!"}},{"$f":"J533-#REF!","v":{"$error":"#REF!"}}]
[null,null,null,null,null,null,null,null,null,{"$f":"(#REF!*60)+#REF!","v":{"$error":"#REF!"}},{"$f":"J534-#REF!","v":{"$error":"#REF!"}}]
[null,null,null,null,null,null,null,null,null,{"$f":"(#REF!*60)+#REF!","v":{"$error":"#REF!"}},{"$f":"J535-#REF!","v":{"$error":"#REF!"}}]
[null,null,null,null,null,null,null,null,null,{"$f":"(#REF!*60)+#REF!","v":{"$error":"#REF!"}},{"$f":"J536-#REF!","v":{"$error":"#REF!"}}]
[null,null,null,null,null,null,null,null,null,{"$f":"(#REF!*60)+#REF!","v":{"$error":"#REF!"}},{"$f":"J537-#REF!","v":{"$error":"#REF!"}}]
[null,null,null,null,null,null,null,null,null,{"$f":"(#REF!*60)+#REF!","v":{"$error":"#REF!"}},{"$f":"J538-#REF!","v":{"$error":"#REF!"}}]
[null,null,null,null,null,null,null,null,null,{"$f":"(#REF!*60)+#REF!","v":{"$error":"#REF!"}},{"$f":"J539-#REF!","v":{"$error":"#REF!"}}]
[null,null,null,null,null,null,null,null,null,{"$f":"(#REF!*60)+#REF!","v":{"$error":"#REF!"}},{"$f":"J540-#REF!","v":{"$error":"#REF!"}}]
[null,null,null,null,null,null,null,null,null,{"$f":"(#REF!*60)+#REF!","v":{"$error":"#REF!"}},{"$f":"J541-#REF!","v":{"$error":"#REF!"}}]
[null,null,null,null,null,null,null,null,null,{"$f":"(#REF!*60)+#REF!","v":{"$error":"#REF!"}},{"$f":"J542-#REF!","v":{"$error":"#REF!"}}]
[null,null,null,null,null,null,null,null,null,{"$f":"(#REF!*60)+#REF!","v":{"$error":"#REF!"}},{"$f":"J543-#REF!","v":{"$error":"#REF!"}}]
[null,null,null,null,null,null,null,null,null,{"$f":"(#REF!*60)+#REF!","v":{"$error":"#REF!"}},{"$f":"J544-#REF!","v":{"$error":"#REF!"}}]
[null,null,null,null,null,null,null,null,null,{"$f":"(#REF!*60)+#REF!","v":{"$error":"#REF!"}},{"$f":"J545-#REF!","v":{"$error":"#REF!"}}]
[null,null,null,null,null,null,null,null,null,{"$f":"(#REF!*60)+#REF!","v":{"$error":"#REF!"}},{"$f":"J546-#REF!","v":{"$error":"#REF!"}}]
[null,null,null,null,null,null,null,null,null,{"$f":"(#REF!*60)+#REF!","v":{"$error":"#REF!"}},{"$f":"J547-#REF!","v":{"$error":"#REF!"}}]
[null,null,null,null,null,null,null,null,null,{"$f":"(#REF!*60)+#REF!","v":{"$error":"#REF!"}},{"$f":"J548-#REF!","v":{"$error":"#REF!"}}]
[null,null,null,null,null,null,null,null,null,{"$f":"(#REF!*60)+#REF!","v":{"$error":"#REF!"}},{"$f":"J549-#REF!","v":{"$error":"#REF!"}}]
[null,null,null,null,null,null,null,null,null,{"$f":"(#REF!*60)+#REF!","v":{"$error":"#REF!"}},{"$f":"J550-#REF!","v":{"$error":"#REF!"}}]
[null,null,null,null,null,null,null,null,null,{"$f":"(#REF!*60)+#REF!","v":{"$error":"#REF!"}},{"$f":"J551-#REF!","v":{"$error":"#REF!"}}]
[null,null,null,null,null,null,null,null,null,{"$f":"(#REF!*60)+#REF!","v":{"$error":"#REF!"}},{"$f":"J552-#REF!","v":{"$error":"#REF!"}}]
[null,null,null,null,null,null,null,null,null,{"$f":"(#REF!*60)+#REF!","v":{"$error":"#REF!"}},{"$f":"J553-#REF!","v":{"$error":"#REF!"}}]
[null,null,null,null,null,null,null,null,null,{"$f":"(#REF!*60)+#REF!","v":{"$error":"#REF!"}},{"$f":"J554-#REF!","v":{"$error":"#REF!"}}]
[null,null,null,null,null,null,null,null,null,{"$f":"(#REF!*60)+#REF!","v":{"$error":"#REF!"}},{"$f":"J555-#REF!","v":{"$error":"#REF!"}}]
[null,null,null,null,null,null,null,null,null,{"$f":"(#REF!*60)+#REF!","v":{"$error":"#REF!"}},{"$f":"J556-#REF!","v":{"$error":"#REF!"}}]
[null,null,null,null,null,null,null,null,null,{"$f":"(#REF!*60)+#REF!","v":{"$error":"#REF!"}},{"$f":"J557-#REF!","v":{"$error":"#REF!"}}]
[null,null,null,null,null,null,null,null,null,{"$f":"(#REF!*60)+#REF!","v":{"$error":"#REF!"}},{"$f":"J558-#REF!","v":{"$error":"#REF!"}}]
[null,null,null,null,null,null,null,null,null,{"$f":"(#REF!*60)+#REF!","v":{"$error":"#REF!"}},{"$f":"J559-#REF!","v":{"$error":"#REF!"}}]
[null,null,null,null,null,null,null,null,null,{"$f":"(#REF!*60)+#REF!","v":{"$error":"#REF!"}},{"$f":"J560-#REF!","v":{"$error":"#REF!"}}]
[null,null,null,null,null,null,null,null,null,{"$f":"(#REF!*60)+#REF!","v":{"$error":"#REF!"}},{"$f":"J561-#REF!","v":{"$error":"#REF!"}}]
[null,null,null,null,null,null,null,null,null,{"$f":"(#REF!*60)+#REF!","v":{"$error":"#REF!"}},{"$f":"J562-#REF!","v":{"$error":"#REF!"}}]
[null,null,null,null,null,null,null,null,null,{"$f":"(#REF!*60)+#REF!","v":{"$error":"#REF!"}},{"$f":"J563-#REF!","v":{"$error":"#REF!"}}]
[null,null,null,null,null,null,null,null,null,{"$f":"(#REF!*60)+#REF!","v":{"$error":"#REF!"}},{"$f":"J564-#REF!","v":{"$error":"#REF!"}}]
[null,null,null,null,null,null,null,null,null,{"$f":"(#REF!*60)+#REF!","v":{"$error":"#REF!"}},{"$f":"J565-#REF!","v":{"$error":"#REF!"}}]
[null,null,null,null,null,null,null,null,null,{"$f":"(#REF!*60)+#REF!","v":{"$error":"#REF!"}},{"$f":"J566-#REF!","v":{"$error":"#REF!"}}]
[null,null,null,null,null,null,null,null,null,{"$f":"(#REF!*60)+#REF!","v":{"$error":"#REF!"}},{"$f":"J567-#REF!","v":{"$error":"#REF!"}}]
[null,null,null,null,null,null,null,null,null,{"$f":"(#REF!*60)+#REF!","v":{"$error":"#REF!"}},{"$f":"J568-#REF!","v":{"$error":"#REF!"}}]
[null,null,null,null,null,null,null,null,null,{"$f":"(#REF!*60)+#REF!","v":{"$error":"#REF!"}},{"$f":"J569-#REF!","v":{"$error":"#REF!"}}]
[null,null,null,null,null,null,null,null,null,{"$f":"(#REF!*60)+#REF!","v":{"$error":"#REF!"}},{"$f":"J570-#REF!","v":{"$error":"#REF!"}}]
[null,null,null,null,null,null,null,null,null,{"$f":"(#REF!*60)+#REF!","v":{"$error":"#REF!"}},{"$f":"J571-#REF!","v":{"$error":"#REF!"}}]
[null,null,null,null,null,null,null,null,null,{"$f":"(#REF!*60)+#REF!","v":{"$error":"#REF!"}},{"$f":"J572-#REF!","v":{"$error":"#REF!"}}]
[null,null,null,null,null,null,null,null,null,{"$f":"(#REF!*60)+#REF!","v":{"$error":"#REF!"}},{"$f":"J573-#REF!","v":{"$error":"#REF!"}}]
[null,null,null,null,null,null,null,null,null,{"$f":"(#REF!*60)+#REF!","v":{"$error":"#REF!"}},{"$f":"J574-#REF!","v":{"$error":"#REF!"}}]
[null,null,null,null,null,null,null,null,null,{"$f":"(#REF!*60)+#REF!","v":{"$error":"#REF!"}},{"$f":"J575-#REF!","v":{"$error":"#REF!"}}]
[null,null,null,null,null,null,null,null,null,{"$f":"(#REF!*60)+#REF!","v":{"$error":"#REF!"}},{"$f":"J576-#REF!","v":{"$error":"#REF!"}}]
[null,null,null,null,null,null,null,null,null,{"$f":"(#REF!*60)+#REF!","v":{"$error":"#REF!"}},{"$f":"J577-#REF!","v":{"$error":"#REF!"}}]
[null,null,null,null,null,null,null,null,null,{"$f":"(#REF!*60)+#REF!","v":{"$error":"#REF!"}},{"$f":"J578-#REF!","v":{"$error":"#REF!"}}]
[null,null,null,null,null,null,null,null,null,{"$f":"(#REF!*60)+#REF!","v":{"$error":"#REF!"}},{"$f":"J579-#REF!","v":{"$error":"#REF!"}}]
[null,null,null,null,null,null,null,null,null,{"$f":"(#REF!*60)+#REF!","v":{"$error":"#REF!"}},{"$f":"J580-#REF!","v":{"$error":"#REF!"}}]
[null,null,null,null,null,null,null,null,null,{"$f":"(#REF!*60)+#REF!","v":{"$error":"#REF!"}},{"$f":"J581-#REF!","v":{"$error":"#REF!"}}]
[null,null,null,null,null,null,null,null,null,{"$f":"(#REF!*60)+#REF!","v":{"$error":"#REF!"}},{"$f":"J582-#REF!","v":{"$error":"#REF!"}}]
[null,null,null,null,null,null,null,null,null,{"$f":"(#REF!*60)+#REF!","v":{"$error":"#REF!"}},{"$f":"J583-#REF!","v":{"$error":"#REF!"}}]
[null,null,null,null,null,null,null,null,null,{"$f":"(#REF!*60)+#REF!","v":{"$error":"#REF!"}},{"$f":"J584-#REF!","v":{"$error":"#REF!"}}]
[null,null,null,null,null,null,null,null,null,{"$f":"(#REF!*60)+#REF!","v":{"$error":"#REF!"}},{"$f":"J585-#REF!","v":{"$error":"#REF!"}}]
[null,null,null,null,null,null,null,null,null,{"$f":"(#REF!*60)+#REF!","v":{"$error":"#REF!"}},{"$f":"J586-#REF!","v":{"$error":"#REF!"}}]
[null,null,null,null,null,null,null,null,null,{"$f":"(#REF!*60)+#REF!","v":{"$error":"#REF!"}},{"$f":"J587-#REF!","v":{"$error":"#REF!"}}]
[null,null,null,null,null,null,null,null,null,{"$f":"(#REF!*60)+#REF!","v":{"$error":"#REF!"}},{"$f":"J588-#REF!","v":{"$error":"#REF!"}}]
[null,null,null,null,null,null,null,null,null,{"$f":"(#REF!*60)+#REF!","v":{"$error":"#REF!"}},{"$f":"J589-#REF!","v":{"$error":"#REF!"}}]
[null,null,null,null,null,null,null,null,null,{"$f":"(#REF!*60)+#REF!","v":{"$error":"#REF!"}},{"$f":"J590-#REF!","v":{"$error":"#REF!"}}]
[null,null,null,null,null,null,null,null,null,{"$f":"(#REF!*60)+#REF!","v":{"$error":"#REF!"}},{"$f":"J591-#REF!","v":{"$error":"#REF!"}}]
[null,null,null,null,null,null,null,null,null,{"$f":"(#REF!*60)+#REF!","v":{"$error":"#REF!"}},{"$f":"J592-#REF!","v":{"$error":"#REF!"}}]
[null,null,null,null,null,null,null,null,null,{"$f":"(#REF!*60)+#REF!","v":{"$error":"#REF!"}},{"$f":"J593-#REF!","v":{"$error":"#REF!"}}]
[null,null,null,null,null,null,null,null,null,{"$f":"(#REF!*60)+#REF!","v":{"$error":"#REF!"}},{"$f":"J594-#REF!","v":{"$error":"#REF!"}}]
[null,null,null,null,null,null,null,null,null,{"$f":"(#REF!*60)+#REF!","v":{"$error":"#REF!"}},{"$f":"J595-#REF!","v":{"$error":"#REF!"}}]
[null,null,null,null,null,null,null,null,null,{"$f":"(#REF!*60)+#REF!","v":{"$error":"#REF!"}},{"$f":"J596-#REF!","v":{"$error":"#REF!"}}]
[null,null,null,null,null,null,null,null,null,{"$f":"(#REF!*60)+#REF!","v":{"$error":"#REF!"}},{"$f":"J597-#REF!","v":{"$error":"#REF!"}}]
[null,null,null,null,null,null,null,null,null,{"$f":"(#REF!*60)+#REF!","v":{"$error":"#REF!"}},{"$f":"J598-#REF!","v":{"$error":"#REF!"}}]
[null,null,null,null,null,null,null,null,null,{"$f":"(#REF!*60)+#REF!","v":{"$error":"#REF!"}},{"$f":"J599-#REF!","v":{"$error":"#REF!"}}]
[null,null,null,null,null,null,null,null,null,{"$f":"(#REF!*60)+#REF!","v":{"$error":"#REF!"}},{"$f":"J600-#REF!","v":{"$error":"#REF!"}}]
[null,null,null,null,null,null,null,null,null,{"$f":"(#REF!*60)+#REF!","v":{"$error":"#REF!"}},{"$f":"J601-#REF!","v":{"$error":"#REF!"}}]
[null,null,null,null,null,null,null,null,null,{"$f":"(#REF!*60)+#REF!","v":{"$error":"#REF!"}},{"$f":"J602-#REF!","v":{"$error":"#REF!"}}]
[null,null,null,null,null,null,null,null,null,{"$f":"(#REF!*60)+#REF!","v":{"$error":"#REF!"}},{"$f":"J603-#REF!","v":{"$error":"#REF!"}}]
[null,null,null,null,null,null,null,null,null,{"$f":"(#REF!*60)+#REF!","v":{"$error":"#REF!"}},{"$f":"J604-#REF!","v":{"$error":"#REF!"}}]
[null,null,null,null,null,null,null,null,null,{"$f":"(#REF!*60)+#REF!","v":{"$error":"#REF!"}},{"$f":"J605-#REF!","v":{"$error":"#REF!"}}]
[null,null,null,null,null,null,null,null,null,{"$f":"(#REF!*60)+#REF!","v":{"$error":"#REF!"}},{"$f":"J606-#REF!","v":{"$error":"#REF!"}}]
[null,null,null,null,null,null,null,null,null,{"$f":"(#REF!*60)+#REF!","v":{"$error":"#REF!"}},{"$f":"J607-#REF!","v":{"$error":"#REF!"}}]
[null,null,null,null,null,null,null,null,null,{"$f":"(#REF!*60)+#REF!","v":{"$error":"#REF!"}},{"$f":"J608-#REF!","v":{"$error":"#REF!"}}]
[null,null,null,null,null,null,null,null,null,{"$f":"(#REF!*60)+#REF!","v":{"$error":"#REF!"}},{"$f":"J609-#REF!","v":{"$error":"#REF!"}}]
[null,null,null,null,null,null,null,null,null,{"$f":"(#REF!*60)+#REF!","v":{"$error":"#REF!"}},{"$f":"J610-#REF!","v":{"$error":"#REF!"}}]
[null,null,null,null,null,null,null,null,null,{"$f":"(#REF!*60)+#REF!","v":{"$error":"#REF!"}},{"$f":"J611-#REF!","v":{"$error":"#REF!"}}]
[null,null,null,null,null,null,null,null,null,{"$f":"(#REF!*60)+#REF!","v":{"$error":"#REF!"}},{"$f":"J612-#REF!","v":{"$error":"#REF!"}}]
[null,null,null,null,null,null,null,null,null,{"$f":"(#REF!*60)+#REF!","v":{"$error":"#REF!"}},{"$f":"J613-#REF!","v":{"$error":"#REF!"}}]
[null,null,null,null,null,null,null,null,null,{"$f":"(#REF!*60)+#REF!","v":{"$error":"#REF!"}},{"$f":"J614-#REF!","v":{"$error":"#REF!"}}]
[null,null,null,null,null,null,null,null,null,{"$f":"(#REF!*60)+#REF!","v":{"$error":"#REF!"}},{"$f":"J615-#REF!","v":{"$error":"#REF!"}}]
[null,null,null,null,null,null,null,null,null,{"$f":"(#REF!*60)+#REF!","v":{"$error":"#REF!"}},{"$f":"J616-#REF!","v":{"$error":"#REF!"}}]
[null,null,null,null,null,null,null,null,null,{"$f":"(#REF!*60)+#REF!","v":{"$error":"#REF!"}},{"$f":"J617-#REF!","v":{"$error":"#REF!"}}]
[null,null,null,null,null,null,null,null,null,{"$f":"(#REF!*60)+#REF!","v":{"$error":"#REF!"}},{"$f":"J618-#REF!","v":{"$error":"#REF!"}}]
[null,null,null,null,null,null,null,null,null,{"$f":"(#REF!*60)+#REF!","v":{"$error":"#REF!"}},{"$f":"J619-#REF!","v":{"$error":"#REF!"}}]
[null,null,null,null,null,null,null,null,null,{"$f":"(#REF!*60)+#REF!","v":{"$error":"#REF!"}},{"$f":"J620-#REF!","v":{"$error":"#REF!"}}]
[null,null,null,null,null,null,null,null,null,{"$f":"(#REF!*60)+#REF!","v":{"$error":"#REF!"}},{"$f":"J621-#REF!","v":{"$error":"#REF!"}}]
[null,null,null,null,null,null,null,null,null,{"$f":"(#REF!*60)+#REF!","v":{"$error":"#REF!"}},{"$f":"J622-#REF!","v":{"$error":"#REF!"}}]
[null,null,null,null,null,null,null,null,null,{"$f":"(#REF!*60)+#REF!","v":{"$error":"#REF!"}},{"$f":"J623-#REF!","v":{"$error":"#REF!"}}]
[null,null,null,null,null,null,null,null,null,{"$f":"(#REF!*60)+#REF!","v":{"$error":"#REF!"}},{"$f":"J624-#REF!","v":{"$error":"#REF!"}}]
[null,null,null,null,null,null,null,null,null,{"$f":"(#REF!*60)+#REF!","v":{"$error":"#REF!"}},{"$f":"J625-#REF!","v":{"$error":"#REF!"}}]
[null,null,null,null,null,null,null,null,null,{"$f":"(#REF!*60)+#REF!","v":{"$error":"#REF!"}},{"$f":"J626-#REF!","v":{"$error":"#REF!"}}]
[null,null,null,null,null,null,null,null,null,{"$f":"(#REF!*60)+#REF!","v":{"$error":"#REF!"}},{"$f":"J627-#REF!","v":{"$error":"#REF!"}}]
[null,null,null,null,null,null,null,null,null,{"$f":"(#REF!*60)+#REF!","v":{"$error":"#REF!"}},{"$f":"J628-#REF!","v":{"$error":"#REF!"}}]
[null,null,null,null,null,null,null,null,null,{"$f":"(#REF!*60)+#REF!","v":{"$error":"#REF!"}},{"$f":"J629-#REF!","v":{"$error":"#REF!"}}]
[null,null,null,null,null,null,null,null,null,{"$f":"(#REF!*60)+#REF!","v":{"$error":"#REF!"}},{"$f":"J630-#REF!","v":{"$error":"#REF!"}}]
[null,null,null,null,null,null,null,null,null,{"$f":"(#REF!*60)+#REF!","v":{"$error":"#REF!"}},{"$f":"J631-#REF!","v":{"$error":"#REF!"}}]
[null,null,null,null,null,null,null,null,null,{"$f":"(#REF!*60)+#REF!","v":{"$error":"#REF!"}},{"$f":"J632-#REF!","v":{"$error":"#REF!"}}]
[null,null,null,null,null,null,null,null,null,{"$f":"(#REF!*60)+#REF!","v":{"$error":"#REF!"}},{"$f":"J633-#REF!","v":{"$error":"#REF!"}}]
[null,null,null,null,null,null,null,null,null,{"$f":"(#REF!*60)+#REF!","v":{"$error":"#REF!"}},{"$f":"J634-#REF!","v":{"$error":"#REF!"}}]
[null,null,null,null,null,null,null,null,null,{"$f":"(#REF!*60)+#REF!","v":{"$error":"#REF!"}},{"$f":"J635-#REF!","v":{"$error":"#REF!"}}]
[null,null,null,null,null,null,null,null,null,{"$f":"(#REF!*60)+#REF!","v":{"$error":"#REF!"}},{"$f":"J636-#REF!","v":{"$error":"#REF!"}}]
[null,null,null,null,null,null,null,null,null,{"$f":"(#REF!*60)+#REF!","v":{"$error":"#REF!"}},{"$f":"J637-#REF!","v":{"$error":"#REF!"}}]
[null,null,null,null,null,null,null,null,null,{"$f":"(#REF!*60)+#REF!","v":{"$error":"#REF!"}},{"$f":"J638-#REF!","v":{"$error":"#REF!"}}]
[null,null,null,null,null,null,null,null,null,{"$f":"(#REF!*60)+#REF!","v":{"$error":"#REF!"}},{"$f":"J639-#REF!","v":{"$error":"#REF!"}}]
[null,null,null,null,null,null,null,null,null,{"$f":"(#REF!*60)+#REF!","v":{"$error":"#REF!"}},{"$f":"J640-#REF!","v":{"$error":"#REF!"}}]
[null,null,null,null,null,null,null,null,null,{"$f":"(#REF!*60)+#REF!","v":{"$error":"#REF!"}},{"$f":"J641-#REF!","v":{"$error":"#REF!"}}]
[null,null,null,null,null,null,null,null,null,{"$f":"(#REF!*60)+#REF!","v":{"$error":"#REF!"}},{"$f":"J642-#REF!","v":{"$error":"#REF!"}}]
[null,null,null,null,null,null,null,null,null,{"$f":"(#REF!*60)+#REF!","v":{"$error":"#REF!"}},{"$f":"J643-#REF!","v":{"$error":"#REF!"}}]
[null,null,null,null,null,null,null,null,null,{"$f":"(#REF!*60)+#REF!","v":{"$error":"#REF!"}},{"$f":"J644-#REF!","v":{"$error":"#REF!"}}]
[null,null,null,null,null,null,null,null,null,{"$f":"(#REF!*60)+#REF!","v":{"$error":"#REF!"}},{"$f":"J645-#REF!","v":{"$error":"#REF!"}}]
[null,null,null,null,null,null,null,null,null,{"$f":"(#REF!*60)+#REF!","v":{"$error":"#REF!"}},{"$f":"J646-#REF!","v":{"$error":"#REF!"}}]
[null,null,null,null,null,null,null,null,null,{"$f":"(#REF!*60)+#REF!","v":{"$error":"#REF!"}},{"$f":"J647-#REF!","v":{"$error":"#REF!"}}]
[null,null,null,null,null,null,null,null,null,{"$f":"(#REF!*60)+#REF!","v":{"$error":"#REF!"}},{"$f":"J648-#REF!","v":{"$error":"#REF!"}}]
[null,null,null,null,null,null,null,null,null,{"$f":"(#REF!*60)+#REF!","v":{"$error":"#REF!"}},{"$f":"J649-#REF!","v":{"$error":"#REF!"}}]
[null,null,null,null,null,null,null,null,null,{"$f":"(#REF!*60)+#REF!","v":{"$error":"#REF!"}},{"$f":"J650-#REF!","v":{"$error":"#REF!"}}]
[null,null,null,null,null,null,null,null,null,{"$f":"(#REF!*60)+#REF!","v":{"$error":"#REF!"}},{"$f":"J651-#REF!","v":{"$error":"#REF!"}}]
[null,null,null,null,null,null,null,null,null,{"$f":"(#REF!*60)+#REF!","v":{"$error":"#REF!"}},{"$f":"J652-#REF!","v":{"$error":"#REF!"}}]
[null,null,null,null,null,null,null,null,null,{"$f":"(#REF!*60)+#REF!","v":{"$error":"#REF!"}},{"$f":"J653-#REF!","v":{"$error":"#REF!"}}]
[null,null,null,null,null,null,null,null,null,{"$f":"(#REF!*60)+#REF!","v":{"$error":"#REF!"}},{"$f":"J654-#REF!","v":{"$error":"#REF!"}}]
[null,null,null,null,null,null,null,null,null,{"$f":"(#REF!*60)+#REF!","v":{"$error":"#REF!"}},{"$f":"J655-#REF!","v":{"$error":"#REF!"}}]
[null,null,null,null,null,null,null,null,null,{"$f":"(#REF!*60)+#REF!","v":{"$error":"#REF!"}},{"$f":"J656-#REF!","v":{"$error":"#REF!"}}]
[null,null,null,null,null,null,null,null,null,{"$f":"(#REF!*60)+#REF!","v":{"$error":"#REF!"}},{"$f":"J657-#REF!","v":{"$error":"#REF!"}}]
[null,null,null,null,null,null,null,null,null,{"$f":"(#REF!*60)+#REF!","v":{"$error":"#REF!"}},{"$f":"J658-#REF!","v":{"$error":"#REF!"}}]
[null,null,null,null,null,null,null,null,null,{"$f":"(#REF!*60)+#REF!","v":{"$error":"#REF!"}},{"$f":"J659-#REF!","v":{"$error":"#REF!"}}]
[null,null,null,null,null,null,null,null,null,{"$f":"(#REF!*60)+#REF!","v":{"$error":"#REF!"}},{"$f":"J660-#REF!","v":{"$error":"#REF!"}}]
[null,null,null,null,null,null,null,null,null,{"$f":"(#REF!*60)+#REF!","v":{"$error":"#REF!"}},{"$f":"J661-#REF!","v":{"$error":"#REF!"}}]
[null,null,null,null,null,null,null,null,null,{"$f":"(#REF!*60)+#REF!","v":{"$error":"#REF!"}},{"$f":"J662-#REF!","v":{"$error":"#REF!"}}]
[null,null,null,null,null,null,null,null,null,{"$f":"(#REF!*60)+#REF!","v":{"$error":"#REF!"}},{"$f":"J663-#REF!","v":{"$error":"#REF!"}}]
[null,null,null,null,null,null,null,null,null,{"$f":"(#REF!*60)+#REF!","v":{"$error":"#REF!"}},{"$f":"J664-#REF!","v":{"$error":"#REF!"}}]
[null,null,null,null,null,null,null,null,null,{"$f":"(#REF!*60)+#REF!","v":{"$error":"#REF!"}},{"$f":"J665-#REF!","v":{"$error":"#REF!"}}]
[null,null,null,null,null,null,null,null,null,{"$f":"(#REF!*60)+#REF!","v":{"$error":"#REF!"}},{"$f":"J666-#REF!","v":{"$error":"#REF!"}}]
[null,null,null,null,null,null,null,null,null,{"$f":"(#REF!*60)+#REF!","v":{"$error":"#REF!"}},{"$f":"J667-#REF!","v":{"$error":"#REF!"}}]
[null,null,null,null,null,null,null,null,null,{"$f":"(#REF!*60)+#REF!","v":{"$error":"#REF!"}},{"$f":"J668-#REF!","v":{"$error":"#REF!"}}]
[null,null,null,null,null,null,null,null,null,{"$f":"(#REF!*60)+#REF!","v":{"$error":"#REF!"}},{"$f":"J669-#REF!","v":{"$error":"#REF!"}}]
[null,null,null,null,null,null,null,null,null,{"$f":"(#REF!*60)+#REF!","v":{"$error":"#REF!"}},{"$f":"J670-#REF!","v":{"$error":"#REF!"}}]
[null,null,null,null,null,null,null,null,null,{"$f":"(#REF!*60)+#REF!","v":{"$error":"#REF!"}},{"$f":"J671-#REF!","v":{"$error":"#REF!"}}]
[null,null,null,null,null,null,null,null,null,{"$f":"(#REF!*60)+#REF!","v":{"$error":"#REF!"}},{"$f":"J672-#REF!","v":{"$error":"#REF!"}}]
[null,null,null,null,null,null,null,null,null,{"$f":"(#REF!*60)+#REF!","v":{"$error":"#REF!"}},{"$f":"J673-#REF!","v":{"$error":"#REF!"}}]
[null,null,null,null,null,null,null,null,null,{"$f":"(#REF!*60)+#REF!","v":{"$error":"#REF!"}},{"$f":"J674-#REF!","v":{"$error":"#REF!"}}]
[null,null,null,null,null,null,null,null,null,{"$f":"(#REF!*60)+#REF!","v":{"$error":"#REF!"}},{"$f":"J675-#REF!","v":{"$error":"#REF!"}}]
[null,null,null,null,null,null,null,null,null,{"$f":"(#REF!*60)+#REF!","v":{"$error":"#REF!"}},{"$f":"J676-#REF!","v":{"$error":"#REF!"}}]
[null,null,null,null,null,null,null,null,null,{"$f":"(#REF!*60)+#REF!","v":{"$error":"#REF!"}},{"$f":"J677-#REF!","v":{"$error":"#REF!"}}]
[null,null,null,null,null,null,null,null,null,{"$f":"(#REF!*60)+#REF!","v":{"$error":"#REF!"}},{"$f":"J678-#REF!","v":{"$error":"#REF!"}}]
[null,null,null,null,null,null,null,null,null,{"$f":"(#REF!*60)+#REF!","v":{"$error":"#REF!"}},{"$f":"J679-#REF!","v":{"$error":"#REF!"}}]
[null,null,null,null,null,null,null,null,null,{"$f":"(#REF!*60)+#REF!","v":{"$error":"#REF!"}},{"$f":"J680-#REF!","v":{"$error":"#REF!"}}]
[null,null,null,null,null,null,null,null,null,{"$f":"(#REF!*60)+#REF!","v":{"$error":"#REF!"}},{"$f":"J681-#REF!","v":{"$error":"#REF!"}}]
[null,null,null,null,null,null,null,null,null,{"$f":"(#REF!*60)+#REF!","v":{"$error":"#REF!"}},{"$f":"J682-#REF!","v":{"$error":"#REF!"}}]
[null,null,null,null,null,null,null,null,null,{"$f":"(#REF!*60)+#REF!","v":{"$error":"#REF!"}},{"$f":"J683-#REF!","v":{"$error":"#REF!"}}]
[null,null,null,null,null,null,null,null,null,{"$f":"(#REF!*60)+#REF!","v":{"$error":"#REF!"}},{"$f":"J684-#REF!","v":{"$error":"#REF!"}}]
[null,null,null,null,null,null,null,null,null,{"$f":"(#REF!*60)+#REF!","v":{"$error":"#REF!"}},{"$f":"J685-#REF!","v":{"$error":"#REF!"}}]
[null,null,null,null,null,null,null,null,null,{"$f":"(#REF!*60)+#REF!","v":{"$error":"#REF!"}},{"$f":"J686-#REF!","v":{"$error":"#REF!"}}]
[null,null,null,null,null,null,null,null,null,{"$f":"(#REF!*60)+#REF!","v":{"$error":"#REF!"}},{"$f":"J687-#REF!","v":{"$error":"#REF!"}}]
[null,null,null,null,null,null,null,null,null,{"$f":"(#REF!*60)+#REF!","v":{"$error":"#REF!"}},{"$f":"J688-#REF!","v":{"$error":"#REF!"}}]
[null,null,null,null,null,null,null,null,null,{"$f":"(#REF!*60)+#REF!","v":{"$error":"#REF!"}},{"$f":"J689-#REF!","v":{"$error":"#REF!"}}]
[null,null,null,null,null,null,null,null,null,{"$f":"(#REF!*60)+#REF!","v":{"$error":"#REF!"}},{"$f":"J690-#REF!","v":{"$error":"#REF!"}}]
[null,null,null,null,null,null,null,null,null,{"$f":"(#REF!*60)+#REF!","v":{"$error":"#REF!"}},{"$f":"J691-#REF!","v":{"$error":"#REF!"}}]
[null,null,null,null,null,null,null,null,null,{"$f":"(#REF!*60)+#REF!","v":{"$error":"#REF!"}},{"$f":"J692-#REF!","v":{"$error":"#REF!"}}]
[null,null,null,null,null,null,null,null,null,{"$f":"(#REF!*60)+#REF!","v":{"$error":"#REF!"}},{"$f":"J693-#REF!","v":{"$error":"#REF!"}}]
[null,null,null,null,null,null,null,null,null,{"$f":"(#REF!*60)+#REF!","v":{"$error":"#REF!"}},{"$f":"J694-#REF!","v":{"$error":"#REF!"}}]
[null,null,null,null,null,null,null,null,null,{"$f":"(#REF!*60)+#REF!","v":{"$error":"#REF!"}},{"$f":"J695-#REF!","v":{"$error":"#REF!"}}]
[null,null,null,null,null,null,null,null,null,{"$f":"(#REF!*60)+#REF!","v":{"$error":"#REF!"}},{"$f":"J696-#REF!","v":{"$error":"#REF!"}}]
[null,null,null,null,null,null,null,null,null,{"$f":"(#REF!*60)+#REF!","v":{"$error":"#REF!"}},{"$f":"J697-#REF!","v":{"$error":"#REF!"}}]
[null,null,null,null,null,null,null,null,null,{"$f":"(#REF!*60)+#REF!","v":{"$error":"#REF!"}},{"$f":"J698-#REF!","v":{"$error":"#REF!"}}]
[null,null,null,null,null,null,null,null,null,{"$f":"(#REF!*60)+#REF!","v":{"$error":"#REF!"}},{"$f":"J699-#REF!","v":{"$error":"#REF!"}}]
[null,null,null,null,null,null,null,null,null,{"$f":"(#REF!*60)+#REF!","v":{"$error":"#REF!"}},{"$f":"J700-#REF!","v":{"$error":"#REF!"}}]
[null,null,null,null,null,null,null,null,null,{"$f":"(#REF!*60)+#REF!","v":{"$error":"#REF!"}},{"$f":"J701-#REF!","v":{"$error":"#REF!"}}]
[null,null,null,null,null,null,null,null,null,{"$f":"(#REF!*60)+#REF!","v":{"$error":"#REF!"}},{"$f":"J702-#REF!","v":{"$error":"#REF!"}}]
[null,null,null,null,null,null,null,null,null,{"$f":"(#REF!*60)+#REF!","v":{"$error":"#REF!"}},{"$f":"J703-#REF!","v":{"$error":"#REF!"}}]
[null,null,null,null,null,null,null,null,null,{"$f":"(#REF!*60)+#REF!","v":{"$error":"#REF!"}},{"$f":"J704-#REF!","v":{"$error":"#REF!"}}]
[null,null,null,null,null,null,null,null,null,{"$f":"(#REF!*60)+#REF!","v":{"$error":"#REF!"}},{"$f":"J705-#REF!","v":{"$error":"#REF!"}}]
[null,null,null,null,null,null,null,null,null,{"$f":"(#REF!*60)+#REF!","v":{"$error":"#REF!"}},{"$f":"J706-#REF!","v":{"$error":"#REF!"}}]
[null,null,null,null,null,null,null,null,null,{"$f":"(#REF!*60)+#REF!","v":{"$error":"#REF!"}},{"$f":"J707-#REF!","v":{"$error":"#REF!"}}]
[null,null,null,null,null,null,null,null,null,{"$f":"(#REF!*60)+#REF!","v":{"$error":"#REF!"}},{"$f":"J708-#REF!","v":{"$error":"#REF!"}}]
[null,null,null,null,null,null,null,null,null,{"$f":"(#REF!*60)+#REF!","v":{"$error":"#REF!"}},{"$f":"J709-#REF!","v":{"$error":"#REF!"}}]
[null,null,null,null,null,null,null,null,null,{"$f":"(#REF!*60)+#REF!","v":{"$error":"#REF!"}},{"$f":"J710-#REF!","v":{"$error":"#REF!"}}]
[null,null,null,null,null,null,null,null,null,{"$f":"(#REF!*60)+#REF!","v":{"$error":"#REF!"}},{"$f":"J711-#REF!","v":{"$error":"#REF!"}}]
[null,null,null,null,null,null,null,null,null,{"$f":"(#REF!*60)+#REF!","v":{"$error":"#REF!"}},{"$f":"J712-#REF!","v":{"$error":"#REF!"}}]
[null,null,null,null,null,null,null,null,null,{"$f":"(#REF!*60)+#REF!","v":{"$error":"#REF!"}},{"$f":"J713-#REF!","v":{"$error":"#REF!"}}]
[null,null,null,null,null,null,null,null,null,{"$f":"(#REF!*60)+#REF!","v":{"$error":"#REF!"}},{"$f":"J714-#REF!","v":{"$error":"#REF!"}}]
[null,null,null,null,null,null,null,null,null,{"$f":"(#REF!*60)+#REF!","v":{"$error":"#REF!"}},{"$f":"J715-#REF!","v":{"$error":"#REF!"}}]
[null,null,null,null,null,null,null,null,null,{"$f":"(#REF!*60)+#REF!","v":{"$error":"#REF!"}},{"$f":"J716-#REF!","v":{"$error":"#REF!"}}]
[null,null,null,null,null,null,null,null,null,{"$f":"(#REF!*60)+#REF!","v":{"$error":"#REF!"}},{"$f":"J717-#REF!","v":{"$error":"#REF!"}}]
[null,null,null,null,null,null,null,null,null,{"$f":"(#REF!*60)+#REF!","v":{"$error":"#REF!"}},{"$f":"J718-#REF!","v":{"$error":"#REF!"}}]
[null,null,null,null,null,null,null,null,null,{"$f":"(#REF!*60)+#REF!","v":{"$error":"#REF!"}},{"$f":"J719-#REF!","v":{"$error":"#REF!"}}]
[null,null,null,null,null,null,null,null,null,{"$f":"(#REF!*60)+#REF!","v":{"$error":"#REF!"}},{"$f":"J720-#REF!","v":{"$error":"#REF!"}}]
[null,null,null,null,null,null,null,null,null,{"$f":"(#REF!*60)+#REF!","v":{"$error":"#REF!"}},{"$f":"J721-#REF!","v":{"$error":"#REF!"}}]
[null,null,null,null,null,null,null,null,null,{"$f":"(#REF!*60)+#REF!","v":{"$error":"#REF!"}},{"$f":"J722-#REF!","v":{"$error":"#REF!"}}]
[null,null,null,null,null,null,null,null,null,{"$f":"(#REF!*60)+#REF!","v":{"$error":"#REF!"}},{"$f":"J723-#REF!","v":{"$error":"#REF!"}}]
[null,null,null,null,null,null,null,null,null,{"$f":"(#REF!*60)+#REF!","v":{"$error":"#REF!"}},{"$f":"J724-#REF!","v":{"$error":"#REF!"}}]
[null,null,null,null,null,null,null,null,null,{"$f":"(#REF!*60)+#REF!","v":{"$error":"#REF!"}},{"$f":"J725-#REF!","v":{"$error":"#REF!"}}]
[null,null,null,null,null,null,null,null,null,{"$f":"(#REF!*60)+#REF!","v":{"$error":"#REF!"}},{"$f":"J726-#REF!","v":{"$error":"#REF!"}}]
[null,null,null,null,null,null,null,null,null,{"$f":"(#REF!*60)+#REF!","v":{"$error":"#REF!"}},{"$f":"J727-#REF!","v":{"$error":"#REF!"}}]
[null,null,null,null,null,null,null,null,null,{"$f":"(#REF!*60)+#REF!","v":{"$error":"#REF!"}},{"$f":"J728-#REF!","v":{"$error":"#REF!"}}]
[null,null,null,null,null,null,null,null,null,{"$f":"(#REF!*60)+#REF!","v":{"$error":"#REF!"}},{"$f":"J729-#REF!","v":{"$error":"#REF!"}}]
[null,null,null,null,null,null,null,null,null,{"$f":"(#REF!*60)+#REF!","v":{"$error":"#REF!"}},{"$f":"J730-#REF!","v":{"$error":"#REF!"}}]
[null,null,null,null,null,null,null,null,null,{"$f":"(#REF!*60)+#REF!","v":{"$error":"#REF!"}},{"$f":"J731-#REF!","v":{"$error":"#REF!"}}]
[null,null,null,null,null,null,null,null,null,{"$f":"(#REF!*60)+#REF!","v":{"$error":"#REF!"}},{"$f":"J732-#REF!","v":{"$error":"#REF!"}}]
[null,null,null,null,null,null,null,null,null,{"$f":"(#REF!*60)+#REF!","v":{"$error":"#REF!"}},{"$f":"J733-#REF!","v":{"$error":"#REF!"}}]
[null,null,null,null,null,null,null,null,null,{"$f":"(#REF!*60)+#REF!","v":{"$error":"#REF!"}},{"$f":"J734-#REF!","v":{"$error":"#REF!"}}]
[null,null,null,null,null,null,null,null,null,{"$f":"(#REF!*60)+#REF!","v":{"$error":"#REF!"}},{"$f":"J735-#REF!","v":{"$error":"#REF!"}}]
[null,null,null,null,null,null,null,null,null,{"$f":"(#REF!*60)+#REF!","v":{"$error":"#REF!"}},{"$f":"J736-#REF!","v":{"$error":"#REF!"}}]
[null,null,null,null,null,null,null,null,null,{"$f":"(#REF!*60)+#REF!","v":{"$error":"#REF!"}},{"$f":"J737-#REF!","v":{"$error":"#REF!"}}]
[null,null,null,null,null,null,null,null,null,{"$f":"(#REF!*60)+#REF!","v":{"$error":"#REF!"}},{"$f":"J738-#REF!","v":{"$error":"#REF!"}}]
[null,null,null,null,null,null,null,null,null,{"$f":"(#REF!*60)+#REF!","v":{"$error":"#REF!"}},{"$f":"J739-#REF!","v":{"$error":"#REF!"}}]
[null,null,null,null,null,null,null,null,null,{"$f":"(#REF!*60)+#REF!","v":{"$error":"#REF!"}},{"$f":"J740-#REF!","v":{"$error":"#REF!"}}]
[null,null,null,null,null,null,null,null,null,{"$f":"(#REF!*60)+#REF!","v":{"$error":"#REF!"}},{"$f":"J741-#REF!","v":{"$error":"#REF!"}}]
[null,null,null,null,null,null,null,null,null,{"$f":"(#REF!*60)+#REF!","v":{"$error":"#REF!"}},{"$f":"J742-#REF!","v":{"$error":"#REF!"}}]
[null,null,null,null,null,null,null,null,null,{"$f":"(#REF!*60)+#REF!","v":{"$error":"#REF!"}},{"$f":"J743-#REF!","v":{"$error":"#REF!"}}]
[null,null,null,null,null,null,null,null,null,{"$f":"(#REF!*60)+#REF!","v":{"$error":"#REF!"}},{"$f":"J744-#REF!","v":{"$error":"#REF!"}}]
[null,null,null,null,null,null,null,null,null,{"$f":"(#REF!*60)+#REF!","v":{"$error":"#REF!"}},{"$f":"J745-#REF!","v":{"$error":"#REF!"}}]
[null,null,null,null,null,null,null,null,null,{"$f":"(#REF!*60)+#REF!","v":{"$error":"#REF!"}},{"$f":"J746-#REF!","v":{"$error":"#REF!"}}]
[null,null,null,null,null,null,null,null,null,{"$f":"(#REF!*60)+#REF!","v":{"$error":"#REF!"}},{"$f":"J747-#REF!","v":{"$error":"#REF!"}}]
[null,null,null,null,null,null,null,null,null,{"$f":"(#REF!*60)+#REF!","v":{"$error":"#REF!"}},{"$f":"J748-#REF!","v":{"$error":"#REF!"}}]
[null,null,null,null,null,null,null,null,null,{"$f":"(#REF!*60)+#REF!","v":{"$error":"#REF!"}},{"$f":"J749-#REF!","v":{"$error":"#REF!"}}]
[null,null,null,null,null,null,null,null,null,{"$f":"(#REF!*60)+#REF!","v":{"$error":"#REF!"}},{"$f":"J750-#REF!","v":{"$error":"#REF!"}}]
[null,null,null,null,null,null,null,null,null,{"$f":"(#REF!*60)+#REF!","v":{"$error":"#REF!"}},{"$f":"J751-#REF!","v":{"$error":"#REF!"}}]
[null,null,null,null,null,null,null,null,null,{"$f":"(#REF!*60)+#REF!","v":{"$error":"#REF!"}},{"$f":"J752-#REF!","v":{"$error":"#REF!"}}]
[null,null,null,null,null,null,null,null,null,{"$f":"(#REF!*60)+#REF!","v":{"$error":"#REF!"}},{"$f":"J753-#REF!","v":{"$error":"#REF!"}}]
[null,null,null,null,null,null,null,null,null,{"$f":"(#REF!*60)+#REF!","v":{"$error":"#REF!"}},{"$f":"J754-#REF!","v":{"$error":"#REF!"}}]
[null,null,null,null,null,null,null,null,null,{"$f":"(#REF!*60)+#REF!","v":{"$error":"#REF!"}},{"$f":"J755-#REF!","v":{"$error":"#REF!"}}]
[null,null,null,null,null,null,null,null,null,{"$f":"(#REF!*60)+#REF!","v":{"$error":"#REF!"}},{"$f":"J756-#REF!","v":{"$error":"#REF!"}}]
[null,null,null,null,null,null,null,null,null,{"$f":"(#REF!*60)+#REF!","v":{"$error":"#REF!"}},{"$f":"J757-#REF!","v":{"$error":"#REF!"}}]
[null,null,null,null,null,null,null,null,null,{"$f":"(#REF!*60)+#REF!","v":{"$error":"#REF!"}},{"$f":"J758-#REF!","v":{"$error":"#REF!"}}]
[null,null,null,null,null,null,null,null,null,{"$f":"(#REF!*60)+#REF!","v":{"$error":"#REF!"}},{"$f":"J759-#REF!","v":{"$error":"#REF!"}}]
[null,null,null,null,null,null,null,null,null,{"$f":"(#REF!*60)+#REF!","v":{"$error":"#REF!"}},{"$f":"J760-#REF!","v":{"$error":"#REF!"}}]
[null,null,null,null,null,null,null,null,null,{"$f":"(#REF!*60)+#REF!","v":{"$error":"#REF!"}},{"$f":"J761-#REF!","v":{"$error":"#REF!"}}]
[null,null,null,null,null,null,null,null,null,{"$f":"(#REF!*60)+#REF!","v":{"$error":"#REF!"}},{"$f":"J762-#REF!","v":{"$error":"#REF!"}}]
[null,null,null,null,null,null,null,null,null,{"$f":"(#REF!*60)+#REF!","v":{"$error":"#REF!"}},{"$f":"J763-#REF!","v":{"$error":"#REF!"}}]
[null,null,null,null,null,null,null,null,null,{"$f":"(#REF!*60)+#REF!","v":{"$error":"#REF!"}},{"$f":"J764-#REF!","v":{"$error":"#REF!"}}]
[null,null,null,null,null,null,null,null,null,{"$f":"(#REF!*60)+#REF!","v":{"$error":"#REF!"}},{"$f":"J765-#REF!","v":{"$error":"#REF!"}}]
[null,null,null,null,null,null,null,null,null,{"$f":"(#REF!*60)+#REF!","v":{"$error":"#REF!"}},{"$f":"J766-#REF!","v":{"$error":"#REF!"}}]
[null,null,null,null,null,null,null,null,null,{"$f":"(#REF!*60)+#REF!","v":{"$error":"#REF!"}},{"$f":"J767-#REF!","v":{"$error":"#REF!"}}]
[null,null,null,null,null,null,null,null,null,{"$f":"(#REF!*60)+#REF!","v":{"$error":"#REF!"}},{"$f":"J768-#REF!","v":{"$error":"#REF!"}}]
[null,null,null,null,null,null,null,null,null,{"$f":"(#REF!*60)+#REF!","v":{"$error":"#REF!"}},{"$f":"J769-#REF!","v":{"$error":"#REF!"}}]
[null,null,null,null,null,null,null,null,null,{"$f":"(#REF!*60)+#REF!","v":{"$error":"#REF!"}},{"$f":"J770-#REF!","v":{"$error":"#REF!"}}]
[null,null,null,null,null,null,null,null,null,{"$f":"(#REF!*60)+#REF!","v":{"$error":"#REF!"}},{"$f":"J771-#REF!","v":{"$error":"#REF!"}}]
[null,null,null,null,null,null,null,null,null,{"$f":"(#REF!*60)+#REF!","v":{"$error":"#REF!"}},{"$f":"J772-#REF!","v":{"$error":"#REF!"}}]
[null,null,null,null,null,null,null,null,null,{"$f":"(#REF!*60)+#REF!","v":{"$error":"#REF!"}},{"$f":"J773-#REF!","v":{"$error":"#REF!"}}]
[null,null,null,null,null,null,null,null,null,{"$f":"(#REF!*60)+#REF!","v":{"$error":"#REF!"}},{"$f":"J774-#REF!","v":{"$error":"#REF!"}}]
[null,null,null,null,null,null,null,null,null,{"$f":"(#REF!*60)+#REF!","v":{"$error":"#REF!"}},{"$f":"J775-#REF!","v":{"$error":"#REF!"}}]
[null,null,null,null,null,null,null,null,null,{"$f":"(#REF!*60)+#REF!","v":{"$error":"#REF!"}},{"$f":"J776-#REF!","v":{"$error":"#REF!"}}]
[null,null,null,null,null,null,null,null,null,{"$f":"(#REF!*60)+#REF!","v":{"$error":"#REF!"}},{"$f":"J777-#REF!","v":{"$error":"#REF!"}}]
[null,null,null,null,null,null,null,null,null,{"$f":"(#REF!*60)+#REF!","v":{"$error":"#REF!"}},{"$f":"J778-#REF!","v":{"$error":"#REF!"}}]
[null,null,null,null,null,null,null,null,null,{"$f":"(#REF!*60)+#REF!","v":{"$error":"#REF!"}},{"$f":"J779-#REF!","v":{"$error":"#REF!"}}]
[null,null,null,null,null,null,null,null,null,{"$f":"(#REF!*60)+#REF!","v":{"$error":"#REF!"}},{"$f":"J780-#REF!","v":{"$error":"#REF!"}}]
[null,null,null,null,null,null,null,null,null,{"$f":"(#REF!*60)+#REF!","v":{"$error":"#REF!"}},{"$f":"J781-#REF!","v":{"$error":"#REF!"}}]
[null,null,null,null,null,null,null,null,null,{"$f":"(#REF!*60)+#REF!","v":{"$error":"#REF!"}},{"$f":"J782-#REF!","v":{"$error":"#REF!"}}]
[null,null,null,null,null,null,null,null,null,{"$f":"(#REF!*60)+#REF!","v":{"$error":"#REF!"}},{"$f":"J783-#REF!","v":{"$error":"#REF!"}}]
[null,null,null,null,null,null,null,null,null,{"$f":"(#REF!*60)+#REF!","v":{"$error":"#REF!"}},{"$f":"J784-#REF!","v":{"$error":"#REF!"}}]
[null,null,null,null,null,null,null,null,null,{"$f":"(#REF!*60)+#REF!","v":{"$error":"#REF!"}},{"$f":"J785-#REF!","v":{"$error":"#REF!"}}]
[null,null,null,null,null,null,null,null,null,{"$f":"(#REF!*60)+#REF!","v":{"$error":"#REF!"}},{"$f":"J786-#REF!","v":{"$error":"#REF!"}}]
[null,null,null,null,null,null,null,null,null,{"$f":"(#REF!*60)+#REF!","v":{"$error":"#REF!"}},{"$f":"J787-#REF!","v":{"$error":"#REF!"}}]
[null,null,null,null,null,null,null,null,null,{"$f":"(#REF!*60)+#REF!","v":{"$error":"#REF!"}},{"$f":"J788-#REF!","v":{"$error":"#REF!"}}]
[null,null,null,null,null,null,null,null,null,{"$f":"(#REF!*60)+#REF!","v":{"$error":"#REF!"}},{"$f":"J789-#REF!","v":{"$error":"#REF!"}}]
[null,null,null,null,null,null,null,null,null,{"$f":"(#REF!*60)+#REF!","v":{"$error":"#REF!"}},{"$f":"J790-#REF!","v":{"$error":"#REF!"}}]
[null,null,null,null,null,null,null,null,null,{"$f":"(#REF!*60)+#REF!","v":{"$error":"#REF!"}},{"$f":"J791-#REF!","v":{"$error":"#REF!"}}]
[null,null,null,null,null,null,null,null,null,{"$f":"(#REF!*60)+#REF!","v":{"$error":"#REF!"}},{"$f":"J792-#REF!","v":{"$error":"#REF!"}}]
[null,null,null,null,null,null,null,null,null,{"$f":"(#REF!*60)+#REF!","v":{"$error":"#REF!"}},{"$f":"J793-#REF!","v":{"$error":"#REF!"}}]
[null,null,null,null,null,null,null,null,null,{"$f":"(#REF!*60)+#REF!","v":{"$error":"#REF!"}},{"$f":"J794-#REF!","v":{"$error":"#REF!"}}]
[null,null,null,null,null,null,null,null,null,{"$f":"(#REF!*60)+#REF!","v":{"$error":"#REF!"}},{"$f":"J795-#REF!","v":{"$error":"#REF!"}}]
[null,null,null,null,null,null,null,null,null,{"$f":"(#REF!*60)+#REF!","v":{"$error":"#REF!"}},{"$f":"J796-#REF!","v":{"$error":"#REF!"}}]
[null,null,null,null,null,null,null,null,null,{"$f":"(#REF!*60)+#REF!","v":{"$error":"#REF!"}},{"$f":"J797-#REF!","v":{"$error":"#REF!"}}]
[null,null,null,null,null,null,null,null,null,{"$f":"(#REF!*60)+#REF!","v":{"$error":"#REF!"}},{"$f":"J798-#REF!","v":{"$error":"#REF!"}}]
[null,null,null,null,null,null,null,null,null,{"$f":"(#REF!*60)+#REF!","v":{"$error":"#REF!"}},{"$f":"J799-#REF!","v":{"$error":"#REF!"}}]
[null,null,null,null,null,null,null,null,null,{"$f":"(#REF!*60)+#REF!","v":{"$error":"#REF!"}},{"$f":"J800-#REF!","v":{"$error":"#REF!"}}]
[null,null,null,null,null,null,null,null,null,{"$f":"(#REF!*60)+#REF!","v":{"$error":"#REF!"}},{"$f":"J801-#REF!","v":{"$error":"#REF!"}}]
[null,null,null,null,null,null,null,null,null,{"$f":"(#REF!*60)+#REF!","v":{"$error":"#REF!"}},{"$f":"J802-#REF!","v":{"$error":"#REF!"}}]
[null,null,null,null,null,null,null,null,null,{"$f":"(#REF!*60)+#REF!","v":{"$error":"#REF!"}},{"$f":"J803-#REF!","v":{"$error":"#REF!"}}]
[null,null,null,null,null,null,null,null,null,{"$f":"(#REF!*60)+#REF!","v":{"$error":"#REF!"}},{"$f":"J804-#REF!","v":{"$error":"#REF!"}}]
[null,null,null,null,null,null,null,null,null,{"$f":"(#REF!*60)+#REF!","v":{"$error":"#REF!"}},{"$f":"J805-#REF!","v":{"$error":"#REF!"}}]
[null,null,null,null,null,null,null,null,null,{"$f":"(#REF!*60)+#REF!","v":{"$error":"#REF!"}},{"$f":"J806-#REF!","v":{"$error":"#REF!"}}]
[null,null,null,null,null,null,null,null,null,{"$f":"(#REF!*60)+#REF!","v":{"$error":"#REF!"}},{"$f":"J807-#REF!","v":{"$error":"#REF!"}}]
[null,null,null,null,null,null,null,null,null,{"$f":"(#REF!*60)+#REF!","v":{"$error":"#REF!"}},{"$f":"J808-#REF!","v":{"$error":"#REF!"}}]
[null,null,null,null,null,null,null,null,null,{"$f":"(#REF!*60)+#REF!","v":{"$error":"#REF!"}},{"$f":"J809-#REF!","v":{"$error":"#REF!"}}]
[null,null,null,null,null,null,null,null,null,{"$f":"(#REF!*60)+#REF!","v":{"$error":"#REF!"}},{"$f":"J810-#REF!","v":{"$error":"#REF!"}}]
[null,null,null,null,null,null,null,null,null,{"$f":"(#REF!*60)+#REF!","v":{"$error":"#REF!"}},{"$f":"J811-#REF!","v":{"$error":"#REF!"}}]
[null,null,null,null,null,null,null,null,null,{"$f":"(#REF!*60)+#REF!","v":{"$error":"#REF!"}},{"$f":"J812-#REF!","v":{"$error":"#REF!"}}]
[null,null,null,null,null,null,null,null,null,{"$f":"(#REF!*60)+#REF!","v":{"$error":"#REF!"}},{"$f":"J813-#REF!","v":{"$error":"#REF!"}}]
[null,null,null,null,null,null,null,null,null,{"$f":"(#REF!*60)+#REF!","v":{"$error":"#REF!"}},{"$f":"J814-#REF!","v":{"$error":"#REF!"}}]
[null,null,null,null,null,null,null,null,null,{"$f":"(#REF!*60)+#REF!","v":{"$error":"#REF!"}},{"$f":"J815-#REF!","v":{"$error":"#REF!"}}]
[null,null,null,null,null,null,null,null,null,{"$f":"(#REF!*60)+#REF!","v":{"$error":"#REF!"}},{"$f":"J816-#REF!","v":{"$error":"#REF!"}}]
[null,null,null,null,null,null,null,null,null,{"$f":"(#REF!*60)+#REF!","v":{"$error":"#REF!"}},{"$f":"J817-#REF!","v":{"$error":"#REF!"}}]
[null,null,null,null,null,null,null,null,null,{"$f":"(#REF!*60)+#REF!","v":{"$error":"#REF!"}},{"$f":"J818-#REF!","v":{"$error":"#REF!"}}]
[null,null,null,null,null,null,null,null,null,{"$f":"(#REF!*60)+#REF!","v":{"$error":"#REF!"}},{"$f":"J819-#REF!","v":{"$error":"#REF!"}}]
[null,null,null,null,null,null,null,null,null,{"$f":"(#REF!*60)+#REF!","v":{"$error":"#REF!"}},{"$f":"J820-#REF!","v":{"$error":"#REF!"}}]
[null,null,null,null,null,null,null,null,null,{"$f":"(#REF!*60)+#REF!","v":{"$error":"#REF!"}},{"$f":"J821-#REF!","v":{"$error":"#REF!"}}]
[null,null,null,null,null,null,null,null,null,{"$f":"(#REF!*60)+#REF!","v":{"$error":"#REF!"}},{"$f":"J822-#REF!","v":{"$error":"#REF!"}}]
[null,null,null,null,null,null,null,null,null,{"$f":"(#REF!*60)+#REF!","v":{"$error":"#REF!"}},{"$f":"J823-#REF!","v":{"$error":"#REF!"}}]
[null,null,null,null,null,null,null,null,null,{"$f":"(#REF!*60)+#REF!","v":{"$error":"#REF!"}},{"$f":"J824-#REF!","v":{"$error":"#REF!"}}]
[null,null,null,null,null,null,null,null,null,{"$f":"(#REF!*60)+#REF!","v":{"$error":"#REF!"}},{"$f":"J825-#REF!","v":{"$error":"#REF!"}}]
[null,null,null,null,null,null,null,null,null,{"$f":"(#REF!*60)+#REF!","v":{"$error":"#REF!"}},{"$f":"J826-#REF!","v":{"$error":"#REF!"}}]
[null,null,null,null,null,null,null,null,null,{"$f":"(#REF!*60)+#REF!","v":{"$error":"#REF!"}},{"$f":"J827-#REF!","v":{"$error":"#REF!"}}]
[null,null,null,null,null,null,null,null,null,{"$f":"(#REF!*60)+#REF!","v":{"$error":"#REF!"}},{"$f":"J828-#REF!","v":{"$error":"#REF!"}}]
[null,null,null,null,null,null,null,null,null,{"$f":"(#REF!*60)+#REF!","v":{"$error":"#REF!"}},{"$f":"J829-#REF!","v":{"$error":"#REF!"}}]
[null,null,null,null,null,null,null,null,null,{"$f":"(#REF!*60)+#REF!","v":{"$error":"#REF!"}},{"$f":"J830-#REF!","v":{"$error":"#REF!"}}]
[null,null,null,null,null,null,null,null,null,{"$f":"(#REF!*60)+#REF!","v":{"$error":"#REF!"}},{"$f":"J831-#REF!","v":{"$error":"#REF!"}}]
[null,null,null,null,null,null,null,null,null,{"$f":"(#REF!*60)+#REF!","v":{"$error":"#REF!"}},{"$f":"J832-#REF!","v":{"$error":"#REF!"}}]
[null,null,null,null,null,null,null,null,null,{"$f":"(#REF!*60)+#REF!","v":{"$error":"#REF!"}},{"$f":"J833-#REF!","v":{"$error":"#REF!"}}]
[null,null,null,null,null,null,null,null,null,{"$f":"(#REF!*60)+#REF!","v":{"$error":"#REF!"}},{"$f":"J834-#REF!","v":{"$error":"#REF!"}}]
[null,null,null,null,null,null,null,null,null,{"$f":"(#REF!*60)+#REF!","v":{"$error":"#REF!"}},{"$f":"J835-#REF!","v":{"$error":"#REF!"}}]
[null,null,null,null,null,null,null,null,null,{"$f":"(#REF!*60)+#REF!","v":{"$error":"#REF!"}},{"$f":"J836-#REF!","v":{"$error":"#REF!"}}]
[null,null,null,null,null,null,null,null,null,{"$f":"(#REF!*60)+#REF!","v":{"$error":"#REF!"}},{"$f":"J837-#REF!","v":{"$error":"#REF!"}}]
[null,null,null,null,null,null,null,null,null,{"$f":"(#REF!*60)+#REF!","v":{"$error":"#REF!"}},{"$f":"J838-#REF!","v":{"$error":"#REF!"}}]
[null,null,null,null,null,null,null,null,null,{"$f":"(#REF!*60)+#REF!","v":{"$error":"#REF!"}},{"$f":"J839-#REF!","v":{"$error":"#REF!"}}]
[null,null,null,null,null,null,null,null,null,{"$f":"(#REF!*60)+#REF!","v":{"$error":"#REF!"}},{"$f":"J840-#REF!","v":{"$error":"#REF!"}}]
[null,null,null,null,null,null,null,null,null,{"$f":"(#REF!*60)+#REF!","v":{"$error":"#REF!"}},{"$f":"J841-#REF!","v":{"$error":"#REF!"}}]
[null,null,null,null,null,null,null,null,null,{"$f":"(#REF!*60)+#REF!","v":{"$error":"#REF!"}},{"$f":"J842-#REF!","v":{"$error":"#REF!"}}]
[null,null,null,null,null,null,null,null,null,{"$f":"(#REF!*60)+#REF!","v":{"$error":"#REF!"}},{"$f":"J843-#REF!","v":{"$error":"#REF!"}}]
[null,null,null,null,null,null,null,null,null,{"$f":"(#REF!*60)+#REF!","v":{"$error":"#REF!"}},{"$f":"J844-#REF!","v":{"$error":"#REF!"}}]
[null,null,null,null,null,null,null,null,null,{"$f":"(#REF!*60)+#REF!","v":{"$error":"#REF!"}},{"$f":"J845-#REF!","v":{"$error":"#REF!"}}]
[null,null,null,null,null,null,null,null,null,{"$f":"(#REF!*60)+#REF!","v":{"$error":"#REF!"}},{"$f":"J846-#REF!","v":{"$error":"#REF!"}}]
[null,null,null,null,null,null,null,null,null,{"$f":"(#REF!*60)+#REF!","v":{"$error":"#REF!"}},{"$f":"J847-#REF!","v":{"$error":"#REF!"}}]
[null,null,null,null,null,null,null,null,null,{"$f":"(#REF!*60)+#REF!","v":{"$error":"#REF!"}},{"$f":"J848-#REF!","v":{"$error":"#REF!"}}]
[null,null,null,null,null,null,null,null,null,{"$f":"(#REF!*60)+#REF!","v":{"$error":"#REF!"}},{"$f":"J849-#REF!","v":{"$error":"#REF!"}}]
[null,null,null,null,null,null,null,null,null,{"$f":"(#REF!*60)+#REF!","v":{"$error":"#REF!"}},{"$f":"J850-#REF!","v":{"$error":"#REF!"}}]
[null,null,null,null,null,null,null,null,null,{"$f":"(#REF!*60)+#REF!","v":{"$error":"#REF!"}},{"$f":"J851-#REF!","v":{"$error":"#REF!"}}]
[null,null,null,null,null,null,null,null,null,{"$f":"(#REF!*60)+#REF!","v":{"$error":"#REF!"}},{"$f":"J852-#REF!","v":{"$error":"#REF!"}}]
[null,null,null,null,null,null,null,null,null,{"$f":"(#REF!*60)+#REF!","v":{"$error":"#REF!"}},{"$f":"J853-#REF!","v":{"$error":"#REF!"}}]
[null,null,null,null,null,null,null,null,null,{"$f":"(#REF!*60)+#REF!","v":{"$error":"#REF!"}},{"$f":"J854-#REF!","v":{"$error":"#REF!"}}]
[null,null,null,null,null,null,null,null,null,{"$f":"(#REF!*60)+#REF!","v":{"$error":"#REF!"}},{"$f":"J855-#REF!","v":{"$error":"#REF!"}}]
[null,null,null,null,null,null,null,null,null,{"$f":"(#REF!*60)+#REF!","v":{"$error":"#REF!"}},{"$f":"J856-#REF!","v":{"$error":"#REF!"}}]
[null,null,null,null,null,null,null,null,null,{"$f":"(#REF!*60)+#REF!","v":{"$error":"#REF!"}},{"$f":"J857-#REF!","v":{"$error":"#REF!"}}]
[null,null,null,null,null,null,null,null,null,{"$f":"(#REF!*60)+#REF!","v":{"$error":"#REF!"}},{"$f":"J858-#REF!","v":{"$error":"#REF!"}}]
[null,null,null,null,null,null,null,null,null,{"$f":"(#REF!*60)+#REF!","v":{"$error":"#REF!"}},{"$f":"J859-#REF!","v":{"$error":"#REF!"}}]
[null,null,null,null,null,null,null,null,null,{"$f":"(#REF!*60)+#REF!","v":{"$error":"#REF!"}},{"$f":"J860-#REF!","v":{"$error":"#REF!"}}]
[null,null,null,null,null,null,null,null,null,{"$f":"(#REF!*60)+#REF!","v":{"$error":"#REF!"}},{"$f":"J861-#REF!","v":{"$error":"#REF!"}}]
[null,null,null,null,null,null,null,null,null,{"$f":"(#REF!*60)+#REF!","v":{"$error":"#REF!"}},{"$f":"J862-#REF!","v":{"$error":"#REF!"}}]
[null,null,null,null,null,null,null,null,null,{"$f":"(#REF!*60)+#REF!","v":{"$error":"#REF!"}},{"$f":"J863-#REF!","v":{"$error":"#REF!"}}]
[null,null,null,null,null,null,null,null,null,{"$f":"(#REF!*60)+#REF!","v":{"$error":"#REF!"}},{"$f":"J864-#REF!","v":{"$error":"#REF!"}}]
[null,null,null,null,null,null,null,null,null,{"$f":"(#REF!*60)+#REF!","v":{"$error":"#REF!"}},{"$f":"J865-#REF!","v":{"$error":"#REF!"}}]
[null,null,null,null,null,null,null,null,null,{"$f":"(#REF!*60)+#REF!","v":{"$error":"#REF!"}},{"$f":"J866-#REF!","v":{"$error":"#REF!"}}]
[null,null,null,null,null,null,null,null,null,{"$f":"(#REF!*60)+#REF!","v":{"$error":"#REF!"}},{"$f":"J867-#REF!","v":{"$error":"#REF!"}}]
[null,null,null,null,null,null,null,null,null,{"$f":"(#REF!*60)+#REF!","v":{"$error":"#REF!"}},{"$f":"J868-#REF!","v":{"$error":"#REF!"}}]
[null,null,null,null,null,null,null,null,null,{"$f":"(#REF!*60)+#REF!","v":{"$error":"#REF!"}},{"$f":"J869-#REF!","v":{"$error":"#REF!"}}]
[null,null,null,null,null,null,null,null,null,{"$f":"(#REF!*60)+#REF!","v":{"$error":"#REF!"}},{"$f":"J870-#REF!","v":{"$error":"#REF!"}}]
[null,null,null,null,null,null,null,null,null,{"$f":"(#REF!*60)+#REF!","v":{"$error":"#REF!"}},{"$f":"J871-#REF!","v":{"$error":"#REF!"}}]
[null,null,null,null,null,null,null,null,null,{"$f":"(#REF!*60)+#REF!","v":{"$error":"#REF!"}},{"$f":"J872-#REF!","v":{"$error":"#REF!"}}]
[null,null,null,null,null,null,null,null,null,{"$f":"(#REF!*60)+#REF!","v":{"$error":"#REF!"}},{"$f":"J873-#REF!","v":{"$error":"#REF!"}}]
[null,null,null,null,null,null,null,null,null,{"$f":"(#REF!*60)+#REF!","v":{"$error":"#REF!"}},{"$f":"J874-#REF!","v":{"$error":"#REF!"}}]
[null,null,null,null,null,null,null,null,null,{"$f":"(#REF!*60)+#REF!","v":{"$error":"#REF!"}},{"$f":"J875-#REF!","v":{"$error":"#REF!"}}]
[null,null,null,null,null,null,null,null,null,{"$f":"(#REF!*60)+#REF!","v":{"$error":"#REF!"}},{"$f":"J876-#REF!","v":{"$error":"#REF!"}}]
[null,null,null,null,null,null,null,null,null,{"$f":"(#REF!*60)+#REF!","v":{"$error":"#REF!"}},{"$f":"J877-#REF!","v":{"$error":"#REF!"}}]
[null,null,null,null,null,null,null,null,null,{"$f":"(#REF!*60)+#REF!","v":{"$error":"#REF!"}},{"$f":"J878-#REF!","v":{"$error":"#REF!"}}]
[null,null,null,null,null,null,null,null,null,{"$f":"(#REF!*60)+#REF!","v":{"$error":"#REF!"}},{"$f":"J879-#REF!","v":{"$error":"#REF!"}}]
[null,null,null,null,null,null,null,null,null,{"$f":"(#REF!*60)+#REF!","v":{"$error":"#REF!"}},{"$f":"J880-#REF!","v":{"$error":"#REF!"}}]
[null,null,null,null,null,null,null,null,null,{"$f":"(#REF!*60)+#REF!","v":{"$error":"#REF!"}},{"$f":"J881-#REF!","v":{"$error":"#REF!"}}]
[null,null,null,null,null,null,null,null,null,{"$f":"(#REF!*60)+#REF!","v":{"$error":"#REF!"}},{"$f":"J882-#REF!","v":{"$error":"#REF!"}}]
[null,null,null,null,null,null,null,null,null,{"$f":"(#REF!*60)+#REF!","v":{"$error":"#REF!"}},{"$f":"J883-#REF!","v":{"$error":"#REF!"}}]
[null,null,null,null,null,null,null,null,null,{"$f":"(#REF!*60)+#REF!","v":{"$error":"#REF!"}},{"$f":"J884-#REF!","v":{"$error":"#REF!"}}]
[null,null,null,null,null,null,null,null,null,{"$f":"(#REF!*60)+#REF!","v":{"$error":"#REF!"}},{"$f":"J885-#REF!","v":{"$error":"#REF!"}}]
[null,null,null,null,null,null,null,null,null,{"$f":"(#REF!*60)+#REF!","v":{"$error":"#REF!"}},{"$f":"J886-#REF!","v":{"$error":"#REF!"}}]
[null,null,null,null,null,null,null,null,null,{"$f":"(#REF!*60)+#REF!","v":{"$error":"#REF!"}},{"$f":"J887-#REF!","v":{"$error":"#REF!"}}]
[null,null,null,null,null,null,null,null,null,{"$f":"(#REF!*60)+#REF!","v":{"$error":"#REF!"}},{"$f":"J888-#REF!","v":{"$error":"#REF!"}}]
[null,null,null,null,null,null,null,null,null,{"$f":"(#REF!*60)+#REF!","v":{"$error":"#REF!"}},{"$f":"J889-#REF!","v":{"$error":"#REF!"}}]
[null,null,null,null,null,null,null,null,null,{"$f":"(#REF!*60)+#REF!","v":{"$error":"#REF!"}},{"$f":"J890-#REF!","v":{"$error":"#REF!"}}]
[null,null,null,null,null,null,null,null,null,{"$f":"(#REF!*60)+#REF!","v":{"$error":"#REF!"}},{"$f":"J891-#REF!","v":{"$error":"#REF!"}}]
[null,null,null,null,null,null,null,null,null,{"$f":"(#REF!*60)+#REF!","v":{"$error":"#REF!"}},{"$f":"J892-#REF!","v":{"$error":"#REF!"}}]
[null,null,null,null,null,null,null,null,null,{"$f":"(#REF!*60)+#REF!","v":{"$error":"#REF!"}},{"$f":"J893-#REF!","v":{"$error":"#REF!"}}]
[null,null,null,null,null,null,null,null,null,{"$f":"(#REF!*60)+#REF!","v":{"$error":"#REF!"}},{"$f":"J894-#REF!","v":{"$error":"#REF!"}}]
[null,null,null,null,null,null,null,null,null,{"$f":"(#REF!*60)+#REF!","v":{"$error":"#REF!"}},{"$f":"J895-#REF!","v":{"$error":"#REF!"}}]
[null,null,null,null,null,null,null,null,null,{"$f":"(#REF!*60)+#REF!","v":{"$error":"#REF!"}},{"$f":"J896-#REF!","v":{"$error":"#REF!"}}]
[null,null,null,null,null,null,null,null,null,{"$f":"(#REF!*60)+#REF!","v":{"$error":"#REF!"}},{"$f":"J897-#REF!","v":{"$error":"#REF!"}}]
[null,null,null,null,null,null,null,null,null,{"$f":"(#REF!*60)+#REF!","v":{"$error":"#REF!"}},{"$f":"J898-#REF!","v":{"$error":"#REF!"}}]
[null,null,null,null,null,null,null,null,null,{"$f":"(#REF!*60)+#REF!","v":{"$error":"#REF!"}},{"$f":"J899-#REF!","v":{"$error":"#REF!"}}]
[null,null,null,null,null,null,null,null,null,{"$f":"(#REF!*60)+#REF!","v":{"$error":"#REF!"}},{"$f":"J900-#REF!","v":{"$error":"#REF!"}}]
[null,null,null,null,null,null,null,null,null,{"$f":"(#REF!*60)+#REF!","v":{"$error":"#REF!"}},{"$f":"J901-#REF!","v":{"$error":"#REF!"}}]
[null,null,null,null,null,null,null,null,null,{"$f":"(#REF!*60)+#REF!","v":{"$error":"#REF!"}},{"$f":"J902-#REF!","v":{"$error":"#REF!"}}]
[null,null,null,null,null,null,null,null,null,{"$f":"(#REF!*60)+#REF!","v":{"$error":"#REF!"}},{"$f":"J903-#REF!","v":{"$error":"#REF!"}}]
[null,null,null,null,null,null,null,null,null,{"$f":"(#REF!*60)+#REF!","v":{"$error":"#REF!"}},{"$f":"J904-#REF!","v":{"$error":"#REF!"}}]
[null,null,null,null,null,null,null,null,null,{"$f":"(#REF!*60)+#REF!","v":{"$error":"#REF!"}},{"$f":"J905-#REF!","v":{"$error":"#REF!"}}]
[null,null,null,null,null,null,null,null,null,{"$f":"(#REF!*60)+#REF!","v":{"$error":"#REF!"}},{"$f":"J906-#REF!","v":{"$error":"#REF!"}}]
[null,null,null,null,null,null,null,null,null,{"$f":"(#REF!*60)+#REF!","v":{"$error":"#REF!"}},{"$f":"J907-#REF!","v":{"$error":"#REF!"}}]
[null,null,null,null,null,null,null,null,null,{"$f":"(#REF!*60)+#REF!","v":{"$error":"#REF!"}},{"$f":"J908-#REF!","v":{"$error":"#REF!"}}]
[null,null,null,null,null,null,null,null,null,{"$f":"(#REF!*60)+#REF!","v":{"$error":"#REF!"}},{"$f":"J909-#REF!","v":{"$error":"#REF!"}}]
[null,null,null,null,null,null,null,null,null,{"$f":"(#REF!*60)+#REF!","v":{"$error":"#REF!"}},{"$f":"J910-#REF!","v":{"$error":"#REF!"}}]
[null,null,null,null,null,null,null,null,null,{"$f":"(#REF!*60)+#REF!","v":{"$error":"#REF!"}},{"$f":"J911-#REF!","v":{"$error":"#REF!"}}]
[null,null,null,null,null,null,null,null,null,{"$f":"(#REF!*60)+#REF!","v":{"$error":"#REF!"}},{"$f":"J912-#REF!","v":{"$error":"#REF!"}}]
[null,null,null,null,null,null,null,null,null,{"$f":"(#REF!*60)+#REF!","v":{"$error":"#REF!"}},{"$f":"J913-#REF!","v":{"$error":"#REF!"}}]
[null,null,null,null,null,null,null,null,null,{"$f":"(#REF!*60)+#REF!","v":{"$error":"#REF!"}},{"$f":"J914-#REF!","v":{"$error":"#REF!"}}]
[null,null,null,null,null,null,null,null,null,{"$f":"(#REF!*60)+#REF!","v":{"$error":"#REF!"}},{"$f":"J915-#REF!","v":{"$error":"#REF!"}}]
[null,null,null,null,null,null,null,null,null,{"$f":"(#REF!*60)+#REF!","v":{"$error":"#REF!"}},{"$f":"J916-#REF!","v":{"$error":"#REF!"}}]
[null,null,null,null,null,null,null,null,null,{"$f":"(#REF!*60)+#REF!","v":{"$error":"#REF!"}},{"$f":"J917-#REF!","v":{"$error":"#REF!"}}]
[null,null,null,null,null,null,null,null,null,{"$f":"(#REF!*60)+#REF!","v":{"$error":"#REF!"}},{"$f":"J918-#REF!","v":{"$error":"#REF!"}}]
[null,null,null,null,null,null,null,null,null,{"$f":"(#REF!*60)+#REF!","v":{"$error":"#REF!"}},{"$f":"J919-#REF!","v":{"$error":"#REF!"}}]
[null,null,null,null,null,null,null,null,null,{"$f":"(#REF!*60)+#REF!","v":{"$error":"#REF!"}},{"$f":"J920-#REF!","v":{"$error":"#REF!"}}]
[null,null,null,null,null,null,null,null,null,{"$f":"(#REF!*60)+#REF!","v":{"$error":"#REF!"}},{"$f":"J921-#REF!","v":{"$error":"#REF!"}}]
[null,null,null,null,null,null,null,null,null,{"$f":"(#REF!*60)+#REF!","v":{"$error":"#REF!"}},{"$f":"J922-#REF!","v":{"$error":"#REF!"}}]
[null,null,null,null,null,null,null,null,null,{"$f":"(#REF!*60)+#REF!","v":{"$error":"#REF!"}},{"$f":"J923-#REF!","v":{"$error":"#REF!"}}]
[null,null,null,null,null,null,null,null,null,{"$f":"(#REF!*60)+#REF!","v":{"$error":"#REF!"}},{"$f":"J924-#REF!","v":{"$error":"#REF!"}}]
[null,null,null,null,null,null,null,null,null,{"$f":"(#REF!*60)+#REF!","v":{"$error":"#REF!"}},{"$f":"J925-#REF!","v":{"$error":"#REF!"}}]
[null,null,null,null,null,null,null,null,null,{"$f":"(#REF!*60)+#REF!","v":{"$error":"#REF!"}},{"$f":"J926-#REF!","v":{"$error":"#REF!"}}]
[null,null,null,null,null,null,null,null,null,{"$f":"(#REF!*60)+#REF!","v":{"$error":"#REF!"}},{"$f":"J927-#REF!","v":{"$error":"#REF!"}}]
[null,null,null,null,null,null,null,null,null,{"$f":"(#REF!*60)+#REF!","v":{"$error":"#REF!"}},{"$f":"J928-#REF!","v":{"$error":"#REF!"}}]
[null,null,null,null,null,null,null,null,null,{"$f":"(#REF!*60)+#REF!","v":{"$error":"#REF!"}},{"$f":"J929-#REF!","v":{"$error":"#REF!"}}]
[null,null,null,null,null,null,null,null,null,{"$f":"(#REF!*60)+#REF!","v":{"$error":"#REF!"}},{"$f":"J930-#REF!","v":{"$error":"#REF!"}}]
[null,null,null,null,null,null,null,null,null,{"$f":"(#REF!*60)+#REF!","v":{"$error":"#REF!"}},{"$f":"J931-#REF!","v":{"$error":"#REF!"}}]
[null,null,null,null,null,null,null,null,null,{"$f":"(#REF!*60)+#REF!","v":{"$error":"#REF!"}},{"$f":"J932-#REF!","v":{"$error":"#REF!"}}]
[null,null,null,null,null,null,null,null,null,{"$f":"(#REF!*60)+#REF!","v":{"$error":"#REF!"}},{"$f":"J933-#REF!","v":{"$error":"#REF!"}}]
[null,null,null,null,null,null,null,null,null,{"$f":"(#REF!*60)+#REF!","v":{"$error":"#REF!"}},{"$f":"J934-#REF!","v":{"$error":"#REF!"}}]
[null,null,null,null,null,null,null,null,null,{"$f":"(#REF!*60)+#REF!","v":{"$error":"#REF!"}},{"$f":"J935-#REF!","v":{"$error":"#REF!"}}]
[null,null,null,null,null,null,null,null,null,{"$f":"(#REF!*60)+#REF!","v":{"$error":"#REF!"}},{"$f":"J936-#REF!","v":{"$error":"#REF!"}}]
[null,null,null,null,null,null,null,null,null,{"$f":"(#REF!*60)+#REF!","v":{"$error":"#REF!"}},{"$f":"J937-#REF!","v":{"$error":"#REF!"}}]
[null,null,null,null,null,null,null,null,null,{"$f":"(#REF!*60)+#REF!","v":{"$error":"#REF!"}},{"$f":"J938-#REF!","v":{"$error":"#REF!"}}]
[null,null,null,null,null,null,null,null,null,{"$f":"(#REF!*60)+#REF!","v":{"$error":"#REF!"}},{"$f":"J939-#REF!","v":{"$error":"#REF!"}}]
[null,null,null,null,null,null,null,null,null,{"$f":"(#REF!*60)+#REF!","v":{"$error":"#REF!"}},{"$f":"J940-#REF!","v":{"$error":"#REF!"}}]
[null,null,null,null,null,null,null,null,null,{"$f":"(#REF!*60)+#REF!","v":{"$error":"#REF!"}},{"$f":"J941-#REF!","v":{"$error":"#REF!"}}]
[null,null,null,null,null,null,null,null,null,{"$f":"(#REF!*60)+#REF!","v":{"$error":"#REF!"}},{"$f":"J942-#REF!","v":{"$error":"#REF!"}}]
[null,null,null,null,null,null,null,null,null,{"$f":"(#REF!*60)+#REF!","v":{"$error":"#REF!"}},{"$f":"J943-#REF!","v":{"$error":"#REF!"}}]
[null,null,null,null,null,null,null,null,null,{"$f":"(#REF!*60)+#REF!","v":{"$error":"#REF!"}},{"$f":"J944-#REF!","v":{"$error":"#REF!"}}]
[null,null,null,null,null,null,null,null,null,{"$f":"(#REF!*60)+#REF!","v":{"$error":"#REF!"}},{"$f":"J945-#REF!","v":{"$error":"#REF!"}}]
[null,null,null,null,null,null,null,null,null,{"$f":"(#REF!*60)+#REF!","v":{"$error":"#REF!"}},{"$f":"J946-#REF!","v":{"$error":"#REF!"}}]
[null,null,null,null,null,null,null,null,null,{"$f":"(#REF!*60)+#REF!","v":{"$error":"#REF!"}},{"$f":"J947-#REF!","v":{"$error":"#REF!"}}]
[null,null,null,null,null,null,null,null,null,{"$f":"(#REF!*60)+#REF!","v":{"$error":"#REF!"}},{"$f":"J948-#REF!","v":{"$error":"#REF!"}}]
[null,null,null,null,null,null,null,null,null,{"$f":"(#REF!*60)+#REF!","v":{"$error":"#REF!"}},{"$f":"J949-#REF!","v":{"$error":"#REF!"}}]
[null,null,null,null,null,null,null,null,null,{"$f":"(#REF!*60)+#REF!","v":{"$error":"#REF!"}},{"$f":"J950-#REF!","v":{"$error":"#REF!"}}]
[null,null,null,null,null,null,null,null,null,{"$f":"(#REF!*60)+#REF!","v":{"$error":"#REF!"}},{"$f":"J951-#REF!","v":{"$error":"#REF!"}}]
[null,null,null,null,null,null,null,null,null,{"$f":"(#REF!*60)+#REF!","v":{"$error":"#REF!"}},{"$f":"J952-#REF!","v":{"$error":"#REF!"}}]
[null,null,null,null,null,null,null,null,null,{"$f":"(#REF!*60)+#REF!","v":{"$error":"#REF!"}},{"$f":"J953-#REF!","v":{"$error":"#REF!"}}]
[null,null,null,null,null,null,null,null,null,{"$f":"(#REF!*60)+#REF!","v":{"$error":"#REF!"}},{"$f":"J954-#REF!","v":{"$error":"#REF!"}}]
[null,null,null,null,null,null,null,null,null,{"$f":"(#REF!*60)+#REF!","v":{"$error":"#REF!"}},{"$f":"J955-#REF!","v":{"$error":"#REF!"}}]
[null,null,null,null,null,null,null,null,null,{"$f":"(#REF!*60)+#REF!","v":{"$error":"#REF!"}},{"$f":"J956-#REF!","v":{"$error":"#REF!"}}]
[null,null,null,null,null,null,null,null,null,{"$f":"(#REF!*60)+#REF!","v":{"$error":"#REF!"}},{"$f":"J957-#REF!","v":{"$error":"#REF!"}}]
[null,null,null,null,null,null,null,null,null,{"$f":"(#REF!*60)+#REF!","v":{"$error":"#REF!"}},{"$f":"J958-#REF!","v":{"$error":"#REF!"}}]
[null,null,null,null,null,null,null,null,null,{"$f":"(#REF!*60)+#REF!","v":{"$error":"#REF!"}},{"$f":"J959-#REF!","v":{"$error":"#REF!"}}]
[null,null,null,null,null,null,null,null,null,{"$f":"(#REF!*60)+#REF!","v":{"$error":"#REF!"}},{"$f":"J960-#REF!","v":{"$error":"#REF!"}}]
[null,null,null,null,null,null,null,null,null,{"$f":"(#REF!*60)+#REF!","v":{"$error":"#REF!"}},{"$f":"J961-#REF!","v":{"$error":"#REF!"}}]
[null,null,null,null,null,null,null,null,null,{"$f":"(#REF!*60)+#REF!","v":{"$error":"#REF!"}},{"$f":"J962-#REF!","v":{"$error":"#REF!"}}]
[null,null,null,null,null,null,null,null,null,{"$f":"(#REF!*60)+#REF!","v":{"$error":"#REF!"}},{"$f":"J963-#REF!","v":{"$error":"#REF!"}}]
[null,null,null,null,null,null,null,null,null,{"$f":"(#REF!*60)+#REF!","v":{"$error":"#REF!"}},{"$f":"J964-#REF!","v":{"$error":"#REF!"}}]
[null,null,null,null,null,null,null,null,null,{"$f":"(#REF!*60)+#REF!","v":{"$error":"#REF!"}},{"$f":"J965-#REF!","v":{"$error":"#REF!"}}]
[null,null,null,null,null,null,null,null,null,{"$f":"(#REF!*60)+#REF!","v":{"$error":"#REF!"}},{"$f":"J966-#REF!","v":{"$error":"#REF!"}}]
[null,null,null,null,null,null,null,null,null,{"$f":"(#REF!*60)+#REF!","v":{"$error":"#REF!"}},{"$f":"J967-#REF!","v":{"$error":"#REF!"}}]
[null,null,null,null,null,null,null,null,null,{"$f":"(#REF!*60)+#REF!","v":{"$error":"#REF!"}},{"$f":"J968-#REF!","v":{"$error":"#REF!"}}]
[null,null,null,null,null,null,null,null,null,{"$f":"(#REF!*60)+#REF!","v":{"$error":"#REF!"}},{"$f":"J969-#REF!","v":{"$error":"#REF!"}}]
[null,null,null,null,null,null,null,null,null,{"$f":"(#REF!*60)+#REF!","v":{"$error":"#REF!"}},{"$f":"J970-#REF!","v":{"$error":"#REF!"}}]
[null,null,null,null,null,null,null,null,null,{"$f":"(#REF!*60)+#REF!","v":{"$error":"#REF!"}},{"$f":"J971-#REF!","v":{"$error":"#REF!"}}]
[null,null,null,null,null,null,null,null,null,{"$f":"(#REF!*60)+#REF!","v":{"$error":"#REF!"}},{"$f":"J972-#REF!","v":{"$error":"#REF!"}}]
[null,null,null,null,null,null,null,null,null,{"$f":"(#REF!*60)+#REF!","v":{"$error":"#REF!"}},{"$f":"J973-#REF!","v":{"$error":"#REF!"}}]
[null,null,null,null,null,null,null,null,null,{"$f":"(#REF!*60)+#REF!","v":{"$error":"#REF!"}},{"$f":"J974-#REF!","v":{"$error":"#REF!"}}]
[null,null,null,null,null,null,null,null,null,{"$f":"(#REF!*60)+#REF!","v":{"$error":"#REF!"}},{"$f":"J975-#REF!","v":{"$error":"#REF!"}}]
[null,null,null,null,null,null,null,null,null,{"$f":"(#REF!*60)+#REF!","v":{"$error":"#REF!"}},{"$f":"J976-#REF!","v":{"$error":"#REF!"}}]
[null,null,null,null,null,null,null,null,null,{"$f":"(#REF!*60)+#REF!","v":{"$error":"#REF!"}},{"$f":"J977-#REF!","v":{"$error":"#REF!"}}]
[null,null,null,null,null,null,null,null,null,{"$f":"(#REF!*60)+#REF!","v":{"$error":"#REF!"}},{"$f":"J978-#REF!","v":{"$error":"#REF!"}}]
[null,null,null,null,null,null,null,null,null,{"$f":"(#REF!*60)+#REF!","v":{"$error":"#REF!"}},{"$f":"J979-#REF!","v":{"$error":"#REF!"}}]
[null,null,null,null,null,null,null,null,null,{"$f":"(#REF!*60)+#REF!","v":{"$error":"#REF!"}},{"$f":"J980-#REF!","v":{"$error":"#REF!"}}]
[null,null,null,null,null,null,null,null,null,{"$f":"(#REF!*60)+#REF!","v":{"$error":"#REF!"}},{"$f":"J981-#REF!","v":{"$error":"#REF!"}}]
[null,null,null,null,null,null,null,null,null,{"$f":"(#REF!*60)+#REF!","v":{"$error":"#REF!"}},{"$f":"J982-#REF!","v":{"$error":"#REF!"}}]
[null,null,null,null,null,null,null,null,null,{"$f":"(#REF!*60)+#REF!","v":{"$error":"#REF!"}},{"$f":"J983-#REF!","v":{"$error":"#REF!"}}]
[null,null,null,null,null,null,null,null,null,{"$f":"(#REF!*60)+#REF!","v":{"$error":"#REF!"}},{"$f":"J984-#REF!","v":{"$error":"#REF!"}}]
[null,null,null,null,null,null,null,null,null,{"$f":"(#REF!*60)+#REF!","v":{"$error":"#REF!"}},{"$f":"J985-#REF!","v":{"$error":"#REF!"}}]
[null,null,null,null,null,null,null,null,null,{"$f":"(#REF!*60)+#REF!","v":{"$error":"#REF!"}},{"$f":"J986-#REF!","v":{"$error":"#REF!"}}]
[null,null,null,null,null,null,null,null,null,{"$f":"(#REF!*60)+#REF!","v":{"$error":"#REF!"}},{"$f":"J987-#REF!","v":{"$error":"#REF!"}}]
[null,null,null,null,null,null,null,null,null,{"$f":"(#REF!*60)+#REF!","v":{"$error":"#REF!"}},{"$f":"J988-#REF!","v":{"$error":"#REF!"}}]
[null,null,null,null,null,null,null,null,null,{"$f":"(#REF!*60)+#REF!","v":{"$error":"#REF!"}},{"$f":"J989-#REF!","v":{"$error":"#REF!"}}]
[null,null,null,null,null,null,null,null,null,{"$f":"(#REF!*60)+#REF!","v":{"$error":"#REF!"}},{"$f":"J990-#REF!","v":{"$error":"#REF!"}}]
[null,null,null,null,null,null,null,null,null,{"$f":"(#REF!*60)+#REF!","v":{"$error":"#REF!"}},{"$f":"J991-#REF!","v":{"$error":"#REF!"}}]
[null,null,null,null,null,null,null,null,null,{"$f":"(#REF!*60)+#REF!","v":{"$error":"#REF!"}},{"$f":"J992-#REF!","v":{"$error":"#REF!"}}]
[null,null,null,null,null,null,null,null,null,{"$f":"(#REF!*60)+#REF!","v":{"$error":"#REF!"}},{"$f":"J993-#REF!","v":{"$error":"#REF!"}}]
[null,null,null,null,null,null,null,null,null,{"$f":"(#REF!*60)+#REF!","v":{"$error":"#REF!"}},{"$f":"J994-#REF!","v":{"$error":"#REF!"}}]
[null,null,null,null,null,null,null,null,null,{"$f":"(#REF!*60)+#REF!","v":{"$error":"#REF!"}},{"$f":"J995-#REF!","v":{"$error":"#REF!"}}]
[null,null,null,null,null,null,null,null,null,{"$f":"(#REF!*60)+#REF!","v":{"$error":"#REF!"}},{"$f":"J996-#REF!","v":{"$error":"#REF!"}}]
[null,null,null,null,null,null,null,null,null,{"$f":"(#REF!*60)+#REF!","v":{"$error":"#REF!"}},{"$f":"J997-#REF!","v":{"$error":"#REF!"}}]
[null,null,null,null,null,null,null,null,null,{"$f":"(#REF!*60)+#REF!","v":{"$error":"#REF!"}},{"$f":"J998-#REF!","v":{"$error":"#REF!"}}]
[null,null,null,null,null,null,null,null,null,{"$f":"(#REF!*60)+#REF!","v":{"$error":"#REF!"}},{"$f":"J999-#REF!","v":{"$error":"#REF!"}}]
[null,null,null,null,null,null,null,null,null,{"$f":"(#REF!*60)+#REF!","v":{"$error":"#REF!"}},{"$f":"J1000-#REF!","v":{"$error":"#REF!"}}]

{"sheet":"jun 80","index":1,"n_rows":40,"n_cols":33,"rows_kept":40,"cut":false,"hidden":false,"merged":[]}
["Number ","Horse","Rider","Team","Dress. Score ","%","Penalties",null,"SJ Penalties","SJ Time  ",null,"Rider time - SJ allowed","SJ Time ",null,"XC Penalties ","XC Start Time",null,null,null,"XC Finish Time",null,null,"XC time in seconds","Rider time - XC allowed","Penalties over","Penalties Under","XC Time ","Total Penalties ","Remove Text","Scale1","Scale2","Scale3"," Position "]
[null,null,null,null,null,null,null,null,null,"min",":sec.ms",null,"Penalties",null,null,"hour",":min",":sec.ms",null,"hour",":min",":sec.ms",null,null,null,null,"Penalties"]
[91,"Willo    ","Hannah Gee    ","Bath Red  ",200,{"$f":"IF(ISTEXT(E3), \"\", IF(ISBLANK(E3), \"\",  E3/'[1]Reference sheet'!B$2*100))","v":100},{"$f":"IF(ISNUMBER(F3),  100-F3, \"\")","v":0},null,4,null,null,{"$f":"IF(#REF!>0,#REF!- '[1]Reference sheet'!$E$7, 0)","v":{"$error":"#REF!"}},0,null,"R",null,null,null,null,null,null,null,null,null,null,null,null,null,null,null,null,null,"R"]
[92,"Alfie ","Gemma Holdway     ","Bath Blue ",200,{"$f":"IF(ISTEXT(E4), \"\", IF(ISBLANK(E4), \"\",  E4/'[1]Reference sheet'!B$2*100))","v":100},{"$f":"IF(ISNUMBER(F4),  100-F4, \"\")","v":0},null,4,null,null,{"$f":"IF(#REF!>0,#REF!- '[1]Reference sheet'!$E$7, 0)","v":{"$error":"#REF!"}},0,null,0,null,null,null,null,null,null,null,null,null,null,null,39.6,43.6]
[93,"Little Leo","Georgina Bateman ","Cotswold Edge ",200,{"$f":"IF(ISTEXT(E5), \"\", IF(ISBLANK(E5), \"\",  E5/'[1]Reference sheet'!B$2*100))","v":100},0,null,0,null,null,{"$f":"IF(#REF!>0,#REF!- '[1]Reference sheet'!$E$7, 0)","v":{"$error":"#REF!"}},1,null,0,null,null,null,null,null,null,null,null,null,null,null,16,17]
[94,"Brooklyn","Amy Johonson","Frampton Rubies ",200,{"$f":"IF(ISTEXT(E6), \"\", IF(ISBLANK(E6), \"\",  E6/'[1]Reference sheet'!B$2*100))","v":100},0,null,0,null,null,{"$f":"IF(#REF!>0,#REF!- '[1]Reference sheet'!$E$7, 0)","v":{"$error":"#REF!"}},0,null,0,null,null,null,null,null,null,null,null,null,null,null,13.2,13.2,null,null,null,null,"6TH"]
[95,"Nantmynydd Prydferth ","Eva Bolton Lake ","Frampton Sapphires ",200,{"$f":"IF(ISTEXT(E7), \"\", IF(ISBLANK(E7), \"\",  E7/'[1]Reference sheet'!B$2*100))","v":100},0,null,0,null,null,{"$f":"IF(#REF!>0,#REF!- '[1]Reference sheet'!$E$7, 0)","v":{"$error":"#REF!"}},0,null,"E",null,null,null,null,null,null,null,null,null,null,null,null,null,null,null,null,null,"E"]
[96,"Harry ","Olivia Collet ","Kings Leaze ",200,{"$f":"IF(ISTEXT(E8), \"\", IF(ISBLANK(E8), \"\",  E8/'[1]Reference sheet'!B$2*100))","v":100},0,null,0,null,null,{"$f":"IF(#REF!>0,#REF!- '[1]Reference sheet'!$E$7, 0)","v":{"$error":"#REF!"}},0,null,65,null,null,null,null,null,null,null,null,null,null,null,80,145]
[97,"Phensara Spring Jester ","Zoe Wright ","Tumpy Green",200,{"$f":"IF(ISTEXT(E9), \"\", IF(ISBLANK(E9), \"\",  E9/'[1]Reference sheet'!B$2*100))","v":100},0,null,0,null,null,{"$f":"IF(#REF!>0,#REF!- '[1]Reference sheet'!$E$7, 0)","v":{"$error":"#REF!"}},0,null,"E",null,null,null,null,null,null,null,null,null,null,null,null,null,null,null,null,null,"E"]
[98,"Perllandu Lyrical Interlude ","Ben Newman","Wessex Gold Babycham",200,{"$f":"IF(ISTEXT(E10), \"\", IF(ISBLANK(E10), \"\",  E10/'[1]Reference sheet'!B$2*100))","v":100},0,null,null,null,null,{"$f":"IF(#REF!>0,#REF!- '[1]Reference sheet'!$E$7, 0)","v":{"$error":"#REF!"}},null,null,null,null,null,null,null,null,null,null,null,null,null,null,null,null,null,null,null,null,"WD"]
[99,"Roche","Kaytlyn Hughes    ","Bath Red  ",200,{"$f":"IF(ISTEXT(E11), \"\", IF(ISBLANK(E11), \"\",  E11/'[1]Reference sheet'!B$2*100))","v":100},0,null,0,null,null,{"$f":"IF(#REF!>0,#REF!- '[1]Reference sheet'!$E$7, 0)","v":{"$error":"#REF!"}},0,null,0,null,null,null,null,null,null,null,null,null,null,null,38,38]
[100,"Scarthy Robin     ","Minty Mayhew    ","Bath Blue ",200,{"$f":"IF(ISTEXT(E12), \"\", IF(ISBLANK(E12), \"\",  E12/'[1]Reference sheet'!B$2*100))","v":100},0,null,0,null,null,{"$f":"IF(#REF!>0,#REF!- '[1]Reference sheet'!$E$7, 0)","v":{"$error":"#REF!"}},0,null,0,null,null,null,null,null,null,null,null,null,null,null,41.2,41.2]
[101,"Bryntegllwynau Rocky Robin","April Joynson ","Cotswold Edge ",200,{"$f":"IF(ISTEXT(E13), \"\", IF(ISBLANK(E13), \"\",  E13/'[1]Reference sheet'!B$2*100))","v":100},0,null,null,null,null,{"$f":"IF(#REF!>0,#REF!- '[1]Reference sheet'!$E$7, 0)","v":{"$error":"#REF!"}},null,null,null,null,null,null,null,null,null,null,null,null,null,null,null,null,null,null,null,null,"WD"]
[102,"Eglwysfach Roger ","Casey Sharpe ","Frampton Rubies ",200,{"$f":"IF(ISTEXT(E14), \"\", IF(ISBLANK(E14), \"\",  E14/'[1]Reference sheet'!B$2*100))","v":100},0,null,0,null,null,{"$f":"IF(#REF!>0,#REF!- '[1]Reference sheet'!$E$7, 0)","v":{"$error":"#REF!"}},0,null,0,null,null,null,null,null,null,null,null,null,null,null,10.4,10.4,null,null,null,null,"5TH"]
[103,"Don't Tell Da","Hannah Dangerfield ","Frampton Sapphires ",200,{"$f":"IF(ISTEXT(E15), \"\", IF(ISBLANK(E15), \"\",  E15/'[1]Reference sheet'!B$2*100))","v":100},0,null,4,null,null,{"$f":"IF(#REF!>0,#REF!- '[1]Reference sheet'!$E$7, 0)","v":{"$error":"#REF!"}},0,null,0,null,null,null,null,null,null,null,null,null,null,null,30.4,34.4]
[104,"King ","Naomi Waheed ","Kings Leaze ",200,{"$f":"IF(ISTEXT(E16), \"\", IF(ISBLANK(E16), \"\",  E16/'[1]Reference sheet'!B$2*100))","v":100},0,null,16,null,null,{"$f":"IF(#REF!>0,#REF!- '[1]Reference sheet'!$E$7, 0)","v":{"$error":"#REF!"}},6,null,"E",null,null,null,null,null,null,null,null,null,null,null,null,null,null,null,null,null,"E"]
[105,"Jimmy Riddle ","Jessica Vizard ","Tumpy Green",200,{"$f":"IF(ISTEXT(E17), \"\", IF(ISBLANK(E17), \"\",  E17/'[1]Reference sheet'!B$2*100))","v":100},0,null,0,null,null,{"$f":"IF(#REF!>0,#REF!- '[1]Reference sheet'!$E$7, 0)","v":{"$error":"#REF!"}},0,null,60,null,null,null,null,null,null,null,null,null,null,null,58,118]
[106,"Clancy's Boy ","Morgan Kent ","Wessex Gold Babycham",200,{"$f":"IF(ISTEXT(E18), \"\", IF(ISBLANK(E18), \"\",  E18/'[1]Reference sheet'!B$2*100))","v":100},0,null,0,null,null,{"$f":"IF(#REF!>0,#REF!- '[1]Reference sheet'!$E$7, 0)","v":{"$error":"#REF!"}},0,null,0,null,null,null,null,null,null,null,null,null,null,null,3.6,3.6,null,null,null,null,"1ST"]
[107,"Moor Hill Clover       ","Alanna Stanley    ","Bath Red  ",200,{"$f":"IF(ISTEXT(E19), \"\", IF(ISBLANK(E19), \"\",  E19/'[1]Reference sheet'!B$2*100))","v":100},0,null,8,null,null,{"$f":"IF(#REF!>0,#REF!- '[1]Reference sheet'!$E$7, 0)","v":{"$error":"#REF!"}},0,null,0,null,null,null,null,null,null,null,null,null,null,null,0.4,8.4,null,null,null,null,"3RD"]
[108,"Crabswoos Martini     ","Honor Mayhew    ","Bath Blue ",200,{"$f":"IF(ISTEXT(E20), \"\", IF(ISBLANK(E20), \"\",  E20/'[1]Reference sheet'!B$2*100))","v":100},0,null,0,null,null,{"$f":"IF(#REF!>0,#REF!- '[1]Reference sheet'!$E$7, 0)","v":{"$error":"#REF!"}},3,null,"E",null,null,null,null,null,null,null,null,null,null,null,null,null,null,null,null,null,"E"]
[109,"Silverspring Bambino Belissima","Erin Tully ","Cotswold Edge ",200,{"$f":"IF(ISTEXT(E21), \"\", IF(ISBLANK(E21), \"\",  E21/'[1]Reference sheet'!B$2*100))","v":100},0,null,4,null,null,{"$f":"IF(#REF!>0,#REF!- '[1]Reference sheet'!$E$7, 0)","v":{"$error":"#REF!"}},0,null,0,null,null,null,null,null,null,null,null,null,null,null,34.799999999999997,38.799999999999997]
[110,"Francise ","Jamie Lessels ","Frampton Rubies ",200,{"$f":"IF(ISTEXT(E22), \"\", IF(ISBLANK(E22), \"\",  E22/'[1]Reference sheet'!B$2*100))","v":100},0,null,8,null,null,{"$f":"IF(#REF!>0,#REF!- '[1]Reference sheet'!$E$7, 0)","v":{"$error":"#REF!"}},0,null,20,null,null,null,null,null,null,null,null,null,null,null,18.8,46.8]
[111,"Monty ","Georgina Coole ","Frampton Sapphires ",200,{"$f":"IF(ISTEXT(E23), \"\", IF(ISBLANK(E23), \"\",  E23/'[1]Reference sheet'!B$2*100))","v":100},0,null,4,null,null,{"$f":"IF(#REF!>0,#REF!- '[1]Reference sheet'!$E$7, 0)","v":{"$error":"#REF!"}},5,null,60,null,null,null,null,null,null,null,null,null,null,null,93.2,162.19999999999999]
[112,"Mai Bec ","Libby Poole ","Kings Leaze ",200,{"$f":"IF(ISTEXT(E24), \"\", IF(ISBLANK(E24), \"\",  E24/'[1]Reference sheet'!B$2*100))","v":100},0,null,0,null,null,{"$f":"IF(#REF!>0,#REF!- '[1]Reference sheet'!$E$7, 0)","v":{"$error":"#REF!"}},0,null,0,null,null,null,null,null,null,null,null,null,null,null,9.6,9.6,null,null,null,null,"4TH"]
[113,"Gragreagh Drift ","Sophie Barnes ","Wessex Gold Babycham",200,{"$f":"IF(ISTEXT(E25), \"\", IF(ISBLANK(E25), \"\",  E25/'[1]Reference sheet'!B$2*100))","v":100},0,null,4,null,null,{"$f":"IF(#REF!>0,#REF!- '[1]Reference sheet'!$E$7, 0)","v":{"$error":"#REF!"}},0,null,"E",null,null,null,null,null,null,null,null,null,null,null,null,null,null,null,null,null,"E"]
[114,"Spotless ","Amelia Yana Cachia","Cotswold Edge IND",200,{"$f":"IF(ISTEXT(E26), \"\", IF(ISBLANK(E26), \"\",  E26/'[1]Reference sheet'!B$2*100))","v":100},0,null,4,null,null,{"$f":"IF(#REF!>0,#REF!- '[1]Reference sheet'!$E$7, 0)","v":{"$error":"#REF!"}},0,null,"E",null,null,null,null,null,null,null,null,null,null,null,null,null,null,null,null,null,"E"]
[115,"Lucky Lane Stanley","Maisie Arnold    ","Bath Red  ",200,{"$f":"IF(ISTEXT(E27), \"\", IF(ISBLANK(E27), \"\",  E27/'[1]Reference sheet'!B$2*100))","v":100},0,null,4,null,null,{"$f":"IF(#REF!>0,#REF!- '[1]Reference sheet'!$E$7, 0)","v":{"$error":"#REF!"}},0,null,"TE",null,null,null,null,null,null,null,null,null,null,null,null,null,null,null,null,null,"TE"]
[116,"Postman Mickey    ","Phoebe Scott    ","Bath Blue ",200,{"$f":"IF(ISTEXT(E28), \"\", IF(ISBLANK(E28), \"\",  E28/'[1]Reference sheet'!B$2*100))","v":100},0,null,20,null,null,{"$f":"IF(#REF!>0,#REF!- '[1]Reference sheet'!$E$7, 0)","v":{"$error":"#REF!"}},14,null,0,null,null,null,null,null,null,null,null,null,null,null,16.399999999999999,50.4]
[117,"Barney One Spot","Zoe Fogg ","Cotswold Edge ",200,{"$f":"IF(ISTEXT(E29), \"\", IF(ISBLANK(E29), \"\",  E29/'[1]Reference sheet'!B$2*100))","v":100},0,null,8,null,null,{"$f":"IF(#REF!>0,#REF!- '[1]Reference sheet'!$E$7, 0)","v":{"$error":"#REF!"}},14,null,0,null,null,null,null,null,null,null,null,null,null,null,31.2,53.2]
[118,"Blazing Glory ","Phoebe Hudd ","Frampton Rubies ",200,{"$f":"IF(ISTEXT(E30), \"\", IF(ISBLANK(E30), \"\",  E30/'[1]Reference sheet'!B$2*100))","v":100},0,null,4,null,null,{"$f":"IF(#REF!>0,#REF!- '[1]Reference sheet'!$E$7, 0)","v":{"$error":"#REF!"}},0,null,0,null,null,null,null,null,null,null,null,null,null,null,1.2,5.2,null,null,null,null,"2ND"]
[119,"Blaencrymlin Rhydian ","Harvey Bury ","Frampton Sapphires ",200,{"$f":"IF(ISTEXT(E31), \"\", IF(ISBLANK(E31), \"\",  E31/'[1]Reference sheet'!B$2*100))","v":100},0,null,0,null,null,{"$f":"IF(#REF!>0,#REF!- '[1]Reference sheet'!$E$7, 0)","v":{"$error":"#REF!"}},0,null,0,null,null,null,null,null,null,null,null,null,null,null,17.2,17.2]
[120,null,null,"Kings Leaze ",200,{"$f":"IF(ISTEXT(E32), \"\", IF(ISBLANK(E32), \"\",  E32/'[1]Reference sheet'!B$2*100))","v":100},0,null,null,null,null,{"$f":"IF(#REF!>0,#REF!- '[1]Reference sheet'!$E$7, 0)","v":{"$error":"#REF!"}},null,null,null,null,null,null,null,null,null,null,null,null,null,null,null,null,null,null,null,null,"WD"]
[121,"Armanda's Choice ","Rebecca Crockerton ","Wessex Gold Babycham",200,{"$f":"IF(ISTEXT(E33), \"\", IF(ISBLANK(E33), \"\",  E33/'[1]Reference sheet'!B$2*100))","v":100},0,null,0,null,null,{"$f":"IF(#REF!>0,#REF!- '[1]Reference sheet'!$E$7, 0)","v":{"$error":"#REF!"}},0,null,40,null,null,null,null,null,null,null,null,null,null,null,26.8,66.8]
[]
[]
[null,"TEAM PLACINGS"]
["1ST","FRAMPTON RUBIES","28.8 PENS"]
["2ND","COTSWOLD EDGE","109 PENS"]
["3RD","BATH BLUE","135.2 PENS"]
["4TH","FRAMPTON SAPPHIRES","213.8 PENS"]

{"sheet":"jun sen 90","index":2,"n_rows":58,"n_cols":32,"rows_kept":58,"cut":false,"hidden":false,"merged":[]}
["Number ","Horse","Rider","Team","Dress. Score ","%","Penalties",null,"SJ Penalties","SJ time in seconds","Rider time - SJ allowed","SJ Time ",null,"XC Penalties ","XC Start Time",null,null,null,"XC Finish Time",null,null,"XC time in seconds","Rider time - XC allowed","Penalties over","Penalties Under","XC Time ","Total Penalties ","Remove Text","Scale1","Scale2","Scale3"," Position "]
[null,null,null,null,null,null,null,null,null,null,null,"Penalties",null,null,"hour",":min",":sec.ms",null,"hour",":min",":sec.ms",null,null,null,null,"Penalties"]
[138,"Ladykillers Little John    ","Stacey Martin   ","Bath",200,{"$f":"IF(ISTEXT(E3), \"\", IF(ISBLANK(E3), \"\",  E3/'[2]Reference sheet'!B$2*100))","v":100},{"$f":"IF(ISNUMBER(F3),  100-F3, \"\")","v":0},null,null,{"$f":"(#REF!*60)+CEILING(#REF!, 1)","v":{"$error":"#REF!"}},{"$f":"IF(J3>0, J3-#REF!, 0)","v":{"$error":"#REF!"}},null,null,null,null,null,null,null,null,null,null,{"$f":"IF(((S3*3600)+(T3*60) + U3)>((O3*3600)+(P3*60)+Q3), IF(ISNUMBER(SUM(S3:U3)), IF(ISNUMBER(SUM(O3:Q3)), CEILING(((S3*3600)+(T3*60)+U3)-((O3*3600)+(P3*60)+Q3),1),0), 0), 0)","v":0},{"$f":"IF(V3>0, V3-#REF!, 0)","v":0},{"$f":"IF(W3<=0,0,W3*#REF!)","v":0},{"$f":"IF(W3<-15, -((W3+#REF!)*#REF!), 0)","v":0},null,null,null,null,null,null,"WD"]
[139,"Ballyduff Daithy","Andrew Winteron ","Berkeley",200,{"$f":"IF(ISTEXT(E4), \"\", IF(ISBLANK(E4), \"\",  E4/'[2]Reference sheet'!B$2*100))","v":100},{"$f":"IF(ISNUMBER(F4),  100-F4, \"\")","v":0},null,0,{"$f":"(#REF!*60)+CEILING(#REF!, 1)","v":{"$error":"#REF!"}},{"$f":"IF(J4>0, J4-#REF!, 0)","v":{"$error":"#REF!"}},0,null,40,null,null,null,null,null,null,null,{"$f":"IF(((S4*3600)+(T4*60) + U4)>((O4*3600)+(P4*60)+Q4), IF(ISNUMBER(SUM(S4:U4)), IF(ISNUMBER(SUM(O4:Q4)), CEILING(((S4*3600)+(T4*60)+U4)-((O4*3600)+(P4*60)+Q4),1),0), 0), 0)","v":0},{"$f":"IF(V4>0, V4-#REF!, 0)","v":0},{"$f":"IF(W4<=0,0,W4*#REF!)","v":0},{"$f":"IF(W4<-15, -((W4+#REF!)*#REF!), 0)","v":0},34.799999999999997,74.8,null,null,null,null,"4TH"]
[140,"Lumiere ","Penny Hall","VWH",200,{"$f":"IF(ISTEXT(E5), \"\", IF(ISBLANK(E5), \"\",  E5/'[2]Reference sheet'!B$2*100))","v":100},0,null,null,{"$f":"(#REF!*60)+CEILING(#REF!, 1)","v":{"$error":"#REF!"}},{"$f":"IF(J5>0, J5-#REF!, 0)","v":{"$error":"#REF!"}},null,null,null,null,null,null,null,null,null,null,null,null,null,null,null,null,null,null,null,null,"WD"]
[141,"Smartie Party ","Lottie Parkin ","Wessex Gold Shiraz ",200,{"$f":"IF(ISTEXT(E6), \"\", IF(ISBLANK(E6), \"\",  E6/'[2]Reference sheet'!B$2*100))","v":100},0,null,0,{"$f":"(#REF!*60)+CEILING(#REF!, 1)","v":{"$error":"#REF!"}},{"$f":"IF(J6>0, J6-#REF!, 0)","v":{"$error":"#REF!"}},0,null,"E",null,null,null,null,null,null,null,null,null,null,null,null,null,null,null,null,null,"E"]
[142,"Hinton Airground ","Sara Beamson","Cotswold Edge IND",200,{"$f":"IF(ISTEXT(E7), \"\", IF(ISBLANK(E7), \"\",  E7/'[2]Reference sheet'!B$2*100))","v":100},0,null,0,{"$f":"(#REF!*60)+CEILING(#REF!, 1)","v":{"$error":"#REF!"}},{"$f":"IF(J7>0, J7-#REF!, 0)","v":{"$error":"#REF!"}},0,null,0,null,null,null,null,null,null,null,null,null,null,null,43.6,43.6,null,null,null,null,"3RD"]
[143,"Glen Carter     ","Alexis Symes    ","Bath",200,{"$f":"IF(ISTEXT(E8), \"\", IF(ISBLANK(E8), \"\",  E8/'[2]Reference sheet'!B$2*100))","v":100},0,null,null,{"$f":"(#REF!*60)+CEILING(#REF!, 1)","v":{"$error":"#REF!"}},{"$f":"IF(J8>0, J8-#REF!, 0)","v":{"$error":"#REF!"}},null,null,null,null,null,null,null,null,null,null,null,null,null,null,null,null,null,null,null,null,"WD"]
[144,"Master Misprint ","Aimee Conlon","Berkeley",200,{"$f":"IF(ISTEXT(E9), \"\", IF(ISBLANK(E9), \"\",  E9/'[2]Reference sheet'!B$2*100))","v":100},0,null,null,{"$f":"(#REF!*60)+CEILING(#REF!, 1)","v":{"$error":"#REF!"}},{"$f":"IF(J9>0, J9-#REF!, 0)","v":{"$error":"#REF!"}},null,null,null,null,null,null,null,null,null,null,null,null,null,null,null,null,null,null,null,null,"WD"]
[145,"Soupcon D'Albain","Cass Riggs ","VWH",200,{"$f":"IF(ISTEXT(E10), \"\", IF(ISBLANK(E10), \"\",  E10/'[2]Reference sheet'!B$2*100))","v":100},0,null,null,{"$f":"(#REF!*60)+CEILING(#REF!, 1)","v":{"$error":"#REF!"}},{"$f":"IF(J10>0, J10-#REF!, 0)","v":{"$error":"#REF!"}},null,null,null,null,null,null,null,null,null,null,null,null,null,null,null,null,null,null,null,null,"WD"]
[146,"Mr Friend Jackson ","Hollie Cowley ","Wessex Gold Shiraz ",200,{"$f":"IF(ISTEXT(E11), \"\", IF(ISBLANK(E11), \"\",  E11/'[2]Reference sheet'!B$2*100))","v":100},0,null,null,{"$f":"(#REF!*60)+CEILING(#REF!, 1)","v":{"$error":"#REF!"}},{"$f":"IF(J11>0, J11-#REF!, 0)","v":{"$error":"#REF!"}},null,null,null,null,null,null,null,null,null,null,null,null,null,null,null,null,null,null,null,null,"WD"]
[147,"Securious Neuwmoed ","Jane Humphries","Kings Leaze IND",200,{"$f":"IF(ISTEXT(E12), \"\", IF(ISBLANK(E12), \"\",  E12/'[2]Reference sheet'!B$2*100))","v":100},0,null,null,{"$f":"(#REF!*60)+CEILING(#REF!, 1)","v":{"$error":"#REF!"}},{"$f":"IF(J12>0, J12-#REF!, 0)","v":{"$error":"#REF!"}},null,null,null,null,null,null,null,null,null,null,null,null,null,null,null,null,null,null,null,null,"WD"]
[148,"Quansboro Billy    ","Rebecca Neale    ","Bath",200,{"$f":"IF(ISTEXT(E13), \"\", IF(ISBLANK(E13), \"\",  E13/'[2]Reference sheet'!B$2*100))","v":100},0,null,0,{"$f":"(#REF!*60)+CEILING(#REF!, 1)","v":{"$error":"#REF!"}},{"$f":"IF(J13>0, J13-#REF!, 0)","v":{"$error":"#REF!"}},0,null,20,null,null,null,null,null,null,null,null,null,null,null,19.2,39.200000000000003,null,null,null,null,"2ND"]
[149,"Masque ","Shanice Walton ","Berkeley",200,{"$f":"IF(ISTEXT(E14), \"\", IF(ISBLANK(E14), \"\",  E14/'[2]Reference sheet'!B$2*100))","v":100},0,null,null,{"$f":"(#REF!*60)+CEILING(#REF!, 1)","v":{"$error":"#REF!"}},{"$f":"IF(J14>0, J14-#REF!, 0)","v":{"$error":"#REF!"}},null,null,null,null,null,null,null,null,null,null,null,null,null,null,null,null,null,null,null,null,"WD"]
[150,"Norton Harvestman","Rose Lambert ","VWH",200,{"$f":"IF(ISTEXT(E15), \"\", IF(ISBLANK(E15), \"\",  E15/'[2]Reference sheet'!B$2*100))","v":100},0,null,null,{"$f":"(#REF!*60)+CEILING(#REF!, 1)","v":{"$error":"#REF!"}},{"$f":"IF(J15>0, J15-#REF!, 0)","v":{"$error":"#REF!"}},null,null,null,null,null,null,null,null,null,null,null,null,null,null,null,null,null,null,null,null,"WD"]
[151,"Oaklands Seashell","Amy Smith ","Wessex Gold Shiraz ",200,{"$f":"IF(ISTEXT(E16), \"\", IF(ISBLANK(E16), \"\",  E16/'[2]Reference sheet'!B$2*100))","v":100},0,null,0,{"$f":"(#REF!*60)+CEILING(#REF!, 1)","v":{"$error":"#REF!"}},{"$f":"IF(J16>0, J16-#REF!, 0)","v":{"$error":"#REF!"}},0,null,0,null,null,null,null,null,null,null,null,null,null,null,22.8,22.8,null,null,null,null,"1ST"]
[152,"Sundew Golden Boy    ","Sally Gaden     ","Bath",200,{"$f":"IF(ISTEXT(E17), \"\", IF(ISBLANK(E17), \"\",  E17/'[2]Reference sheet'!B$2*100))","v":100},0,null,0,{"$f":"(#REF!*60)+CEILING(#REF!, 1)","v":{"$error":"#REF!"}},{"$f":"IF(J17>0, J17-#REF!, 0)","v":{"$error":"#REF!"}},0,null,60,null,null,null,null,null,null,null,null,null,null,null,43.2,103.2,null,null,null,null,"6TH"]
[153,"Fairyhill Woodend Admiral ","Genevieve Wilkes ","Berkeley",200,{"$f":"IF(ISTEXT(E18), \"\", IF(ISBLANK(E18), \"\",  E18/'[2]Reference sheet'!B$2*100))","v":100},0,null,0,{"$f":"(#REF!*60)+CEILING(#REF!, 1)","v":{"$error":"#REF!"}},{"$f":"IF(J18>0, J18-#REF!, 0)","v":{"$error":"#REF!"}},0,null,"TE",null,null,null,null,null,null,null,null,null,null,null,null,null,null,null,null,null,"TE"]
[154,"Curragh Larvana ","Annitta Engel ","VWH",200,{"$f":"IF(ISTEXT(E19), \"\", IF(ISBLANK(E19), \"\",  E19/'[2]Reference sheet'!B$2*100))","v":100},0,null,null,{"$f":"(#REF!*60)+CEILING(#REF!, 1)","v":{"$error":"#REF!"}},{"$f":"IF(J19>0, J19-#REF!, 0)","v":{"$error":"#REF!"}},null,null,null,null,null,null,null,null,null,null,null,null,null,null,null,null,null,null,null,null,"WD"]
[155,"Orion's Charlie Thunder ","Kathy Hancox ","Wessex Gold Shiraz ",200,{"$f":"IF(ISTEXT(E20), \"\", IF(ISBLANK(E20), \"\",  E20/'[2]Reference sheet'!B$2*100))","v":100},0,null,null,{"$f":"(#REF!*60)+CEILING(#REF!, 1)","v":{"$error":"#REF!"}},{"$f":"IF(J20>0, J20-#REF!, 0)","v":{"$error":"#REF!"}},null,null,null,null,null,null,null,null,null,null,null,null,null,null,null,null,null,null,null,null,"WD"]
[156,"Crosstown Shadow","Faye Dawes ","Cotswold Edge IND",200,{"$f":"IF(ISTEXT(E21), \"\", IF(ISBLANK(E21), \"\",  E21/'[2]Reference sheet'!B$2*100))","v":100},0,null,0,{"$f":"(#REF!*60)+CEILING(#REF!, 1)","v":{"$error":"#REF!"}},{"$f":"IF(J21>0, J21-#REF!, 0)","v":{"$error":"#REF!"}},0,null,20,null,null,null,null,null,null,null,null,null,null,null,60.08,80.08,null,null,null,null,"5TH"]
[157,"Cookworthy Heston","Pippa Taylor ","VWH IND",200,{"$f":"IF(ISTEXT(E22), \"\", IF(ISBLANK(E22), \"\",  E22/'[2]Reference sheet'!B$2*100))","v":100},0,null,null,{"$f":"(#REF!*60)+CEILING(#REF!, 1)","v":{"$error":"#REF!"}},{"$f":"IF(J22>0, J22-#REF!, 0)","v":{"$error":"#REF!"}},null,null,null,null,null,null,null,null,null,null,null,null,null,null,null,null,null,null,null,null,"WD"]
[158,"Wadswick Ben","Julian Minchin","Veteran Horse IND ",200,{"$f":"IF(ISTEXT(E23), \"\", IF(ISBLANK(E23), \"\",  E23/'[2]Reference sheet'!B$2*100))","v":100},0,null,null,{"$f":"(#REF!*60)+CEILING(#REF!, 1)","v":{"$error":"#REF!"}},{"$f":"IF(J23>0, J23-#REF!, 0)","v":{"$error":"#REF!"}},null,null,null,null,null,null,null,null,null,null,null,null,null,null,null,null,null,null,null,null,"WD"]
[null,null,null,null,null,{"$f":"IF(ISTEXT(E24), \"\", IF(ISBLANK(E24), \"\",  E24/'[2]Reference sheet'!B$2*100))","v":""},"",null,null,{"$f":"(#REF!*60)+CEILING(#REF!, 1)","v":{"$error":"#REF!"}},{"$f":"IF(J24>0, J24-#REF!, 0)","v":{"$error":"#REF!"}}]
[null,"JUNIORS",null,null,null,null,null,null,null,{"$f":"(#REF!*60)+CEILING(#REF!, 1)","v":{"$error":"#REF!"}},{"$f":"IF(J25>0, J25-#REF!, 0)","v":{"$error":"#REF!"}}]
[176,"Peek a Boo   ","Gemma Holdway    ","Bath IND",null,null,null,null,4,{"$f":"(#REF!*60)+CEILING(#REF!, 1)","v":{"$error":"#REF!"}},{"$f":"IF(J26>0, J26-#REF!, 0)","v":{"$error":"#REF!"}},0,null,0,null,null,null,null,null,null,null,null,null,null,null,4.47,8.4700000000000006,null,null,null,null,"1ST"]
[177,"Double Prince ","Chloe Sharpe ","Cotswold Edge IND",null,null,null,null,0,{"$f":"(#REF!*60)+CEILING(#REF!, 1)","v":{"$error":"#REF!"}},{"$f":"IF(J27>0, J27-#REF!, 0)","v":{"$error":"#REF!"}},0,null,"R",null,null,null,null,null,null,null,null,null,null,null,null,null,null,null,null,null,"R"]
[178,"Diamond ","Elena Marquez Espada ","Frampton IND",null,null,null,null,"WD",{"$f":"(#REF!*60)+CEILING(#REF!, 1)","v":{"$error":"#REF!"}},{"$f":"IF(J28>0, J28-#REF!, 0)","v":{"$error":"#REF!"}}]
[179,"Brynoer Midnight Express ","Ben Newman ","Wessex Gold IND",null,null,null,null,0,{"$f":"(#REF!*60)+CEILING(#REF!, 1)","v":{"$error":"#REF!"}},{"$f":"IF(J29>0, J29-#REF!, 0)","v":{"$error":"#REF!"}},0,null,"E"]
[180,"Lazy Acres Rainey Dancer","Jess Bateman","Cotswold Edge IND",null,null,null,null,4,{"$f":"(#REF!*60)+CEILING(#REF!, 1)","v":{"$error":"#REF!"}},{"$f":"IF(J30>0, J30-#REF!, 0)","v":{"$error":"#REF!"}},0,null,0,null,null,null,null,null,null,null,null,null,null,null,5.3,9.3000000000000007,null,null,null,null,"2ND"]
[null,null,null,null,null,null,null,null,null,{"$f":"(#REF!*60)+CEILING(#REF!, 1)","v":{"$error":"#REF!"}},{"$f":"IF(J31>0, J31-#REF!, 0)","v":{"$error":"#REF!"}}]
[null,null,null,null,null,null,null,null,null,{"$f":"(#REF!*60)+CEILING(#REF!, 1)","v":{"$error":"#REF!"}},{"$f":"IF(J32>0, J32-#REF!, 0)","v":{"$error":"#REF!"}}]
[null,null,null,null,null,null,null,null,null,{"$f":"(#REF!*60)+CEILING(#REF!, 1)","v":{"$error":"#REF!"}},{"$f":"IF(J33>0, J33-#REF!, 0)","v":{"$error":"#REF!"}}]
[null,null,null,null,null,null,null,null,null,{"$f":"(#REF!*60)+CEILING(#REF!, 1)","v":{"$error":"#REF!"}},{"$f":"IF(J34>0, J34-#REF!, 0)","v":{"$error":"#REF!"}}]
[null,null,null,null,null,null,null,null,null,{"$f":"(#REF!*60)+CEILING(#REF!, 1)","v":{"$error":"#REF!"}},{"$f":"IF(J35>0, J35-#REF!, 0)","v":{"$error":"#REF!"}}]
[null,null,null,null,null,null,null,null,null,{"$f":"(#REF!*60)+CEILING(#REF!, 1)","v":{"$error":"#REF!"}},{"$f":"IF(J36>0, J36-#REF!, 0)","v":{"$error":"#REF!"}}]
[null,null,null,null,null,null,null,null,null,{"$f":"(#REF!*60)+CEILING(#REF!, 1)","v":{"$error":"#REF!"}},{"$f":"IF(J37>0, J37-#REF!, 0)","v":{"$error":"#REF!"}}]
[null,null,null,null,null,null,null,null,null,{"$f":"(#REF!*60)+CEILING(#REF!, 1)","v":{"$error":"#REF!"}},{"$f":"IF(J38>0, J38-#REF!, 0)","v":{"$error":"#REF!"}}]
[null,null,null,null,null,null,null,null,null,{"$f":"(#REF!*60)+CEILING(#REF!, 1)","v":{"$error":"#REF!"}},{"$f":"IF(J39>0, J39-#REF!, 0)","v":{"$error":"#REF!"}}]
[null,null,null,null,null,null,null,null,null,{"$f":"(#REF!*60)+CEILING(#REF!, 1)","v":{"$error":"#REF!"}},{"$f":"IF(J40>0, J40-#REF!, 0)","v":{"$error":"#REF!"}}]
[null,null,null,null,null,null,null,null,null,{"$f":"(#REF!*60)+CEILING(#REF!, 1)","v":{"$error":"#REF!"}},{"$f":"IF(J41>0, J41-#REF!, 0)","v":{"$error":"#REF!"}}]
[null,null,null,null,null,null,null,null,null,{"$f":"(#REF!*60)+CEILING(#REF!, 1)","v":{"$error":"#REF!"}},{"$f":"IF(J42>0, J42-#REF!, 0)","v":{"$error":"#REF!"}}]
[null,null,null,null,null,null,null,null,null,{"$f":"(#REF!*60)+CEILING(#REF!, 1)","v":{"$error":"#REF!"}},{"$f":"IF(J43>0, J43-#REF!, 0)","v":{"$error":"#REF!"}}]
[null,null,null,null,null,null,null,null,null,{"$f":"(#REF!*60)+CEILING(#REF!, 1)","v":{"$error":"#REF!"}},{"$f":"IF(J44>0, J44-#REF!, 0)","v":{"$error":"#REF!"}}]
[null,null,null,null,null,null,null,null,null,{"$f":"(#REF!*60)+CEILING(#REF!, 1)","v":{"$error":"#REF!"}},{"$f":"IF(J45>0, J45-#REF!, 0)","v":{"$error":"#REF!"}}]
[null,null,null,null,null,null,null,null,null,{"$f":"(#REF!*60)+CEILING(#REF!, 1)","v":{"$error":"#REF!"}},{"$f":"IF(J46>0, J46-#REF!, 0)","v":{"$error":"#REF!"}}]
[null,null,null,null,null,null,null,null,null,{"$f":"(#REF!*60)+CEILING(#REF!, 1)","v":{"$error":"#REF!"}},{"$f":"IF(J47>0, J47-#REF!, 0)","v":{"$error":"#REF!"}}]
[null,null,null,null,null,null,null,null,null,{"$f":"(#REF!*60)+CEILING(#REF!, 1)","v":{"$error":"#REF!"}},{"$f":"IF(J48>0, J48-#REF!, 0)","v":{"$error":"#REF!"}}]
[null,null,null,null,null,null,null,null,null,{"$f":"(#REF!*60)+CEILING(#REF!, 1)","v":{"$error":"#REF!"}},{"$f":"IF(J49>0, J49-#REF!, 0)","v":{"$error":"#REF!"}}]
[null,null,null,null,null,null,null,null,null,{"$f":"(#REF!*60)+CEILING(#REF!, 1)","v":{"$error":"#REF!"}},{"$f":"IF(J50>0, J50-#REF!, 0)","v":{"$error":"#REF!"}}]
[null,null,null,null,null,null,null,null,null,{"$f":"(#REF!*60)+CEILING(#REF!, 1)","v":{"$error":"#REF!"}},{"$f":"IF(J51>0, J51-#REF!, 0)","v":{"$error":"#REF!"}}]
[null,null,null,null,null,null,null,null,null,{"$f":"(#REF!*60)+CEILING(#REF!, 1)","v":{"$error":"#REF!"}},{"$f":"IF(J52>0, J52-#REF!, 0)","v":{"$error":"#REF!"}}]
[null,null,null,null,null,null,null,null,null,{"$f":"(#REF!*60)+CEILING(#REF!, 1)","v":{"$error":"#REF!"}},{"$f":"IF(J53>0, J53-#REF!, 0)","v":{"$error":"#REF!"}}]
[null,null,null,null,null,null,null,null,null,{"$f":"(#REF!*60)+CEILING(#REF!, 1)","v":{"$error":"#REF!"}},{"$f":"IF(J54>0, J54-#REF!, 0)","v":{"$error":"#REF!"}}]
[null,null,null,null,null,null,null,null,null,{"$f":"(#REF!*60)+CEILING(#REF!, 1)","v":{"$error":"#REF!"}},{"$f":"IF(J55>0, J55-#REF!, 0)","v":{"$error":"#REF!"}}]
[null,null,null,null,null,null,null,null,null,{"$f":"(#REF!*60)+CEILING(#REF!, 1)","v":{"$error":"#REF!"}},{"$f":"IF(J56>0, J56-#REF!, 0)","v":{"$error":"#REF!"}}]
[null,null,null,null,null,null,null,null,null,{"$f":"(#REF!*60)+CEILING(#REF!, 1)","v":{"$error":"#REF!"}},{"$f":"IF(J57>0, J57-#REF!, 0)","v":{"$error":"#REF!"}}]
[null,null,null,null,null,null,null,null,null,{"$f":"(#REF!*60)+CEILING(#REF!, 1)","v":{"$error":"#REF!"}},{"$f":"IF(J58>0, J58-#REF!, 0)","v":{"$error":"#REF!"}}]

{"sheet":"jun sen 100","index":3,"n_rows":24,"n_cols":30,"rows_kept":24,"cut":false,"hidden":false,"merged":[]}
[null,null,null,null,"SJ Penalties","SJ Time  ","SJ time in seconds","Rider time - SJ allowed","SJ Time ","XC Penalties ","XC Start Time",null,null,null,"XC Finish Time",null,null,"XC Time",null,"XC time in seconds","Rider time - XC allowed","Penalties over","Penalties Under","XC Time ","Total Penalties ","Remove Text","Scale1","Scale2","Scale3"," Position "]
[null,null,null,null,null,null,null,null,"Penalties",null,"hour",":min",":sec.ms",null,"hour",":min",":sec.ms","min",":sec",null,null,null,null,"Penalties"]
[194,"Just for Now ","Aimee Conlon","Berkely IND",null,null,{"$f":"(F3*60)+CEILING(#REF!, 1)","v":{"$error":"#REF!"}},{"$f":"IF(G3>0, G3-#REF!, 0)","v":{"$error":"#REF!"}},null,null,null,null,null,null,null,null,null,{"$f":"IF(T3>59,FLOOR(T3/60,1),IF(T3>0,0,\"\"))","v":""},{"$f":"IF(T3>0,MOD(T3,60),\"\")","v":""},{"$f":"IF(((O3*3600)+(P3*60) + Q3)>((K3*3600)+(L3*60)+M3), IF(ISNUMBER(SUM(O3:Q3)), IF(ISNUMBER(SUM(K3:M3)), CEILING(((O3*3600)+(P3*60)+Q3)-((K3*3600)+(L3*60)+M3),1),0), 0), 0)","v":0},{"$f":"IF(T3>0, T3-#REF!, 0)","v":0},{"$f":"IF(U3<=0,0,U3*#REF!)","v":0},{"$f":"IF(U3<-15, -((U3+#REF!)*#REF!), 0)","v":0},null,{"$f":"IF(ISTEXT(A3),T(A3),IF(ISTEXT(E3),T(E3),IF(ISTEXT(J3),T(J3),IF(NOT(ISBLANK(A3)),SUM(C3,E3,I3,J3,X3),\"\"))))","v":0},{"$f":"IF(TYPE(Y3) = 1, Y3, \"\")","v":0},{"$f":"IF(Z3=\"\",\"\",(Z3*10000+(J3+SUM(V3:W3))))","v":0},{"$f":"IF(TYPE(AA3) = 2, \"\",(AA3*10000+(ABS(U3))))","v":0},{"$f":"IF(AB3=\"\",\"\",(AB3*10000+C3))","v":{"$error":"#VALUE!"}},{"$f":"IF(ISTEXT(Y3),T(Y3),IF(NOT(ISBLANK(A3)),RANK(AC3,AC$3:AC$500, 1),0))","v":{"$error":"#VALUE!"}}]
[195,"Lady Lily Grey    ","Gemma Holdway    ","Bath",null,null,{"$f":"(F4*60)+CEILING(#REF!, 1)","v":{"$error":"#REF!"}},{"$f":"IF(G4>0, G4-#REF!, 0)","v":{"$error":"#REF!"}},{"$f":"IF(H4<0, 0, IF(G4 = 0, \"\", H4*#REF!))","v":{"$error":"#REF!"}},null,null,null,null,null,null,null,null,{"$f":"IF(T4>59,FLOOR(T4/60,1),IF(T4>0,0,\"\"))","v":""},{"$f":"IF(T4>0,MOD(T4,60),\"\")","v":""},0,{"$f":"IF(T4>0, T4-#REF!, 0)","v":0},{"$f":"IF(U4<=0,0,U4*#REF!)","v":0},{"$f":"IF(U4<-15, -((U4+#REF!)*#REF!), 0)","v":0},{"$f":"IF(T4>0,SUM(V4:W4),\"\")","v":""},{"$error":"#REF!"},{"$f":"IF(TYPE(Y4) = 1, Y4, \"\")","v":""},"",{"$f":"IF(TYPE(AA4) = 2, \"\",(AA4*10000+(ABS(U4))))","v":""},"",{"$error":"#VALUE!"}]
[196,"Coup De Lyon","Zoe Andrews ","VWH IND",null,null,{"$f":"(F5*60)+CEILING(#REF!, 1)","v":{"$error":"#REF!"}},{"$f":"IF(G5>0, G5-#REF!, 0)","v":{"$error":"#REF!"}},{"$f":"IF(H5<0, 0, IF(G5 = 0, \"\", H5*#REF!))","v":{"$error":"#REF!"}},null,null,null,null,null,null,null,null,"","",0,{"$f":"IF(T5>0, T5-#REF!, 0)","v":0},{"$f":"IF(U5<=0,0,U5*#REF!)","v":0},{"$f":"IF(U5<-15, -((U5+#REF!)*#REF!), 0)","v":0},"",{"$error":"#REF!"},"","","","",{"$error":"#VALUE!"}]
[197,"Hindoctro","Amanda Taylor     ","Bath",null,null,{"$f":"(F6*60)+CEILING(#REF!, 1)","v":{"$error":"#REF!"}},{"$f":"IF(G6>0, G6-#REF!, 0)","v":{"$error":"#REF!"}},{"$f":"IF(H6<0, 0, IF(G6 = 0, \"\", H6*#REF!))","v":{"$error":"#REF!"}},null,null,null,null,null,null,null,null,"","",0,{"$f":"IF(T6>0, T6-#REF!, 0)","v":0},{"$f":"IF(U6<=0,0,U6*#REF!)","v":0},{"$f":"IF(U6<-15, -((U6+#REF!)*#REF!), 0)","v":0},"",{"$error":"#REF!"},"","","","",{"$error":"#VALUE!"}]
[198,"Quarme Affaere  ","Becky Ormond   ","Kennet Vale IND ",null,null,{"$f":"(F7*60)+CEILING(#REF!, 1)","v":{"$error":"#REF!"}},{"$f":"IF(G7>0, G7-#REF!, 0)","v":{"$error":"#REF!"}},{"$f":"IF(H7<0, 0, IF(G7 = 0, \"\", H7*#REF!))","v":{"$error":"#REF!"}},null,null,null,null,0,null,null,null,"","",0,{"$f":"IF(T7>0, T7-#REF!, 0)","v":0},{"$f":"IF(U7<=0,0,U7*#REF!)","v":0},{"$f":"IF(U7<-15, -((U7+#REF!)*#REF!), 0)","v":0},"",{"$error":"#REF!"},"","","","",{"$error":"#VALUE!"}]
[199,"Rosnagad boy","Olivia Vanpuyenbroek     ","Bath",null,null,{"$f":"(F8*60)+CEILING(#REF!, 1)","v":{"$error":"#REF!"}},{"$f":"IF(G8>0, G8-#REF!, 0)","v":{"$error":"#REF!"}},{"$f":"IF(H8<0, 0, IF(G8 = 0, \"\", H8*#REF!))","v":{"$error":"#REF!"}},null,null,null,null,null,null,null,null,"","",0,{"$f":"IF(T8>0, T8-#REF!, 0)","v":0},{"$f":"IF(U8<=0,0,U8*#REF!)","v":0},{"$f":"IF(U8<-15, -((U8+#REF!)*#REF!), 0)","v":0},"",{"$error":"#REF!"},"","","","",{"$error":"#VALUE!"}]
[200,"Silk Suds    ","Jill Holt     ","Bath",null,null,{"$f":"(F9*60)+CEILING(#REF!, 1)","v":{"$error":"#REF!"}},{"$f":"IF(G9>0, G9-#REF!, 0)","v":{"$error":"#REF!"}},{"$f":"IF(H9<0, 0, IF(G9 = 0, \"\", H9*#REF!))","v":{"$error":"#REF!"}},null,null,null,null,null,null,null,null,"","",0,{"$f":"IF(T9>0, T9-#REF!, 0)","v":0},{"$f":"IF(U9<=0,0,U9*#REF!)","v":0},{"$f":"IF(U9<-15, -((U9+#REF!)*#REF!), 0)","v":0},"",{"$error":"#REF!"},"","","","",{"$error":"#VALUE!"}]
[null,null,null,null,null,null,{"$f":"(F10*60)+CEILING(#REF!, 1)","v":{"$error":"#REF!"}},{"$f":"IF(G10>0, G10-#REF!, 0)","v":{"$error":"#REF!"}},{"$f":"IF(H10<0, 0, IF(G10 = 0, \"\", H10*#REF!))","v":{"$error":"#REF!"}},null,null,null,null,null,null,null,null,"","",0,{"$f":"IF(T10>0, T10-#REF!, 0)","v":0},{"$f":"IF(U10<=0,0,U10*#REF!)","v":0},{"$f":"IF(U10<-15, -((U10+#REF!)*#REF!), 0)","v":0},"","","","","","",""]
["JUNIORS",null,null,null,null,null,{"$f":"(F11*60)+CEILING(#REF!, 1)","v":{"$error":"#REF!"}},{"$f":"IF(G11>0, G11-#REF!, 0)","v":{"$error":"#REF!"}},null,null,null,null,null,null,null,null,null,"","",0,{"$f":"IF(T11>0, T11-#REF!, 0)","v":0},{"$f":"IF(U11<=0,0,U11*#REF!)","v":0},{"$f":"IF(U11<-15, -((U11+#REF!)*#REF!), 0)","v":0},null,null,0,0,0,0,{"$error":"#VALUE!"}]
[188,"Utahs Pearl","Millie Guy ","Frampton IND",null,null,{"$f":"(F12*60)+CEILING(#REF!, 1)","v":{"$error":"#REF!"}},{"$f":"IF(G12>0, G12-#REF!, 0)","v":{"$error":"#REF!"}},{"$f":"IF(H12<0, 0, IF(G12 = 0, \"\", H12*#REF!))","v":{"$error":"#REF!"}},null,null,null,null,null,null,null,null,"","",0,{"$f":"IF(T12>0, T12-#REF!, 0)","v":0},{"$f":"IF(U12<=0,0,U12*#REF!)","v":0},{"$f":"IF(U12<-15, -((U12+#REF!)*#REF!), 0)","v":0},"",{"$f":"IF(ISTEXT(A12),T(A12),IF(ISTEXT(E12),T(E12),IF(ISTEXT(J12),T(J12),IF(NOT(ISBLANK(A12)),SUM(C12,E12,I12,J12,X12),\"\"))))","v":{"$error":"#REF!"}},"","","","",{"$error":"#VALUE!"}]
[189,"Mighty Max   ","Olivia Patterson","Kennet Vale IND",null,null,{"$f":"(F13*60)+CEILING(#REF!, 1)","v":{"$error":"#REF!"}},{"$f":"IF(G13>0, G13-#REF!, 0)","v":{"$error":"#REF!"}},{"$f":"IF(H13<0, 0, IF(G13 = 0, \"\", H13*#REF!))","v":{"$error":"#REF!"}},null,null,null,null,null,null,null,null,"","",0,{"$f":"IF(T13>0, T13-#REF!, 0)","v":0},{"$f":"IF(U13<=0,0,U13*#REF!)","v":0},{"$f":"IF(U13<-15, -((U13+#REF!)*#REF!), 0)","v":0},"",{"$error":"#REF!"},"","","","",{"$error":"#VALUE!"}]
[null,null,null,null,null,null,{"$f":"(F14*60)+CEILING(#REF!, 1)","v":{"$error":"#REF!"}},{"$f":"IF(G14>0, G14-#REF!, 0)","v":{"$error":"#REF!"}},{"$f":"IF(H14<0, 0, IF(G14 = 0, \"\", H14*#REF!))","v":{"$error":"#REF!"}},null,null,null,null,null,null,null,null,"","",0,{"$f":"IF(T14>0, T14-#REF!, 0)","v":0},{"$f":"IF(U14<=0,0,U14*#REF!)","v":0},{"$f":"IF(U14<-15, -((U14+#REF!)*#REF!), 0)","v":0},"","","","","","",""]
[null,null,null,null,null,null,{"$f":"(F15*60)+CEILING(#REF!, 1)","v":{"$error":"#REF!"}},{"$f":"IF(G15>0, G15-#REF!, 0)","v":{"$error":"#REF!"}},{"$f":"IF(H15<0, 0, IF(G15 = 0, \"\", H15*#REF!))","v":{"$error":"#REF!"}},null,null,null,null,null,null,null,null,"","",0,{"$f":"IF(T15>0, T15-#REF!, 0)","v":0},{"$f":"IF(U15<=0,0,U15*#REF!)","v":0},{"$f":"IF(U15<-15, -((U15+#REF!)*#REF!), 0)","v":0},"","","","","","",""]
[null,null,null,null,null,null,{"$f":"(F16*60)+CEILING(#REF!, 1)","v":{"$error":"#REF!"}},{"$f":"IF(G16>0, G16-#REF!, 0)","v":{"$error":"#REF!"}},{"$f":"IF(H16<0, 0, IF(G16 = 0, \"\", H16*#REF!))","v":{"$error":"#REF!"}},null,null,null,null,null,null,null,null,"","",0,{"$f":"IF(T16>0, T16-#REF!, 0)","v":0},{"$f":"IF(U16<=0,0,U16*#REF!)","v":0},{"$f":"IF(U16<-15, -((U16+#REF!)*#REF!), 0)","v":0},"","","","","","",""]
[null,null,null,null,null,null,{"$f":"(F17*60)+CEILING(#REF!, 1)","v":{"$error":"#REF!"}},{"$f":"IF(G17>0, G17-#REF!, 0)","v":{"$error":"#REF!"}},{"$f":"IF(H17<0, 0, IF(G17 = 0, \"\", H17*#REF!))","v":{"$error":"#REF!"}},null,null,null,null,null,null,null,null,"","",0,{"$f":"IF(T17>0, T17-#REF!, 0)","v":0},{"$f":"IF(U17<=0,0,U17*#REF!)","v":0},{"$f":"IF(U17<-15, -((U17+#REF!)*#REF!), 0)","v":0},"","","","","","",""]
[null,null,null,null,null,null,{"$f":"(F18*60)+CEILING(#REF!, 1)","v":{"$error":"#REF!"}},{"$f":"IF(G18>0, G18-#REF!, 0)","v":{"$error":"#REF!"}},{"$f":"IF(H18<0, 0, IF(G18 = 0, \"\", H18*#REF!))","v":{"$error":"#REF!"}},null,null,null,null,null,null,null,null,"","",0,{"$f":"IF(T18>0, T18-#REF!, 0)","v":0},{"$f":"IF(U18<=0,0,U18*#REF!)","v":0},{"$f":"IF(U18<-15, -((U18+#REF!)*#REF!), 0)","v":0},"","","","","","",""]
[null,null,null,null,null,null,{"$f":"(F19*60)+CEILING(#REF!, 1)","v":{"$error":"#REF!"}},{"$f":"IF(G19>0, G19-#REF!, 0)","v":{"$error":"#REF!"}},{"$f":"IF(H19<0, 0, IF(G19 = 0, \"\", H19*#REF!))","v":{"$error":"#REF!"}},null,null,null,null,null,null,null,null,"","",0,{"$f":"IF(T19>0, T19-#REF!, 0)","v":0},{"$f":"IF(U19<=0,0,U19*#REF!)","v":0},{"$f":"IF(U19<-15, -((U19+#REF!)*#REF!), 0)","v":0},"","","","","","",""]
[null,null,null,null,null,null,{"$f":"(F20*60)+CEILING(#REF!, 1)","v":{"$error":"#REF!"}},{"$f":"IF(G20>0, G20-#REF!, 0)","v":{"$error":"#REF!"}},{"$f":"IF(H20<0, 0, IF(G20 = 0, \"\", H20*#REF!))","v":{"$error":"#REF!"}},null,null,null,null,null,null,null,null,"","",0,{"$f":"IF(T20>0, T20-#REF!, 0)","v":0},{"$f":"IF(U20<=0,0,U20*#REF!)","v":0},{"$f":"IF(U20<-15, -((U20+#REF!)*#REF!), 0)","v":0},"","","","","","",""]
[null,null,null,null,null,null,{"$f":"(F21*60)+CEILING(#REF!, 1)","v":{"$error":"#REF!"}},{"$f":"IF(G21>0, G21-#REF!, 0)","v":{"$error":"#REF!"}},{"$f":"IF(H21<0, 0, IF(G21 = 0, \"\", H21*#REF!))","v":{"$error":"#REF!"}},null,null,null,null,null,null,null,null,"","",0,{"$f":"IF(T21>0, T21-#REF!, 0)","v":0},{"$f":"IF(U21<=0,0,U21*#REF!)","v":0},{"$f":"IF(U21<-15, -((U21+#REF!)*#REF!), 0)","v":0},"","","","","","",""]
[null,null,null,null,null,null,{"$f":"(F22*60)+CEILING(#REF!, 1)","v":{"$error":"#REF!"}},{"$f":"IF(G22>0, G22-#REF!, 0)","v":{"$error":"#REF!"}},{"$f":"IF(H22<0, 0, IF(G22 = 0, \"\", H22*#REF!))","v":{"$error":"#REF!"}},null,null,null,null,null,null,null,null,"","",0,{"$f":"IF(T22>0, T22-#REF!, 0)","v":0},{"$f":"IF(U22<=0,0,U22*#REF!)","v":0},{"$f":"IF(U22<-15, -((U22+#REF!)*#REF!), 0)","v":0},"","","","","","",""]
[null,null,null,null,null,null,{"$f":"(F23*60)+CEILING(#REF!, 1)","v":{"$error":"#REF!"}},{"$f":"IF(G23>0, G23-#REF!, 0)","v":{"$error":"#REF!"}},{"$f":"IF(H23<0, 0, IF(G23 = 0, \"\", H23*#REF!))","v":{"$error":"#REF!"}},null,null,null,null,null,null,null,null,"","",0,{"$f":"IF(T23>0, T23-#REF!, 0)","v":0},{"$f":"IF(U23<=0,0,U23*#REF!)","v":0},{"$f":"IF(U23<-15, -((U23+#REF!)*#REF!), 0)","v":0},"","","","","","",""]
[null,null,null,null,null,null,{"$f":"(F24*60)+CEILING(#REF!, 1)","v":{"$error":"#REF!"}},{"$f":"IF(G24>0, G24-#REF!, 0)","v":{"$error":"#REF!"}},{"$f":"IF(H24<0, 0, IF(G24 = 0, \"\", H24*#REF!))","v":{"$error":"#REF!"}},null,null,null,null,null,null,null,null,"","",0,{"$f":"IF(T24>0, T24-#REF!, 0)","v":0},{"$f":"IF(U24<=0,0,U24*#REF!)","v":0},{"$f":"IF(U24<-15, -((U24+#REF!)*#REF!), 0)","v":0},"","","","","","",""]